BEGIN:VCALENDAR
VERSION:2.0
PRODID:-//Landesgartenschau 2026 in Leinefelde-Worbis - ECPv6.15.20//NONSGML v1.0//EN
CALSCALE:GREGORIAN
METHOD:PUBLISH
X-WR-CALNAME:Landesgartenschau 2026 in Leinefelde-Worbis
X-ORIGINAL-URL:https://www.lgs-leinefelde-worbis.de
X-WR-CALDESC:Veranstaltungen für Landesgartenschau 2026 in Leinefelde-Worbis
REFRESH-INTERVAL;VALUE=DURATION:PT1H
X-Robots-Tag:noindex
X-PUBLISHED-TTL:PT1H
BEGIN:VTIMEZONE
TZID:Europe/Berlin
BEGIN:DAYLIGHT
TZOFFSETFROM:+0100
TZOFFSETTO:+0200
TZNAME:CEST
DTSTART:20250330T010000
END:DAYLIGHT
BEGIN:STANDARD
TZOFFSETFROM:+0200
TZOFFSETTO:+0100
TZNAME:CET
DTSTART:20251026T010000
END:STANDARD
BEGIN:DAYLIGHT
TZOFFSETFROM:+0100
TZOFFSETTO:+0200
TZNAME:CEST
DTSTART:20260329T010000
END:DAYLIGHT
BEGIN:STANDARD
TZOFFSETFROM:+0200
TZOFFSETTO:+0100
TZNAME:CET
DTSTART:20261025T010000
END:STANDARD
BEGIN:DAYLIGHT
TZOFFSETFROM:+0100
TZOFFSETTO:+0200
TZNAME:CEST
DTSTART:20270328T010000
END:DAYLIGHT
BEGIN:STANDARD
TZOFFSETFROM:+0200
TZOFFSETTO:+0100
TZNAME:CET
DTSTART:20271031T010000
END:STANDARD
END:VTIMEZONE
BEGIN:VEVENT
DTSTART;TZID=Europe/Berlin:20260617T103000
DTEND;TZID=Europe/Berlin:20260617T120000
DTSTAMP:20260421T013523
CREATED:20260208T152709Z
LAST-MODIFIED:20260208T152710Z
UID:10003653-1781692200-1781697600@www.lgs-leinefelde-worbis.de
SUMMARY:Grünes Klassenzimmer: Plastik ist überall\, aber kennst du den Unterschied?
DESCRIPTION:buchbares Kursangebot für Kindergartengruppen und Schulklassen \n\n\n\nPartner: Stiftung für Technologie\, Innovation und Forschung Thüringen (STIFT) \n\n\n\nIn diesem Workshop werden verschiedene Kunststoffe erkannt\, ihre Dichte getestet und die Herstellungsweise erläutert. Mit spannenden Experimenten zur Polymerisation erfolgt ein praxisnaher Einblick in die Welt der Kunststoffe – Wissenschaft zum Anfassen! \n\n\n\nZur Buchung: https://www.lgs-leinefelde-worbis.de/veranstaltungen-uebersicht/gruenes-klassenzimmer/buchung/#/
URL:https://www.lgs-leinefelde-worbis.de/veranstaltung/gruenes-klassenzimmer-plastik-ist-ueberall-aber-kennst-du-den-unterschied/2026-06-17/1/
CATEGORIES:Grünes Klassenzimmer
ATTACH;FMTTYPE=image/jpeg:https://www.lgs-leinefelde-worbis.de/wp-content/uploads/2026/02/Plastik-ist-ueberall-aber-kennst-du-den-Unterschied_MINT-e1770564417954.jpeg
END:VEVENT
BEGIN:VEVENT
DTSTART;TZID=Europe/Berlin:20260617T130000
DTEND;TZID=Europe/Berlin:20260617T143000
DTSTAMP:20260421T013523
CREATED:20260208T152709Z
LAST-MODIFIED:20260208T152710Z
UID:10003654-1781701200-1781706600@www.lgs-leinefelde-worbis.de
SUMMARY:Grünes Klassenzimmer: Plastik ist überall\, aber kennst du den Unterschied?
DESCRIPTION:buchbares Kursangebot für Kindergartengruppen und Schulklassen \n\n\n\nPartner: Stiftung für Technologie\, Innovation und Forschung Thüringen (STIFT) \n\n\n\nIn diesem Workshop werden verschiedene Kunststoffe erkannt\, ihre Dichte getestet und die Herstellungsweise erläutert. Mit spannenden Experimenten zur Polymerisation erfolgt ein praxisnaher Einblick in die Welt der Kunststoffe – Wissenschaft zum Anfassen! \n\n\n\nZur Buchung: https://www.lgs-leinefelde-worbis.de/veranstaltungen-uebersicht/gruenes-klassenzimmer/buchung/#/
URL:https://www.lgs-leinefelde-worbis.de/veranstaltung/gruenes-klassenzimmer-plastik-ist-ueberall-aber-kennst-du-den-unterschied/2026-06-17/2/
CATEGORIES:Grünes Klassenzimmer
ATTACH;FMTTYPE=image/jpeg:https://www.lgs-leinefelde-worbis.de/wp-content/uploads/2026/02/Plastik-ist-ueberall-aber-kennst-du-den-Unterschied_MINT-e1770564417954.jpeg
END:VEVENT
END:VCALENDAR