BEGIN:VCALENDAR
VERSION:2.0
PRODID:-//Landesgartenschau 2026 in Leinefelde-Worbis - ECPv6.15.20//NONSGML v1.0//EN
CALSCALE:GREGORIAN
METHOD:PUBLISH
X-WR-CALNAME:Landesgartenschau 2026 in Leinefelde-Worbis
X-ORIGINAL-URL:https://www.lgs-leinefelde-worbis.de
X-WR-CALDESC:Veranstaltungen für Landesgartenschau 2026 in Leinefelde-Worbis
REFRESH-INTERVAL;VALUE=DURATION:PT1H
X-Robots-Tag:noindex
X-PUBLISHED-TTL:PT1H
BEGIN:VTIMEZONE
TZID:Europe/Berlin
BEGIN:DAYLIGHT
TZOFFSETFROM:+0100
TZOFFSETTO:+0200
TZNAME:CEST
DTSTART:20250330T010000
END:DAYLIGHT
BEGIN:STANDARD
TZOFFSETFROM:+0200
TZOFFSETTO:+0100
TZNAME:CET
DTSTART:20251026T010000
END:STANDARD
BEGIN:DAYLIGHT
TZOFFSETFROM:+0100
TZOFFSETTO:+0200
TZNAME:CEST
DTSTART:20260329T010000
END:DAYLIGHT
BEGIN:STANDARD
TZOFFSETFROM:+0200
TZOFFSETTO:+0100
TZNAME:CET
DTSTART:20261025T010000
END:STANDARD
BEGIN:DAYLIGHT
TZOFFSETFROM:+0100
TZOFFSETTO:+0200
TZNAME:CEST
DTSTART:20270328T010000
END:DAYLIGHT
BEGIN:STANDARD
TZOFFSETFROM:+0200
TZOFFSETTO:+0100
TZNAME:CET
DTSTART:20271031T010000
END:STANDARD
END:VTIMEZONE
BEGIN:VEVENT
DTSTART;TZID=Europe/Berlin:20260706T100000
DTEND;TZID=Europe/Berlin:20260706T150000
DTSTAMP:20260426T050553
CREATED:20260323T163846Z
LAST-MODIFIED:20260323T164227Z
UID:10004004-1783332000-1783350000@www.lgs-leinefelde-worbis.de
SUMMARY:Botanica in Originali & nachhaltige Substrate entdecken
DESCRIPTION:Am Montag\, 6. Juli 2026\, von 10.00 bis 15.00 Uhr stehen gleich zwei kreative und informative Angebote auf dem Programm. Unter dem Titel „Botanica in Originali: Pflanzendruck wie zu Reicharts Zeiten“ entstehen mit Blüten und Blättern individuelle Drucke auf Papier und Stoff. Pflanzen werden dabei zu natürlichen Druckvorlagen und hinterlassen durch verschiedene Techniken einzigartige Spuren. Ergänzend lädt ein Wimmelbild zum Ausmalen zum Mitmachen ein. \n\n\n\nIm zweiten Teil „Aus der Erde – für die Erde“ dreht sich alles um Substrate und ihre Möglichkeiten für Pflanzenwachstum und -zucht. Vorgestellt werden unterschiedliche Materialien sowie eine DIY-Anleitung zur Herstellung kompostierbarer Pflanzentöpfchen. \n\n\n\nDie Veranstaltung findet im Themengarten „Grünes Herz – Der Garten Thüringens“\, im Pavillon „Gärtnertreff Thüringen“ statt. Zuständig ist das Deutsche Gartenbaumuseum.
URL:https://www.lgs-leinefelde-worbis.de/veranstaltung/botanica-in-originali-nachhaltige-substrate-entdecken/2026-07-06/
CATEGORIES:Themengarten "Grünes Herz"
ATTACH;FMTTYPE=image/jpeg:https://www.lgs-leinefelde-worbis.de/wp-content/uploads/2026/03/green-e1774283913584.jpeg
END:VEVENT
BEGIN:VEVENT
DTSTART;TZID=Europe/Berlin:20260707T100000
DTEND;TZID=Europe/Berlin:20260707T150000
DTSTAMP:20260426T050553
CREATED:20260323T163846Z
LAST-MODIFIED:20260323T164227Z
UID:10004005-1783418400-1783436400@www.lgs-leinefelde-worbis.de
SUMMARY:Botanica in Originali & nachhaltige Substrate entdecken
DESCRIPTION:Am Montag\, 6. Juli 2026\, von 10.00 bis 15.00 Uhr stehen gleich zwei kreative und informative Angebote auf dem Programm. Unter dem Titel „Botanica in Originali: Pflanzendruck wie zu Reicharts Zeiten“ entstehen mit Blüten und Blättern individuelle Drucke auf Papier und Stoff. Pflanzen werden dabei zu natürlichen Druckvorlagen und hinterlassen durch verschiedene Techniken einzigartige Spuren. Ergänzend lädt ein Wimmelbild zum Ausmalen zum Mitmachen ein. \n\n\n\nIm zweiten Teil „Aus der Erde – für die Erde“ dreht sich alles um Substrate und ihre Möglichkeiten für Pflanzenwachstum und -zucht. Vorgestellt werden unterschiedliche Materialien sowie eine DIY-Anleitung zur Herstellung kompostierbarer Pflanzentöpfchen. \n\n\n\nDie Veranstaltung findet im Themengarten „Grünes Herz – Der Garten Thüringens“\, im Pavillon „Gärtnertreff Thüringen“ statt. Zuständig ist das Deutsche Gartenbaumuseum.
URL:https://www.lgs-leinefelde-worbis.de/veranstaltung/botanica-in-originali-nachhaltige-substrate-entdecken/2026-07-07/
CATEGORIES:Themengarten "Grünes Herz"
ATTACH;FMTTYPE=image/jpeg:https://www.lgs-leinefelde-worbis.de/wp-content/uploads/2026/03/green-e1774283913584.jpeg
END:VEVENT
BEGIN:VEVENT
DTSTART;TZID=Europe/Berlin:20260708T100000
DTEND;TZID=Europe/Berlin:20260708T150000
DTSTAMP:20260426T050553
CREATED:20260323T163846Z
LAST-MODIFIED:20260323T164227Z
UID:10004006-1783504800-1783522800@www.lgs-leinefelde-worbis.de
SUMMARY:Botanica in Originali & nachhaltige Substrate entdecken
DESCRIPTION:Am Montag\, 6. Juli 2026\, von 10.00 bis 15.00 Uhr stehen gleich zwei kreative und informative Angebote auf dem Programm. Unter dem Titel „Botanica in Originali: Pflanzendruck wie zu Reicharts Zeiten“ entstehen mit Blüten und Blättern individuelle Drucke auf Papier und Stoff. Pflanzen werden dabei zu natürlichen Druckvorlagen und hinterlassen durch verschiedene Techniken einzigartige Spuren. Ergänzend lädt ein Wimmelbild zum Ausmalen zum Mitmachen ein. \n\n\n\nIm zweiten Teil „Aus der Erde – für die Erde“ dreht sich alles um Substrate und ihre Möglichkeiten für Pflanzenwachstum und -zucht. Vorgestellt werden unterschiedliche Materialien sowie eine DIY-Anleitung zur Herstellung kompostierbarer Pflanzentöpfchen. \n\n\n\nDie Veranstaltung findet im Themengarten „Grünes Herz – Der Garten Thüringens“\, im Pavillon „Gärtnertreff Thüringen“ statt. Zuständig ist das Deutsche Gartenbaumuseum.
URL:https://www.lgs-leinefelde-worbis.de/veranstaltung/botanica-in-originali-nachhaltige-substrate-entdecken/2026-07-08/
CATEGORIES:Themengarten "Grünes Herz"
ATTACH;FMTTYPE=image/jpeg:https://www.lgs-leinefelde-worbis.de/wp-content/uploads/2026/03/green-e1774283913584.jpeg
END:VEVENT
BEGIN:VEVENT
DTSTART;TZID=Europe/Berlin:20260709T100000
DTEND;TZID=Europe/Berlin:20260709T150000
DTSTAMP:20260426T050553
CREATED:20260323T163846Z
LAST-MODIFIED:20260323T164227Z
UID:10004007-1783591200-1783609200@www.lgs-leinefelde-worbis.de
SUMMARY:Botanica in Originali & nachhaltige Substrate entdecken
DESCRIPTION:Am Montag\, 6. Juli 2026\, von 10.00 bis 15.00 Uhr stehen gleich zwei kreative und informative Angebote auf dem Programm. Unter dem Titel „Botanica in Originali: Pflanzendruck wie zu Reicharts Zeiten“ entstehen mit Blüten und Blättern individuelle Drucke auf Papier und Stoff. Pflanzen werden dabei zu natürlichen Druckvorlagen und hinterlassen durch verschiedene Techniken einzigartige Spuren. Ergänzend lädt ein Wimmelbild zum Ausmalen zum Mitmachen ein. \n\n\n\nIm zweiten Teil „Aus der Erde – für die Erde“ dreht sich alles um Substrate und ihre Möglichkeiten für Pflanzenwachstum und -zucht. Vorgestellt werden unterschiedliche Materialien sowie eine DIY-Anleitung zur Herstellung kompostierbarer Pflanzentöpfchen. \n\n\n\nDie Veranstaltung findet im Themengarten „Grünes Herz – Der Garten Thüringens“\, im Pavillon „Gärtnertreff Thüringen“ statt. Zuständig ist das Deutsche Gartenbaumuseum.
URL:https://www.lgs-leinefelde-worbis.de/veranstaltung/botanica-in-originali-nachhaltige-substrate-entdecken/2026-07-09/
CATEGORIES:Themengarten "Grünes Herz"
ATTACH;FMTTYPE=image/jpeg:https://www.lgs-leinefelde-worbis.de/wp-content/uploads/2026/03/green-e1774283913584.jpeg
END:VEVENT
BEGIN:VEVENT
DTSTART;TZID=Europe/Berlin:20260710T100000
DTEND;TZID=Europe/Berlin:20260710T150000
DTSTAMP:20260426T050553
CREATED:20260323T163846Z
LAST-MODIFIED:20260323T164227Z
UID:10004008-1783677600-1783695600@www.lgs-leinefelde-worbis.de
SUMMARY:Botanica in Originali & nachhaltige Substrate entdecken
DESCRIPTION:Am Montag\, 6. Juli 2026\, von 10.00 bis 15.00 Uhr stehen gleich zwei kreative und informative Angebote auf dem Programm. Unter dem Titel „Botanica in Originali: Pflanzendruck wie zu Reicharts Zeiten“ entstehen mit Blüten und Blättern individuelle Drucke auf Papier und Stoff. Pflanzen werden dabei zu natürlichen Druckvorlagen und hinterlassen durch verschiedene Techniken einzigartige Spuren. Ergänzend lädt ein Wimmelbild zum Ausmalen zum Mitmachen ein. \n\n\n\nIm zweiten Teil „Aus der Erde – für die Erde“ dreht sich alles um Substrate und ihre Möglichkeiten für Pflanzenwachstum und -zucht. Vorgestellt werden unterschiedliche Materialien sowie eine DIY-Anleitung zur Herstellung kompostierbarer Pflanzentöpfchen. \n\n\n\nDie Veranstaltung findet im Themengarten „Grünes Herz – Der Garten Thüringens“\, im Pavillon „Gärtnertreff Thüringen“ statt. Zuständig ist das Deutsche Gartenbaumuseum.
URL:https://www.lgs-leinefelde-worbis.de/veranstaltung/botanica-in-originali-nachhaltige-substrate-entdecken/2026-07-10/
CATEGORIES:Themengarten "Grünes Herz"
ATTACH;FMTTYPE=image/jpeg:https://www.lgs-leinefelde-worbis.de/wp-content/uploads/2026/03/green-e1774283913584.jpeg
END:VEVENT
END:VCALENDAR