BEGIN:VCALENDAR
VERSION:2.0
PRODID:-//Landesgartenschau 2026 in Leinefelde-Worbis - ECPv6.15.20//NONSGML v1.0//EN
CALSCALE:GREGORIAN
METHOD:PUBLISH
X-WR-CALNAME:Landesgartenschau 2026 in Leinefelde-Worbis
X-ORIGINAL-URL:https://www.lgs-leinefelde-worbis.de
X-WR-CALDESC:Veranstaltungen für Landesgartenschau 2026 in Leinefelde-Worbis
REFRESH-INTERVAL;VALUE=DURATION:PT1H
X-Robots-Tag:noindex
X-PUBLISHED-TTL:PT1H
BEGIN:VTIMEZONE
TZID:Europe/Berlin
BEGIN:DAYLIGHT
TZOFFSETFROM:+0100
TZOFFSETTO:+0200
TZNAME:CEST
DTSTART:20250330T010000
END:DAYLIGHT
BEGIN:STANDARD
TZOFFSETFROM:+0200
TZOFFSETTO:+0100
TZNAME:CET
DTSTART:20251026T010000
END:STANDARD
BEGIN:DAYLIGHT
TZOFFSETFROM:+0100
TZOFFSETTO:+0200
TZNAME:CEST
DTSTART:20260329T010000
END:DAYLIGHT
BEGIN:STANDARD
TZOFFSETFROM:+0200
TZOFFSETTO:+0100
TZNAME:CET
DTSTART:20261025T010000
END:STANDARD
BEGIN:DAYLIGHT
TZOFFSETFROM:+0100
TZOFFSETTO:+0200
TZNAME:CEST
DTSTART:20270328T010000
END:DAYLIGHT
BEGIN:STANDARD
TZOFFSETFROM:+0200
TZOFFSETTO:+0100
TZNAME:CET
DTSTART:20271031T010000
END:STANDARD
END:VTIMEZONE
BEGIN:VEVENT
DTSTART;TZID=Europe/Berlin:20260610T100000
DTEND;TZID=Europe/Berlin:20260610T180000
DTSTAMP:20260420T121425
CREATED:20260218T113123Z
LAST-MODIFIED:20260218T113124Z
UID:10003802-1781085600-1781114400@www.lgs-leinefelde-worbis.de
SUMMARY:Blumenblock: Ausstellung Klang & Stille
DESCRIPTION:Florale Gestaltungen werden bei dieser Ausstellung im Blumenblock (Erdgeschoss & 1. Obergeschoss) mit musikalischen Elementen kombiniert. Unterschiedliche Klangwelten – von klassischer Musik bis zu elektronischen Kompositionen – beeinflussen Raumwirkung und Wahrnehmung der Installationen und schaffen wechselnde atmosphärische Ebenen. 
URL:https://www.lgs-leinefelde-worbis.de/veranstaltung/blumenblock-ausstellung-klang-stille/2026-06-10/
CATEGORIES:Ausstellung,Blumenblock,Musik
ATTACH;FMTTYPE=image/jpeg:https://www.lgs-leinefelde-worbis.de/wp-content/uploads/2026/02/IMG_1364-rotated-e1771414262993.jpeg
END:VEVENT
BEGIN:VEVENT
DTSTART;TZID=Europe/Berlin:20260610T103000
DTEND;TZID=Europe/Berlin:20260610T120000
DTSTAMP:20260420T121425
CREATED:20260202T150652Z
LAST-MODIFIED:20260204T060015Z
UID:10003499-1781087400-1781092800@www.lgs-leinefelde-worbis.de
SUMMARY:Grünes Klassenzimmer: Gestalten mit Naturmaterial
DESCRIPTION:buchbares Kursangebot für Kindergartengruppen und Schulklassen \n\n\n\nPartner: Bildungs- und Ferienstätte Eichsfeld \n\n\n\nDie Natur bietet eine Fülle an Materialien\, aus denen sich individuelle und kreative Werke gestalten lassen. In diesem Angebot steht das gestalterische Arbeiten mit Naturmaterialien im Mittelpunkt – verbunden mit einer achtsamen Auszeit. Dabei werden ganz nebenbei spannende Einblicke in natürliche Zusammenhänge und die Besonderheiten der verwendeten Materialien vermittelt. \n\n\n\nZur Buchung: https://www.lgs-leinefelde-worbis.de/veranstaltungen-uebersicht/gruenes-klassenzimmer/buchung/#/
URL:https://www.lgs-leinefelde-worbis.de/veranstaltung/gruenes-klassenzimmer-gestalten-mit-naturmaterial/2026-06-10/
CATEGORIES:Grünes Klassenzimmer
ATTACH;FMTTYPE=image/jpeg:https://www.lgs-leinefelde-worbis.de/wp-content/uploads/2026/02/wooden-art-pieces-painting-process.jpeg
END:VEVENT
BEGIN:VEVENT
DTSTART;TZID=Europe/Berlin:20260610T103000
DTEND;TZID=Europe/Berlin:20260610T120000
DTSTAMP:20260420T121425
CREATED:20260208T151941Z
LAST-MODIFIED:20260208T151942Z
UID:10003650-1781087400-1781092800@www.lgs-leinefelde-worbis.de
SUMMARY:Grünes Klassenzimmer: Ess-Kult-Tour – so lernen Jugendliche die Welt der Lebensmittel kennen
DESCRIPTION:buchbares Kursangebot für Kindergartengruppen und Schulklassen \n\n\n\nPartner: Verbraucherzentrale Thüringen \n\n\n\nIn diesem 90-minütigen Programm setzen sich die Teilnehmenden an drei Stationen mit Themen wie Lebensmittelrettung\, klimafreundlichem Essen und bewusster Snack-Auswahl auseinander. Dabei bearbeiten sie bis zu sieben interaktiven Aufgaben mithilfe ihres eigenen Handys. \n\n\n\nZur Buchung: https://www.lgs-leinefelde-worbis.de/veranstaltungen-uebersicht/gruenes-klassenzimmer/buchung/#/
URL:https://www.lgs-leinefelde-worbis.de/veranstaltung/gruenes-klassenzimmer-ess-kult-tour-so-lernen-jugendliche-die-welt-der-lebensmittel-kennen/2026-06-10/
CATEGORIES:Grünes Klassenzimmer
ATTACH;FMTTYPE=image/jpeg:https://www.lgs-leinefelde-worbis.de/wp-content/uploads/2026/02/Ess-Kult-Tour_VZTH-e1770563973821.jpg
END:VEVENT
BEGIN:VEVENT
DTSTART;TZID=Europe/Berlin:20260610T110000
DTEND;TZID=Europe/Berlin:20260610T170000
DTSTAMP:20260420T121425
CREATED:20260213T112000Z
LAST-MODIFIED:20260213T102222Z
UID:10003725-1781089200-1781110800@www.lgs-leinefelde-worbis.de
SUMMARY:Natürlich gesund – der Gesundheitstag
DESCRIPTION:Beim Gesundheitstag rückt die Landesgartenschau ganzheitlich in den Fokus von Gesundheit\, Wohlbefinden und Lebensqualität. Besucherinnen und Besucher erwartet ein abwechslungsreiches Programm rund um eine gesunde Lebensweise\, Bewegung\, Prävention und bewusste Ernährung – eingebettet in die grüne Atmosphäre des Geländes. Verschiedene Akteurinnen und Akteure aus dem Gesundheitsbereich sind vor Ort und bieten spannende Einblicke\, informative Gespräche sowie interaktive Mitmachangebote. Ob Bewegung\, Entspannung\, Ernährung oder Vorsorge – hier gibt es Anregungen und praktische Impulse für den Alltag. Der Gesundheitstag lädt Menschen jeden Alters ein\, Neues zu entdecken und Gesundheit als etwas Positives\, Verbindendes und Erlebbares zu erfahren.
URL:https://www.lgs-leinefelde-worbis.de/veranstaltung/natuerlich-gesund-der-gesundheitstag/
CATEGORIES:Aktivitäten,Vorträge
ATTACH;FMTTYPE=image/jpeg:https://www.lgs-leinefelde-worbis.de/wp-content/uploads/2026/02/Natuerlich_gesund_2_5MB-e1770978093421.jpg
END:VEVENT
BEGIN:VEVENT
DTSTART;TZID=Europe/Berlin:20260610T120000
DTEND;TZID=Europe/Berlin:20260610T130000
DTSTAMP:20260420T121425
CREATED:20260128T062946Z
LAST-MODIFIED:20260128T075756Z
UID:10003085-1781092800-1781096400@www.lgs-leinefelde-worbis.de
SUMMARY:Kirchenpavillon lädt zum Verweilen ein
DESCRIPTION:Der ökumenische Kirchenpavillon der katholischen und evangelischen Kirchen lädt zum Verweilen\, Einkehren und Entdecken ein. Wir laden Sie ein zu unseren täglichen geistlichen Impulsen zum Thema „erdnah – himmelweit“.
URL:https://www.lgs-leinefelde-worbis.de/veranstaltung/kirchenpavillon-laedt-zum-verweilen-ein-4/2026-06-10/
ATTACH;FMTTYPE=image/jpeg:https://www.lgs-leinefelde-worbis.de/wp-content/uploads/2026/01/Logo-ErdnahHimmelweit_final-5.jpg
END:VEVENT
BEGIN:VEVENT
DTSTART;TZID=Europe/Berlin:20260610T130000
DTEND;TZID=Europe/Berlin:20260610T143000
DTSTAMP:20260420T121425
CREATED:20260203T151900Z
LAST-MODIFIED:20260204T055945Z
UID:10003514-1781096400-1781101800@www.lgs-leinefelde-worbis.de
SUMMARY:Grünes Klassenzimmer: Die Welt der Bienen entdecken
DESCRIPTION:buchbares Kursangebot für Kindergartengruppen und Schulklassen \n\n\n\nPartner: Eichsfelder Imkerverein e. V. \n\n\n\nDas Angebot vermittelt grundlegendes Wissen über die Bedeutung der Honigbiene für die Natur. Themen wie das Leben im Bienenstock\, die Aufgabenverteilung im Volk und die Arbeit eines Imkers werden anschaulich und interaktiv aufgegriffen. Ein besonderes Highlight ist die Beobachtung lebender Bienen in einem Schaukasten\, die einen direkten Zugang zur faszinierenden Welt dieser wichtigen Bestäuber ermöglicht. \n\n\n\nZur Buchung: https://www.lgs-leinefelde-worbis.de/veranstaltungen-uebersicht/gruenes-klassenzimmer/buchung/#/
URL:https://www.lgs-leinefelde-worbis.de/veranstaltung/gruenes-klassenzimmer-die-welt-der-bienen-entdecken/2026-06-10/
CATEGORIES:Grünes Klassenzimmer
ATTACH;FMTTYPE=image/jpeg:https://www.lgs-leinefelde-worbis.de/wp-content/uploads/2026/02/Die-Welt-der-Bienen-entdecken_Eichsfelder-Imkerverein-e.V-e1770103572110.jpeg
END:VEVENT
BEGIN:VEVENT
DTSTART;TZID=Europe/Berlin:20260610T130000
DTEND;TZID=Europe/Berlin:20260610T143000
DTSTAMP:20260420T121425
CREATED:20260203T153400Z
LAST-MODIFIED:20260204T055858Z
UID:10003530-1781096400-1781101800@www.lgs-leinefelde-worbis.de
SUMMARY:Grünes Klassenzimmer: Herz\, Hand und Verstand (Erlebnispädagogik)
DESCRIPTION:buchbares Kursangebot für Kindergartengruppen und Schulklassen \n\n\n\nPartner: Bildungs- und Ferienstätte Eichsfeld \n\n\n\nDurch verschiedene erlebnispädagogische Übungen werden Selbstvertrauen\, Mut\, Geschicklichkeit sowie kognitive Fähigkeiten und kooperative Kommunikation in der Gruppe gezielt gefördert. Spielerische Herausforderungen bieten Raum für persönliche Entwicklung und gemeinsames Lernen. \n\n\n\nZur Buchung: https://www.lgs-leinefelde-worbis.de/veranstaltungen-uebersicht/gruenes-klassenzimmer/buchung/#/
URL:https://www.lgs-leinefelde-worbis.de/veranstaltung/gruenes-klassenzimmer-herz-hand-und-verstand-erlebnispaedagogik/2026-06-10/
CATEGORIES:Grünes Klassenzimmer
ATTACH;FMTTYPE=image/jpeg:https://www.lgs-leinefelde-worbis.de/wp-content/uploads/2026/02/Herz-Hand-und-Verstand-Erlebnispaedagogik-e1770104512925.jpg
END:VEVENT
BEGIN:VEVENT
DTSTART;TZID=Europe/Berlin:20260610T130000
DTEND;TZID=Europe/Berlin:20260610T143000
DTSTAMP:20260420T121425
CREATED:20260208T151730Z
LAST-MODIFIED:20260208T151731Z
UID:10003648-1781096400-1781101800@www.lgs-leinefelde-worbis.de
SUMMARY:Grünes Klassenzimmer: Dein Essen. Unser Klima.
DESCRIPTION:buchbares Kursangebot für Kindergartengruppen und Schulklassen \n\n\n\nPartner: Verbraucherzentrale Thüringen \n\n\n\nDie Erderwärmung wird durch Treibhausgase verursacht\, die vor allem aus Industrie\, Verkehr und Landwirtschaft stammen. Dabei spielt auch die Ernährung eine wichtige Rolle. Der Workshop zeigt auf\, wie durch bewusste Ernährung und andere einfache Maßnahmen aktiv zum Klimaschutz beigetragen werden kann. \n\n\n\nZur Buchung: https://www.lgs-leinefelde-worbis.de/veranstaltungen-uebersicht/gruenes-klassenzimmer/buchung/#/
URL:https://www.lgs-leinefelde-worbis.de/veranstaltung/gruenes-klassenzimmer-dein-essen-unser-klima/2026-06-10/
CATEGORIES:Grünes Klassenzimmer
ATTACH;FMTTYPE=image/jpeg:https://www.lgs-leinefelde-worbis.de/wp-content/uploads/2026/02/Dein-Essen.-Unser-Klima_VZTH-e1770563839751.jpg
END:VEVENT
BEGIN:VEVENT
DTSTART;TZID=Europe/Berlin:20260610T153000
DTEND;TZID=Europe/Berlin:20260610T180000
DTSTAMP:20260420T121425
CREATED:20251027T105519Z
LAST-MODIFIED:20260204T063928Z
UID:10000165-1781105400-1781114400@www.lgs-leinefelde-worbis.de
SUMMARY:Spielenachmittag
DESCRIPTION:Freut euch auf einen unterhaltsamen Spielenachmittag für Groß und Klein! Gemeinsam entdecken wir liebevoll gestaltete Holzspiele. Ob Klassiker oder neue Spielideen – hier ist für jeden etwas dabei. Kommt vorbei\, spielt mit und erlebt einen entspannten Nachmittag voller Spaß\, Geschick und Gemeinschaft!
URL:https://www.lgs-leinefelde-worbis.de/veranstaltung/spielenachmittag-3/2026-06-10/
CATEGORIES:Aktivitäten
ATTACH;FMTTYPE=image/jpeg:https://www.lgs-leinefelde-worbis.de/wp-content/uploads/2025/10/taking-out-brick-Gross-e1761562508192.jpg
END:VEVENT
BEGIN:VEVENT
DTSTART;TZID=Europe/Berlin:20260610T160000
DTEND;TZID=Europe/Berlin:20260610T164500
DTSTAMP:20260420T121425
CREATED:20260411T130331Z
LAST-MODIFIED:20260411T130332Z
UID:10004128-1781107200-1781109900@www.lgs-leinefelde-worbis.de
SUMMARY:Kochkurs bei der Landesgartenschau
DESCRIPTION:Im Rahmen der Landesgartenschau dreht sich bei diesem Kochkurs alles um frische\, saisonale Zutaten und die Freude am gemeinsamen Zubereiten. Inspiriert von der Natur und der Vielfalt regionaler Produkte entstehen einfache\, kreative Gerichte\, die sich gut in den Alltag integrieren lassen. Der Kochkurs richtet sich an Einsteiger ebenso wie an Hobbyköche. Im Mittelpunkt stehen das Ausprobieren neuer Rezepte\, das Kennenlernen verschiedener Zubereitungstechniken und das harmonische Zusammenspiel unterschiedlicher Aromen. In entspannter Atmosphäre lädt das Angebot dazu ein\, gemeinsam zu kochen und die kulinarische Seite der Landesgartenschau zu entdecken.
URL:https://www.lgs-leinefelde-worbis.de/veranstaltung/kochkurs-bei-der-landesgartenschau/2026-06-10/
ATTACH;FMTTYPE=image/jpeg:https://www.lgs-leinefelde-worbis.de/wp-content/uploads/2026/04/Kochkurs-e1775912589839.jpg
END:VEVENT
BEGIN:VEVENT
DTSTART;TZID=Europe/Berlin:20260610T170000
DTEND;TZID=Europe/Berlin:20260610T180000
DTSTAMP:20260420T121425
CREATED:20260128T063740Z
LAST-MODIFIED:20260128T075626Z
UID:10003254-1781110800-1781114400@www.lgs-leinefelde-worbis.de
SUMMARY:Kirchenpavillon lädt zum Verweilen ein
DESCRIPTION:Der ökumenische Kirchenpavillon der katholischen und evangelischen Kirchen lädt zum Verweilen\, Einkehren und Entdecken ein. Wir laden Sie ein zu unseren täglichen geistlichen Impulsen zum Thema „erdnah – himmelweit“.
URL:https://www.lgs-leinefelde-worbis.de/veranstaltung/kirchenpavillon-laedt-zum-verweilen-ein-7/2026-06-10/
ATTACH;FMTTYPE=image/jpeg:https://www.lgs-leinefelde-worbis.de/wp-content/uploads/2026/01/Logo-ErdnahHimmelweit_final-3-e1769586980400.jpg
END:VEVENT
BEGIN:VEVENT
DTSTART;TZID=Europe/Berlin:20260610T170000
DTEND;TZID=Europe/Berlin:20260610T181500
DTSTAMP:20260420T121425
CREATED:20251027T110243Z
LAST-MODIFIED:20260107T085019Z
UID:10000320-1781110800-1781115300@www.lgs-leinefelde-worbis.de
SUMMARY:BeSinnung durch Lauschen und Spüren von Klängen
DESCRIPTION:Diese Veranstaltung lädt zu einer Stunde der Entspannung und inneren Ruhe ein. Mit dem Klang von Klangschalen und weiteren Instrumenten entsteht eine meditative Atmosphäre\, die zum Innehalten und bewussten Wahrnehmen anregt. Die Teilnehmerinnen und Teilnehmer können sich auf eine wohltuende Auszeit freuen\, in der Körper und Geist zur Ruhe kommen und die harmonischen Schwingungen der Klänge erlebt werden können.  \n\n\n\nKursleitung: Franziska Herzberg (Ergotherapeutin\, zertifizierte Peter Hess®-Klangschalenpraktikerin)Termine: 29.04.\, 20.05.\, 10.06.\, 08.07.\, 05.08.\, 26.08.\, 16.09. und 30.09.2026Mehr Infos zum Angebot: https://mitherzundklang.com/
URL:https://www.lgs-leinefelde-worbis.de/veranstaltung/klaenge/2026-06-10/
ATTACH;FMTTYPE=image/jpeg:https://www.lgs-leinefelde-worbis.de/wp-content/uploads/2025/10/young-person-enjoying-yoga-retreat.jpg
END:VEVENT
END:VCALENDAR