BEGIN:VCALENDAR
VERSION:2.0
PRODID:-//Landesgartenschau 2026 in Leinefelde-Worbis - ECPv6.15.20//NONSGML v1.0//EN
CALSCALE:GREGORIAN
METHOD:PUBLISH
X-ORIGINAL-URL:https://www.lgs-leinefelde-worbis.de
X-WR-CALDESC:Veranstaltungen für Landesgartenschau 2026 in Leinefelde-Worbis
REFRESH-INTERVAL;VALUE=DURATION:PT1H
X-Robots-Tag:noindex
X-PUBLISHED-TTL:PT1H
BEGIN:VTIMEZONE
TZID:Europe/Berlin
BEGIN:DAYLIGHT
TZOFFSETFROM:+0100
TZOFFSETTO:+0200
TZNAME:CEST
DTSTART:20250330T010000
END:DAYLIGHT
BEGIN:STANDARD
TZOFFSETFROM:+0200
TZOFFSETTO:+0100
TZNAME:CET
DTSTART:20251026T010000
END:STANDARD
BEGIN:DAYLIGHT
TZOFFSETFROM:+0100
TZOFFSETTO:+0200
TZNAME:CEST
DTSTART:20260329T010000
END:DAYLIGHT
BEGIN:STANDARD
TZOFFSETFROM:+0200
TZOFFSETTO:+0100
TZNAME:CET
DTSTART:20261025T010000
END:STANDARD
BEGIN:DAYLIGHT
TZOFFSETFROM:+0100
TZOFFSETTO:+0200
TZNAME:CEST
DTSTART:20270328T010000
END:DAYLIGHT
BEGIN:STANDARD
TZOFFSETFROM:+0200
TZOFFSETTO:+0100
TZNAME:CET
DTSTART:20271031T010000
END:STANDARD
END:VTIMEZONE
BEGIN:VEVENT
DTSTART;TZID=Europe/Berlin:20260613T100000
DTEND;TZID=Europe/Berlin:20260613T150000
DTSTAMP:20260420T170734
CREATED:20260317T160954Z
LAST-MODIFIED:20260317T160954Z
UID:10003996-1781344800-1781362800@www.lgs-leinefelde-worbis.de
SUMMARY:Der passende Hausbaum: Kleine Bäume mit großer Wirkung
DESCRIPTION:Ein Hausbaum prägt das Erscheinungsbild eines Grundstücks und trägt wesentlich zur Gestaltung des Gartens bei. Am Sonnabend\, 13. Juni 2026\, von 10.00 bis 15.00 Uhr stehen insbesondere kleinwüchsige Baumarten im Fokus\, die sich ideal für moderne\, oft kompaktere Grundstücke eignen. Dabei wird aufgezeigt\, wie sich passende Gehölze unter Berücksichtigung von Standort und Proportionen auswählen lassen. Referent Dr. Gerd Reidenbach gibt fachkundige Empfehlungen und steht für individuelle Fragen zur Verfügung. Die Veranstaltung findet im Themengarten „Grünes Herz – Der Garten Thüringens“\, im Pavillon „Gärtnertreff Thüringen“ auf dem Gelände der Landesgartenschau statt. Zuständig ist das Thüringer Landesamt für Landwirtschaft und Ländlichen Raum.
URL:https://www.lgs-leinefelde-worbis.de/veranstaltung/der-passende-hausbaum-kleine-baeume-mit-grosser-wirkung/
CATEGORIES:Themengarten "Grünes Herz",Vorträge
ATTACH;FMTTYPE=image/jpeg:https://www.lgs-leinefelde-worbis.de/wp-content/uploads/2026/03/13_06_2026_Hausbaeume-e1773763781117.jpg
END:VEVENT
BEGIN:VEVENT
DTSTART;TZID=Europe/Berlin:20260613T100000
DTEND;TZID=Europe/Berlin:20260613T160000
DTSTAMP:20260420T170734
CREATED:20251119T074252Z
LAST-MODIFIED:20251119T074254Z
UID:10000363-1781344800-1781366400@www.lgs-leinefelde-worbis.de
SUMMARY:Jochen der Elefant zu Besuch bei der Landesgartenschau
DESCRIPTION:Gleich viermal macht „Jochen der Elefant“ im Jahr 2026 Station auf der Landesgartenschau Leinefelde-Worbis. Am 23. Mai\, 13. Juni\, 05. Juli und 23. August 2026 überrascht der außergewöhnliche Besucher Groß und Klein mit seiner ganz eigenen Art – mal verschmitzt\, mal zurückhaltend\, immer jedoch voller Charme.Jochen zeigt viele Facetten: Er gilt als gesprächig\, interessiert\, kinderlieb und gelegentlich sogar ein wenig launisch. Trotz seines kräftigen Auftretens bleibt er verständnisvoll\, manchmal schwerhörig und im Privatleben eher zurückgezogen – und entwickelt sich doch langsam zu einer kleinen Berühmtheit. Was Jochen kann\, beeindruckt ebenso: lachen\, zuhören\, überlegen\, antworten\, fragen\, spielen\, unterhalten und sich natürlich elegant bewegen. Sogar fahren und anhalten gehören zu seinen besonderen Talenten.Die Auftritte von Jochen dem Elefanten bereichern das familienfreundliche Programm der Landesgartenschau Leinefelde-Worbis 2026 und versprechen humorvolle\, liebevoll gestaltete Begegnungen für alle Generationen.
URL:https://www.lgs-leinefelde-worbis.de/veranstaltung/jochen-der-elefant-zu-besuch-bei-der-landesgartenschau/2026-06-13/
ATTACH;FMTTYPE=image/jpeg:https://www.lgs-leinefelde-worbis.de/wp-content/uploads/2025/11/Jochen-der-Elefant.jpg
END:VEVENT
BEGIN:VEVENT
DTSTART;TZID=Europe/Berlin:20260613T100000
DTEND;TZID=Europe/Berlin:20260613T160000
DTSTAMP:20260420T170734
CREATED:20260317T161315Z
LAST-MODIFIED:20260317T161315Z
UID:10003997-1781344800-1781366400@www.lgs-leinefelde-worbis.de
SUMMARY:BeerenKlima2.0: Zukunftsfähige Erdbeerproduktion
DESCRIPTION:Nachhaltige Ansätze für den Erdbeeranbau stehen am Sonnabend\, 13. Juni 2026\, von 10.00 bis 16.00 Uhr im Mittelpunkt der Veranstaltung „BeerenKlima2.0“. Die Projektpartner Zupar.energie GmbH und Mühlberghof Leefers GbR stellen ihr Konzept für eine ressourcenschonende und zukunftsorientierte Produktion vor. Dabei werden innovative Wege aufgezeigt\, wie Erdbeeren unter veränderten klimatischen Bedingungen erfolgreich angebaut werden können. Als Referenten wirken Christian Scholz und Carolin Leefers mit. Die Veranstaltung findet im Themengarten „Grünes Herz – Der Garten Thüringens“\, im Pavillon „Gärtnertreff Thüringen“ auf dem Gelände der Landesgartenschau statt. Organisiert wird der Termin vom Landesverband Gartenbau Thüringen e.V..
URL:https://www.lgs-leinefelde-worbis.de/veranstaltung/beerenklima2-0-zukunftsfaehige-erdbeerproduktion/
CATEGORIES:Themengarten "Grünes Herz",Vorträge
ATTACH;FMTTYPE=image/jpeg:https://www.lgs-leinefelde-worbis.de/wp-content/uploads/2026/03/fresh-strawberries-wooden-table-2-e1773763981307.jpeg
END:VEVENT
BEGIN:VEVENT
DTSTART;TZID=Europe/Berlin:20260613T100000
DTEND;TZID=Europe/Berlin:20260613T180000
DTSTAMP:20260420T170734
CREATED:20260218T113123Z
LAST-MODIFIED:20260218T113124Z
UID:10003805-1781344800-1781373600@www.lgs-leinefelde-worbis.de
SUMMARY:Blumenblock: Ausstellung Klang & Stille
DESCRIPTION:Florale Gestaltungen werden bei dieser Ausstellung im Blumenblock (Erdgeschoss & 1. Obergeschoss) mit musikalischen Elementen kombiniert. Unterschiedliche Klangwelten – von klassischer Musik bis zu elektronischen Kompositionen – beeinflussen Raumwirkung und Wahrnehmung der Installationen und schaffen wechselnde atmosphärische Ebenen. 
URL:https://www.lgs-leinefelde-worbis.de/veranstaltung/blumenblock-ausstellung-klang-stille/2026-06-13/
CATEGORIES:Ausstellung,Blumenblock,Musik
ATTACH;FMTTYPE=image/jpeg:https://www.lgs-leinefelde-worbis.de/wp-content/uploads/2026/02/IMG_1364-rotated-e1771414262993.jpeg
END:VEVENT
BEGIN:VEVENT
DTSTART;TZID=Europe/Berlin:20260613T110000
DTEND;TZID=Europe/Berlin:20260613T130000
DTSTAMP:20260420T170734
CREATED:20260112T135139Z
LAST-MODIFIED:20260204T061057Z
UID:10000523-1781348400-1781355600@www.lgs-leinefelde-worbis.de
SUMMARY:Konzert mit Gitarrenzeiten
DESCRIPTION:An zwei Terminen bereichert das Konzert mit dem Duo „Gitarrenzeiten“ das Veranstaltungsprogramm der Landesgartenschau Leinefelde-Worbis 2026. Die Auftritte finden am 16. Mai sowie am 13. Juni\, jeweils von 11:00 bis 13:00 Uhr\, statt. Das Duo verbindet Gitarre beziehungsweise Gitarren feinfühlig mit Querflöte\, Alt-Querflöte und Percussion zu einer stimmigen musikalischen Synthese. Dabei spannt sich der Bogen von Johann Sebastian Bach über die Beatles\, Led Zeppelin und Eric Clapton bis hin zu Smooth Jazz. Ein besonderer Schwerpunkt liegt auf der lateinamerikanischen Musik mit Einflüssen aus Samba\, Bossa Nova\, Tango und Choro. Gerade die Kombination der samtig-warmen Alt-Querflöte mit der facettenreichen Gitarre verleiht Jazz\, Pop\, Folk sowie irischer Musik einen unverwechselbaren Klang und macht die Konzerte zu einem besonderen Hörerlebnis im Rahmen der Landesgartenschau.
URL:https://www.lgs-leinefelde-worbis.de/veranstaltung/konzert-mit-gitarrenzeiten/2026-06-13/
CATEGORIES:Musik
ATTACH;FMTTYPE=image/jpeg:https://www.lgs-leinefelde-worbis.de/wp-content/uploads/2026/01/Gitarrenzeiten-e1768225888488.jpg
END:VEVENT
BEGIN:VEVENT
DTSTART;TZID=Europe/Berlin:20260613T120000
DTEND;TZID=Europe/Berlin:20260613T130000
DTSTAMP:20260420T170734
CREATED:20260128T062946Z
LAST-MODIFIED:20260128T075756Z
UID:10003088-1781352000-1781355600@www.lgs-leinefelde-worbis.de
SUMMARY:Kirchenpavillon lädt zum Verweilen ein
DESCRIPTION:Der ökumenische Kirchenpavillon der katholischen und evangelischen Kirchen lädt zum Verweilen\, Einkehren und Entdecken ein. Wir laden Sie ein zu unseren täglichen geistlichen Impulsen zum Thema „erdnah – himmelweit“.
URL:https://www.lgs-leinefelde-worbis.de/veranstaltung/kirchenpavillon-laedt-zum-verweilen-ein-4/2026-06-13/
ATTACH;FMTTYPE=image/jpeg:https://www.lgs-leinefelde-worbis.de/wp-content/uploads/2026/01/Logo-ErdnahHimmelweit_final-5.jpg
END:VEVENT
BEGIN:VEVENT
DTSTART;TZID=Europe/Berlin:20260613T140000
DTEND;TZID=Europe/Berlin:20260613T150000
DTSTAMP:20260420T170734
CREATED:20260304T152200Z
LAST-MODIFIED:20260304T130107Z
UID:10003936-1781359200-1781362800@www.lgs-leinefelde-worbis.de
SUMMARY:Konzert mit dem Crescendo – inklusives Kinder- und Jugendorchester Eichsfeld
DESCRIPTION:Das Crescendo – inklusives Kinder- und Jugendorchester Eichsfeld lädt während der Landesgartenschau 2026 zu einem besonderen Konzert ein. Das Orchester\, das in seiner Form landesweit bislang einmalig ist\, vereint junge Musikerinnen und Musiker mit und ohne Beeinträchtigung und steht für gelebte Inklusion und musikalische Vielfalt. Mit einem abwechslungsreichen Programm präsentieren die Kinder und Jugendlichen ihr Können und zeigen eindrucksvoll\, wie verbindend Musik sein kann. Alle Musikinteressierten sind herzlich eingeladen\, dieses besondere Konzerterlebnis mitzuerleben.
URL:https://www.lgs-leinefelde-worbis.de/veranstaltung/konzert-mit-dem-crescendo-inklusives-kinder-und-jugendorchester-eichsfeld/2026-06-13/
CATEGORIES:Musik
ATTACH;FMTTYPE=image/jpeg:https://www.lgs-leinefelde-worbis.de/wp-content/uploads/2026/03/closeup-violin-trumpet-note-sheets-lights-Kopieren-e1772629242357.jpeg
END:VEVENT
BEGIN:VEVENT
DTSTART;TZID=Europe/Berlin:20260613T150000
DTEND;TZID=Europe/Berlin:20260613T154500
DTSTAMP:20260420T170734
CREATED:20260327T093727Z
LAST-MODIFIED:20260327T093728Z
UID:10004042-1781362800-1781365500@www.lgs-leinefelde-worbis.de
SUMMARY:Vortrag zu Krankheiten und Schädlingen im Obstbau
DESCRIPTION:Fachkundige Unterstützung für Hobbygärtner bietet der Vortrag „Krankheiten und Schädlinge im Obstbau“ an mehreren Terminen im Rahmen der Landesgartenschau Leinefelde-Worbis. Die Veranstaltung findet am 12. Mai\, 13. Juni\, 15. Juli\, 11. August\, 18. September und 9. Oktober 2026 jeweils von 15:00 bis 15:45 Uhr statt. \n\n\n\nWenn Pflanzen unerwartet Blätter verlieren oder nicht mehr gesund wachsen\, sorgt das häufig für Unsicherheit. Genau hier setzt der Vortrag von Pflanzenschutzberaterin Margrita Ganze an. Sie blickt auf über 40 Jahre Berufserfahrung zurück und kennt die unterschiedlichsten Probleme rund um den Obstbau. \n\n\n\nMit ihrem umfangreichen Wissen hilft sie dabei\, Ursachen zu erkennen und geeignete Maßnahmen zu ergreifen. Praxisnahe Tipps und leicht umsetzbare Tricks unterstützen Gartenliebhaber dabei\, Obstbäume gesund zu halten und Schäden frühzeitig zu vermeiden. \n\n\n\nDie Veranstaltung richtet sich an alle\, die ihr Wissen erweitern und konkrete Hilfestellungen für den eigenen Garten mitnehmen möchten.
URL:https://www.lgs-leinefelde-worbis.de/veranstaltung/vortrag-zu-krankheiten-und-schaedlingen-im-obstbau/2026-06-13/
CATEGORIES:Vorträge
ATTACH;FMTTYPE=image/jpeg:https://www.lgs-leinefelde-worbis.de/wp-content/uploads/2026/03/Schad-Kopieren-e1774604230868.jpg
END:VEVENT
BEGIN:VEVENT
DTSTART;TZID=Europe/Berlin:20260613T150000
DTEND;TZID=Europe/Berlin:20260613T160000
DTSTAMP:20260420T170734
CREATED:20260327T095315Z
LAST-MODIFIED:20260327T095316Z
UID:10004067-1781362800-1781366400@www.lgs-leinefelde-worbis.de
SUMMARY:Origami-Kurs lädt zum kreativen Falten ein
DESCRIPTION:Die japanische Faltkunst steht bei einem wiederkehrenden Kreativangebot im Rahmen der Landesgartenschau Leinefelde-Worbis im Mittelpunkt. Der Origami-Kurs findet am 23. April\, 9. Mai\, 30. Mai\, 13. Juni\, 27. Juni\, 18. Juli\, 25. Juli\, 8. August\, 22. August\, 5. September sowie 19. September 2026 jeweils von 15:00 bis 16:00 Uhr statt. \n\n\n\nAus einem einfachen Blatt Papier entstehen dabei Schritt für Schritt kleine Kunstwerke – etwa Kraniche\, Blumen oder filigrane Figuren. Der Kurs vermittelt die Grundlagen der japanischen Falttechnik und führt behutsam an Formen\, Linien und präzises Arbeiten heran. Vorkenntnisse sind nicht erforderlich. \n\n\n\nOrigami verbindet Kreativität mit Ruhe und Konzentration. Das Angebot sich an alle\, die Freude am Gestalten haben oder eine entspannte kreative Auszeit erleben möchten. Am Ende entstehen aus wenigen Handgriffen dekorative kleine Meisterwerke.
URL:https://www.lgs-leinefelde-worbis.de/veranstaltung/origami-kurs-laedt-zum-kreativen-falten-ein/2026-06-13/
CATEGORIES:Aktivitäten
ATTACH;FMTTYPE=image/jpeg:https://www.lgs-leinefelde-worbis.de/wp-content/uploads/2026/03/origami-paper-bird-e1774605177966.jpeg
END:VEVENT
BEGIN:VEVENT
DTSTART;TZID=Europe/Berlin:20260613T154500
DTEND;TZID=Europe/Berlin:20260613T164500
DTSTAMP:20260420T170734
CREATED:20260327T094200Z
LAST-MODIFIED:20260327T094200Z
UID:10004048-1781365500-1781369100@www.lgs-leinefelde-worbis.de
SUMMARY:Pflanzenschutzberatung für den eigenen Garten
DESCRIPTION:Individuelle Unterstützung für Gartenfreunde bietet die Pflanzenschutzberatung mit Margrita Ganze im Rahmen der Landesgartenschau Leinefelde-Worbis. Die Termine finden am 12. Mai\, 13. Juni\, 15. Juli\, 11. August\, 18. September und 9. Oktober 2026 jeweils von 15:45 bis 16:45 Uhr statt. Wenn Pflanzen geschwächt wirken oder auffällige Veränderungen zeigen\, tauchen schnell Fragen auf. Genau hier setzt die fachkundige Beratung an. Margrita Ganze bringt mehr als 40 Jahre Erfahrung im Pflanzenschutz mit und unterstützt mit ihrem fundierten Wissen bei unterschiedlichsten Herausforderungen im Garten. \n\n\n\nDie Expertin hilft dabei\, Schäden richtig einzuordnen\, Ursachen zu erkennen und geeignete Maßnahmen zu besprechen. Dabei stehen praxisnahe Lösungen im Mittelpunkt\, die sich direkt im eigenen Garten anwenden lassen. Das Beratungsangebot richtet sich an alle Garteninteressierten\, die konkrete Fragen mitbringen oder sich allgemein über Pflanzengesundheit informieren möchten.
URL:https://www.lgs-leinefelde-worbis.de/veranstaltung/pflanzenschutzberatung-fuer-den-eigenen-garten/2026-06-13/
CATEGORIES:Vorträge
ATTACH;FMTTYPE=image/jpeg:https://www.lgs-leinefelde-worbis.de/wp-content/uploads/2026/03/Beratung-zum-Pflanzenschutz-im-Haus-und-Kleingarten-3-e1774604512170.jpg
END:VEVENT
BEGIN:VEVENT
DTSTART;TZID=Europe/Berlin:20260613T170000
DTEND;TZID=Europe/Berlin:20260613T180000
DTSTAMP:20260420T170734
CREATED:20260128T063740Z
LAST-MODIFIED:20260128T075626Z
UID:10003257-1781370000-1781373600@www.lgs-leinefelde-worbis.de
SUMMARY:Kirchenpavillon lädt zum Verweilen ein
DESCRIPTION:Der ökumenische Kirchenpavillon der katholischen und evangelischen Kirchen lädt zum Verweilen\, Einkehren und Entdecken ein. Wir laden Sie ein zu unseren täglichen geistlichen Impulsen zum Thema „erdnah – himmelweit“.
URL:https://www.lgs-leinefelde-worbis.de/veranstaltung/kirchenpavillon-laedt-zum-verweilen-ein-7/2026-06-13/
ATTACH;FMTTYPE=image/jpeg:https://www.lgs-leinefelde-worbis.de/wp-content/uploads/2026/01/Logo-ErdnahHimmelweit_final-3-e1769586980400.jpg
END:VEVENT
BEGIN:VEVENT
DTSTART;TZID=Europe/Berlin:20260613T170000
DTEND;TZID=Europe/Berlin:20260613T180000
DTSTAMP:20260420T170734
CREATED:20260328T134746Z
LAST-MODIFIED:20260328T134746Z
UID:10004088-1781370000-1781373600@www.lgs-leinefelde-worbis.de
SUMMARY:Poetische Märchenstunde: „Warum singt die Nachtigall nachts?“
DESCRIPTION:Eine einfühlsame Lesung mit Eva-Maria Strehlow lädt im Rahmen der Landesgartenschau Leinefelde-Worbis zu einer Reise in eine poetische Märchenwelt ein. Die Veranstaltung „Warum singt die Nachtigall nachts?“ findet am 23. April\, 9. Mai\, 30. Mai\, 13. Juni\, 27. Juni\, 18. Juli\, 25. Juli\, 8. August\, 22. August\, 5. September sowie 19. September 2026 jeweils von 17:00 bis 18:00 Uhr statt. \n\n\n\nIm Mittelpunkt steht die Geschichte einer kleinen Nachtigall\, die ihren Platz in der Welt sucht. Während andere Vögel mit schillernden Farben beschenkt werden\, erhält sie eine besondere Gabe: eine Stimme\, so berührend\, dass sie Herzen bewegt. Doch ihr Talent ruft nicht nur Bewunderung hervor\, sondern auch Neid. Auf ihrer Reise zwischen Einsamkeit und Mut entdeckt die Nachtigall schließlich die Kraft der leisen Töne und wird zur Stimme der Nacht. \n\n\n\nDie Lesung verbindet poetische Bilder mit großen Gefühlen und erzählt von Einzigartigkeit\, Sehnsucht und der Schönheit des Unsichtbaren. Damit ergänzt sie das kulturelle Programm der Landesgartenschau um eine ruhige\, atmosphärische Veranstaltung für alle\, die Märchen und Geschichten lieben.
URL:https://www.lgs-leinefelde-worbis.de/veranstaltung/poetische-maerchenstunde-warum-singt-die-nachtigall-nachts/2026-06-13/
ATTACH;FMTTYPE=image/jpeg:https://www.lgs-leinefelde-worbis.de/wp-content/uploads/2026/03/Nachtigall-Kopieren-1-e1774705656390.jpg
END:VEVENT
END:VCALENDAR