BEGIN:VCALENDAR
VERSION:2.0
PRODID:-//Landesgartenschau 2026 in Leinefelde-Worbis - ECPv6.15.20//NONSGML v1.0//EN
CALSCALE:GREGORIAN
METHOD:PUBLISH
X-ORIGINAL-URL:https://www.lgs-leinefelde-worbis.de
X-WR-CALDESC:Veranstaltungen für Landesgartenschau 2026 in Leinefelde-Worbis
REFRESH-INTERVAL;VALUE=DURATION:PT1H
X-Robots-Tag:noindex
X-PUBLISHED-TTL:PT1H
BEGIN:VTIMEZONE
TZID:Europe/Berlin
BEGIN:DAYLIGHT
TZOFFSETFROM:+0100
TZOFFSETTO:+0200
TZNAME:CEST
DTSTART:20250330T010000
END:DAYLIGHT
BEGIN:STANDARD
TZOFFSETFROM:+0200
TZOFFSETTO:+0100
TZNAME:CET
DTSTART:20251026T010000
END:STANDARD
BEGIN:DAYLIGHT
TZOFFSETFROM:+0100
TZOFFSETTO:+0200
TZNAME:CEST
DTSTART:20260329T010000
END:DAYLIGHT
BEGIN:STANDARD
TZOFFSETFROM:+0200
TZOFFSETTO:+0100
TZNAME:CET
DTSTART:20261025T010000
END:STANDARD
BEGIN:DAYLIGHT
TZOFFSETFROM:+0100
TZOFFSETTO:+0200
TZNAME:CEST
DTSTART:20270328T010000
END:DAYLIGHT
BEGIN:STANDARD
TZOFFSETFROM:+0200
TZOFFSETTO:+0100
TZNAME:CET
DTSTART:20271031T010000
END:STANDARD
END:VTIMEZONE
BEGIN:VEVENT
DTSTART;TZID=Europe/Berlin:20260614T100000
DTEND;TZID=Europe/Berlin:20260614T173000
DTSTAMP:20260420T184401
CREATED:20260416T090758Z
LAST-MODIFIED:20260416T090759Z
UID:10004165-1781431200-1781458200@www.lgs-leinefelde-worbis.de
SUMMARY:Antik- und Sammlermarkt vor dem Blumenblock
DESCRIPTION:Wer gern auf Schatzsuche geht\, alte Lieblingsstücke entdeckt oder einfach die besondere Atmosphäre eines Marktes genießen möchte\, bekommt im Umfeld der Landesgartenschau 2026 eine zusätzliche Gelegenheit dazu. Vor dem Blumenblock in der Bachstraße 7 bis 11 findet an vier Sonntagen ein Antik- und Sammlermarkt statt. Geöffnet ist jeweils von 10:00 bis 17:30 Uhr. \n\n\n\nDie Termine sind der 17. Mai\, 14. Juni\, 12. Juli und 23. August 2026. Besonders attraktiv: Der Markt liegt außerhalb des Bezahlbereichs der Landesgartenschau und ist damit für alle Interessierten frei zugänglich. Ein Ticket für das Ausstellungsgelände wird nicht benötigt\, der Eintritt ist frei. Mit dem Angebot entsteht direkt am Blumenblock ein zusätzlicher Anlaufpunkt für alle\, die Antiquitäten\, Sammlerstücke und besondere Fundstücke schätzen. Der Markt lädt zum entspannten Bummeln\, Entdecken und Verweilen ein und ergänzt das Umfeld der Landesgartenschau um ein offenes Format\, das auch unabhängig vom Besuch des Ausstellungsgeländes genutzt werden kann. Weitere Informationen zum Veranstalter und Kontaktmöglichkeiten sind online bei Flohmarkt Junkies Wichmann erhältlich. \n\n\n\nDer Flyer zum Download
URL:https://www.lgs-leinefelde-worbis.de/veranstaltung/antik-und-sammlermarkt-vor-dem-blumenblock/2026-06-14/
CATEGORIES:Feste & Märkte
ATTACH;FMTTYPE=image/jpeg:https://www.lgs-leinefelde-worbis.de/wp-content/uploads/2026/04/Antikmarkt-e1776330467110.jpg
END:VEVENT
BEGIN:VEVENT
DTSTART;TZID=Europe/Berlin:20260614T100000
DTEND;TZID=Europe/Berlin:20260614T180000
DTSTAMP:20260420T184401
CREATED:20260208T160835Z
LAST-MODIFIED:20260227T062051Z
UID:10003687-1781431200-1781460000@www.lgs-leinefelde-worbis.de
SUMMARY:Mobiler Werkstattservice für Blasinstrumente
DESCRIPTION:Eine Musikinstrumentenwerkstatt aus Nordthüringen begleitet den Bläsertag durch einen mobilen Werkstattservice vor Ort. Während des laufenden Programms können Instrumente kurzfristig Probleme entwickeln – etwa durch klemmende Mechaniken\, gelöste Teile oder kleinere Beschädigungen. In solchen Fällen stehen wir den Musikerinnen und Musikern direkt zur Seite und sorgen mit schnellen Reparaturen und Justierungen dafür\, dass Auftritte reibungslos fortgesetzt werden können.
URL:https://www.lgs-leinefelde-worbis.de/veranstaltung/mobiler-werkstattservice-fuer-blasinstrumente/
ATTACH;FMTTYPE=image/jpeg:https://www.lgs-leinefelde-worbis.de/wp-content/uploads/2026/02/Blaeser-Werkstatt-Kopieren-e1770566905827.jpg
END:VEVENT
BEGIN:VEVENT
DTSTART;TZID=Europe/Berlin:20260614T100000
DTEND;TZID=Europe/Berlin:20260614T180000
DTSTAMP:20260420T184401
CREATED:20260218T113123Z
LAST-MODIFIED:20260218T113124Z
UID:10003806-1781431200-1781460000@www.lgs-leinefelde-worbis.de
SUMMARY:Blumenblock: Ausstellung Klang & Stille
DESCRIPTION:Florale Gestaltungen werden bei dieser Ausstellung im Blumenblock (Erdgeschoss & 1. Obergeschoss) mit musikalischen Elementen kombiniert. Unterschiedliche Klangwelten – von klassischer Musik bis zu elektronischen Kompositionen – beeinflussen Raumwirkung und Wahrnehmung der Installationen und schaffen wechselnde atmosphärische Ebenen. 
URL:https://www.lgs-leinefelde-worbis.de/veranstaltung/blumenblock-ausstellung-klang-stille/2026-06-14/
CATEGORIES:Ausstellung,Blumenblock,Musik
ATTACH;FMTTYPE=image/jpeg:https://www.lgs-leinefelde-worbis.de/wp-content/uploads/2026/02/IMG_1364-rotated-e1771414262993.jpeg
END:VEVENT
BEGIN:VEVENT
DTSTART;TZID=Europe/Berlin:20260614T110000
DTEND;TZID=Europe/Berlin:20260614T114500
DTSTAMP:20260420T184401
CREATED:20260128T071812Z
LAST-MODIFIED:20260204T060807Z
UID:10003428-1781434800-1781437500@www.lgs-leinefelde-worbis.de
SUMMARY:Matinée zur Eröffnung des Bläsertages
DESCRIPTION:Unter dem Motto „Erdnah-Himmelweit“ treffen sich heute Bläserinnen und Bläser des Posaunenwerkes der Evangelischen Kirche in Mitteldeutschland zu einem Bläsertag auf der Landesgartenschau in Leinefelde-Worbis. Zum Auftakt wollen sie die Besucher mit ihrer Musik erfreuen.
URL:https://www.lgs-leinefelde-worbis.de/veranstaltung/matinee-zur-eroeffnung-des-blaesertages-2/
CATEGORIES:Musik
ATTACH;FMTTYPE=image/jpeg:https://www.lgs-leinefelde-worbis.de/wp-content/uploads/2026/01/Eroeffnung-1-e1769584672391.jpeg
END:VEVENT
BEGIN:VEVENT
DTSTART;TZID=Europe/Berlin:20260614T120000
DTEND;TZID=Europe/Berlin:20260614T122000
DTSTAMP:20260420T184401
CREATED:20260128T072006Z
LAST-MODIFIED:20260128T072007Z
UID:10003429-1781438400-1781439600@www.lgs-leinefelde-worbis.de
SUMMARY:Klanginsel - Impuls im Kirchenpavillon
DESCRIPTION:Der ökumenische Kirchenpavillon der katholischen und evangelischen Kirchen lädt auf dem LGS-Gelände zum Verweilen\, Einkehren und Entdecken ein. Wir laden Sie ein zu unseren täglichen geistlichen Impulsen zum Thema „erdnah – himmelweit“. Posaunenchöre aus nah und fern bringen das Gelände der Landesgartenschau zum Klingen.
URL:https://www.lgs-leinefelde-worbis.de/veranstaltung/klanginsel-impuls-im-kirchenpavillon/
ATTACH;FMTTYPE=image/jpeg:https://www.lgs-leinefelde-worbis.de/wp-content/uploads/2026/01/Klanginsel-3-e1769584800533.jpeg
END:VEVENT
BEGIN:VEVENT
DTSTART;TZID=Europe/Berlin:20260614T130000
DTEND;TZID=Europe/Berlin:20260614T132000
DTSTAMP:20260420T184401
CREATED:20260127T111754Z
LAST-MODIFIED:20260127T111755Z
UID:10002755-1781442000-1781443200@www.lgs-leinefelde-worbis.de
SUMMARY:Klanginsel Gartenstadt
DESCRIPTION:Posaunenchöre aus nah und fern bringen das Gelände der Landesgartenschau zum Klingen.
URL:https://www.lgs-leinefelde-worbis.de/veranstaltung/klanginsel-gartenstadt/
ATTACH;FMTTYPE=image/jpeg:https://www.lgs-leinefelde-worbis.de/wp-content/uploads/2026/01/trumpet-hands-e1769512653100.jpeg
END:VEVENT
BEGIN:VEVENT
DTSTART;TZID=Europe/Berlin:20260614T140000
DTEND;TZID=Europe/Berlin:20260614T142000
DTSTAMP:20260420T184401
CREATED:20260128T072348Z
LAST-MODIFIED:20260128T072348Z
UID:10003431-1781445600-1781446800@www.lgs-leinefelde-worbis.de
SUMMARY:Klanginsel Auwald
DESCRIPTION:Posaunenchöre aus nah und fern bringen das Gelände der Landesgartenschau zum Klingen.
URL:https://www.lgs-leinefelde-worbis.de/veranstaltung/klanginsel-auwald-2/
ATTACH;FMTTYPE=image/jpeg:https://www.lgs-leinefelde-worbis.de/wp-content/uploads/2026/01/Klanginsel-5-e1769585022879.jpeg
END:VEVENT
BEGIN:VEVENT
DTSTART;TZID=Europe/Berlin:20260614T150000
DTEND;TZID=Europe/Berlin:20260614T160000
DTSTAMP:20260420T184401
CREATED:20260127T112105Z
LAST-MODIFIED:20260127T112106Z
UID:10002757-1781449200-1781452800@www.lgs-leinefelde-worbis.de
SUMMARY:Gottesdienst zum Abschluss des Bläsertages
DESCRIPTION:Ein Bläsergottesdienst bildet den Abschluss des Bläsertages des Posaunenwerkes der Evangelischen Kirche in Mitteldeutschland. Wir wollen in Gottes Schöpfung auf sein Wort hören\, miteinander musizieren und Gemeinschaft erleben. Feiern Sie mit einem großen Bläserchor gemeinsam Gottesdienst!
URL:https://www.lgs-leinefelde-worbis.de/veranstaltung/gottesdienst-zum-abschluss-des-blaesertages/
ATTACH;FMTTYPE=image/jpeg:https://www.lgs-leinefelde-worbis.de/wp-content/uploads/2026/01/Gottesdienst-e1769512856870.jpg
END:VEVENT
BEGIN:VEVENT
DTSTART;TZID=Europe/Berlin:20260614T153000
DTEND;TZID=Europe/Berlin:20260614T180000
DTSTAMP:20260420T184401
CREATED:20251027T104329Z
LAST-MODIFIED:20260204T063950Z
UID:10000136-1781451000-1781460000@www.lgs-leinefelde-worbis.de
SUMMARY:Spielenachmittag
DESCRIPTION:Freut euch auf einen unterhaltsamen Spielenachmittag für Groß und Klein! Gemeinsam entdecken wir liebevoll gestaltete Holzspiele. Ob Klassiker oder neue Spielideen – hier ist für jeden etwas dabei. Kommt vorbei\, spielt mit und erlebt einen entspannten Nachmittag voller Spaß\, Geschick und Gemeinschaft!
URL:https://www.lgs-leinefelde-worbis.de/veranstaltung/spielenachmittag-2/2026-06-14/
CATEGORIES:Aktivitäten
ATTACH;FMTTYPE=image/jpeg:https://www.lgs-leinefelde-worbis.de/wp-content/uploads/2025/10/friends-having-fun-with-traditional-games-Gross-e1761561076916.jpg
END:VEVENT
BEGIN:VEVENT
DTSTART;TZID=Europe/Berlin:20260614T160000
DTEND;TZID=Europe/Berlin:20260614T170000
DTSTAMP:20260420T184401
CREATED:20260304T154500Z
LAST-MODIFIED:20260304T134249Z
UID:10003944-1781452800-1781456400@www.lgs-leinefelde-worbis.de
SUMMARY:Chor im Flor mit dem Grundschul-Chor Niederorschel
DESCRIPTION:Der Chor der Grundschule Niederorschel präsentiert zur Landesgartenschau ein fröhliches Programm mit Liedern über Natur\, Wachstum und Zusammenhalt. Die Dritt- und Viertklässler singen mit viel Begeisterung und laden am 14. Juni 2026\, von 16 bis 17 Uhr zum Zuhören und Mitfreuen ein.
URL:https://www.lgs-leinefelde-worbis.de/veranstaltung/chor-im-flor-mit-dem-grundschul-chor-niederorschel/
CATEGORIES:Musik
ATTACH;FMTTYPE=image/jpeg:https://www.lgs-leinefelde-worbis.de/wp-content/uploads/2026/03/Kinderchor-e1772631744163.jpg
END:VEVENT
BEGIN:VEVENT
DTSTART;TZID=Europe/Berlin:20260614T170000
DTEND;TZID=Europe/Berlin:20260614T180000
DTSTAMP:20260420T184401
CREATED:20260128T072711Z
LAST-MODIFIED:20260128T072712Z
UID:10003433-1781456400-1781460000@www.lgs-leinefelde-worbis.de
SUMMARY:Klanginsel - Impuls im Kirchenpavillon
DESCRIPTION:Der ökumenische Kirchenpavillon der katholischen und evangelischen Kirchen lädt auf dem LGS-Gelände zum Verweilen\, Einkehren und Entdecken ein. Wir laden Sie ein zu unseren täglichen geistlichen Impulsen zum Thema „erdnah – himmelweit“. Posaunenchöre aus nah und fern bringen das Gelände der Landesgartenschau zum Klingen.
URL:https://www.lgs-leinefelde-worbis.de/veranstaltung/klanginsel-impuls-im-kirchenpavillon-2/
ATTACH;FMTTYPE=image/jpeg:https://www.lgs-leinefelde-worbis.de/wp-content/uploads/2026/01/Klanginsel-6-e1769585227666.jpeg
END:VEVENT
END:VCALENDAR