BEGIN:VCALENDAR
VERSION:2.0
PRODID:-//Landesgartenschau 2026 in Leinefelde-Worbis - ECPv6.15.20//NONSGML v1.0//EN
CALSCALE:GREGORIAN
METHOD:PUBLISH
X-ORIGINAL-URL:https://www.lgs-leinefelde-worbis.de
X-WR-CALDESC:Veranstaltungen für Landesgartenschau 2026 in Leinefelde-Worbis
REFRESH-INTERVAL;VALUE=DURATION:PT1H
X-Robots-Tag:noindex
X-PUBLISHED-TTL:PT1H
BEGIN:VTIMEZONE
TZID:Europe/Berlin
BEGIN:DAYLIGHT
TZOFFSETFROM:+0100
TZOFFSETTO:+0200
TZNAME:CEST
DTSTART:20250330T010000
END:DAYLIGHT
BEGIN:STANDARD
TZOFFSETFROM:+0200
TZOFFSETTO:+0100
TZNAME:CET
DTSTART:20251026T010000
END:STANDARD
BEGIN:DAYLIGHT
TZOFFSETFROM:+0100
TZOFFSETTO:+0200
TZNAME:CEST
DTSTART:20260329T010000
END:DAYLIGHT
BEGIN:STANDARD
TZOFFSETFROM:+0200
TZOFFSETTO:+0100
TZNAME:CET
DTSTART:20261025T010000
END:STANDARD
BEGIN:DAYLIGHT
TZOFFSETFROM:+0100
TZOFFSETTO:+0200
TZNAME:CEST
DTSTART:20270328T010000
END:DAYLIGHT
BEGIN:STANDARD
TZOFFSETFROM:+0200
TZOFFSETTO:+0100
TZNAME:CET
DTSTART:20271031T010000
END:STANDARD
END:VTIMEZONE
BEGIN:VEVENT
DTSTART;TZID=Europe/Berlin:20260615T103000
DTEND;TZID=Europe/Berlin:20260615T120000
DTSTAMP:20260420T202636
CREATED:20260208T152136Z
LAST-MODIFIED:20260208T152136Z
UID:10003651-1781519400-1781524800@www.lgs-leinefelde-worbis.de
SUMMARY:Grünes Klassenzimmer: Die Kraft der Bäume
DESCRIPTION:buchbares Kursangebot für Kindergartengruppen und Schulklassen \n\n\n\nPartner: hope – Ambulantes Hospiz- und Palliativzentrum \n\n\n\nAlte\, kräftige Bäume stehen im Mittelpunkt dieser Veranstaltung. Es wird untersucht\, was Bäume benötigen\, um gesund zu wachsen\, und welche Parallelen sich zum Wachstum von Kindern ziehen lassen. Zusätzlich erhalten die Teilnehmenden die Gelegenheit\, einen eigenen Lebensbaum zu pflanzen und mit nach Hause zu nehmen. \n\n\n\nZur Buchung: https://www.lgs-leinefelde-worbis.de/veranstaltungen-uebersicht/gruenes-klassenzimmer/buchung/#/
URL:https://www.lgs-leinefelde-worbis.de/veranstaltung/gruenes-klassenzimmer-die-kraft-der-baeume/
CATEGORIES:Grünes Klassenzimmer
ATTACH;FMTTYPE=image/jpeg:https://www.lgs-leinefelde-worbis.de/wp-content/uploads/2026/02/Kraft-der-Baeume_hope-e1770564087107.jpeg
END:VEVENT
BEGIN:VEVENT
DTSTART;TZID=Europe/Berlin:20260615T120000
DTEND;TZID=Europe/Berlin:20260615T130000
DTSTAMP:20260420T202636
CREATED:20260128T063239Z
LAST-MODIFIED:20260128T075725Z
UID:10003089-1781524800-1781528400@www.lgs-leinefelde-worbis.de
SUMMARY:Kirchenpavillon lädt zum Verweilen ein
DESCRIPTION:Der ökumenische Kirchenpavillon der katholischen und evangelischen Kirchen lädt zum Verweilen\, Einkehren und Entdecken ein. Wir laden Sie ein zu unseren täglichen geistlichen Impulsen zum Thema „erdnah – himmelweit“.
URL:https://www.lgs-leinefelde-worbis.de/veranstaltung/kirchenpavillon-laedt-zum-verweilen-ein-5/2026-06-15/
ATTACH;FMTTYPE=image/jpeg:https://www.lgs-leinefelde-worbis.de/wp-content/uploads/2026/01/Logo-ErdnahHimmelweit_final-4-e1769587039528.jpg
END:VEVENT
BEGIN:VEVENT
DTSTART;TZID=Europe/Berlin:20260615T130000
DTEND;TZID=Europe/Berlin:20260615T143000
DTSTAMP:20260420T202636
CREATED:20260202T141408Z
LAST-MODIFIED:20260204T060225Z
UID:10003462-1781528400-1781533800@www.lgs-leinefelde-worbis.de
SUMMARY:Grünes Klassenzimmer: Vom Leine-Schaf zur Socke
DESCRIPTION:buchbares Kursangebot für Kindergartengruppen und Schulklassen \n\n\n\nPartner: Thüringer Landfrauen e. V. Ortsverein Leinefelde-Worbis \n\n\n\nEine alte Tradition des Eichsfelds wird erlebbar gemacht – vom Schaf bis zum fertigen Strumpf. Der Weg der Schafwolle und ihre Verarbeitung bis zum Endprodukt zeigt anschaulich ein Stück regionaler Handwerkskunst\, das es lohnt\, weiterzugeben. \n\n\n\nZur Buchung: https://www.lgs-leinefelde-worbis.de/veranstaltungen-uebersicht/gruenes-klassenzimmer/buchung/#/
URL:https://www.lgs-leinefelde-worbis.de/veranstaltung/gruenes-klassenzimmer-vom-leine-schaf-zur-socke/2026-06-15/
CATEGORIES:Grünes Klassenzimmer
ATTACH;FMTTYPE=image/jpeg:https://www.lgs-leinefelde-worbis.de/wp-content/uploads/2026/02/Leine-Schaf-zur-SOcke_Landfrauen-e1770041638721.jpg
END:VEVENT
BEGIN:VEVENT
DTSTART;TZID=Europe/Berlin:20260615T130000
DTEND;TZID=Europe/Berlin:20260615T143000
DTSTAMP:20260420T202636
CREATED:20260202T142107Z
LAST-MODIFIED:20260204T060200Z
UID:10003471-1781528400-1781533800@www.lgs-leinefelde-worbis.de
SUMMARY:Grünes Klassenzimmer: Die Wüstung Kirrode
DESCRIPTION:Die Wiederentdeckung einer fast vergessenen Siedlung im Eichsfeld \n\n\n\nbuchbares Kursangebot für Kindergartengruppen und Schulklassen \n\n\n\nPartner: Lehrer\, Herr Uwe Kamlot \n\n\n\nIm Kurs lernen die Teilnehmer die mittelalter­liche Wüstung Kirrode kennen\, entdecken de­ren Geschichte und Aufbau bei einer Gelän­debegehung und erfahren\, wie Ausgrabungen ablaufen und was in Kirrode gefunden wurde. \n\n\n\nZur Buchung: https://www.lgs-leinefelde-worbis.de/veranstaltungen-uebersicht/gruenes-klassenzimmer/buchung/#/
URL:https://www.lgs-leinefelde-worbis.de/veranstaltung/gruenes-klassenzimmer-die-wuestung-kirrode/2026-06-15/
CATEGORIES:Grünes Klassenzimmer
ATTACH;FMTTYPE=image/jpeg:https://www.lgs-leinefelde-worbis.de/wp-content/uploads/2026/02/Die-Wuestung-Kirrode-e1770042061459.jpg
END:VEVENT
BEGIN:VEVENT
DTSTART;TZID=Europe/Berlin:20260615T160000
DTEND;TZID=Europe/Berlin:20260615T170000
DTSTAMP:20260420T202636
CREATED:20260216T060917Z
LAST-MODIFIED:20260216T060918Z
UID:10003745-1781539200-1781542800@www.lgs-leinefelde-worbis.de
SUMMARY:Kursangebot Rückenschule –Impulse für einen starken Rücken im Gartenalltag
DESCRIPTION:Wir wissen alle: Unkraut vergeht nicht\, aber die Beweglichkeit im Kreuz manchmal schon. Denn Bücken\, Heben und Tragen gehören zum Gärtnern wie die Gießkanne. Die Lösung: Gerader Rücken\, in die Knie\, wenig Gewicht – oder? Damit Ihr Kreuz nicht zum „Garten-Graus“ wird\, macht das Team von Salus Physiotherapie Leinefelde Sie fit für die Beete. In einer ca. einstündigen Einheit lernen Sie Ihre Rückenmuskulatur kennen und einzusetzen. Wir üben das richtige Heben von schweren Kübeln und zeigen Ihnen kleine Lockerungsübungen für zwischendurch. Mit Salus’ Tipps im Rücken\, können Sie sich nach jedem Unkraut bücken!
URL:https://www.lgs-leinefelde-worbis.de/veranstaltung/kursangebot-rueckenschule-impulse-fuer-einen-starken-ruecken-im-gartenalltag/2026-06-15/
CATEGORIES:Aktivitäten
ATTACH;FMTTYPE=image/jpeg:https://www.lgs-leinefelde-worbis.de/wp-content/uploads/2026/02/Rueckenschule-1-e1771222148743.jpeg
END:VEVENT
BEGIN:VEVENT
DTSTART;TZID=Europe/Berlin:20260615T170000
DTEND;TZID=Europe/Berlin:20260615T180000
DTSTAMP:20260420T202636
CREATED:20260128T071531Z
LAST-MODIFIED:20260128T075504Z
UID:10003310-1781542800-1781546400@www.lgs-leinefelde-worbis.de
SUMMARY:Kirchenpavillon lädt zum Verweilen ein
DESCRIPTION:Der ökumenische Kirchenpavillon der katholischen und evangelischen Kirchen lädt zum Verweilen\, Einkehren und Entdecken ein. Wir laden Sie ein zu unseren täglichen geistlichen Impulsen zum Thema „erdnah – himmelweit“.
URL:https://www.lgs-leinefelde-worbis.de/veranstaltung/kirchenpavillon-laedt-zum-verweilen-ein-9/2026-06-15/
ATTACH;FMTTYPE=image/jpeg:https://www.lgs-leinefelde-worbis.de/wp-content/uploads/2026/01/Logo-ErdnahHimmelweit_final-e1769586897585.jpg
END:VEVENT
END:VCALENDAR