BEGIN:VCALENDAR
VERSION:2.0
PRODID:-//Landesgartenschau 2026 in Leinefelde-Worbis - ECPv6.15.20//NONSGML v1.0//EN
CALSCALE:GREGORIAN
METHOD:PUBLISH
X-WR-CALNAME:Landesgartenschau 2026 in Leinefelde-Worbis
X-ORIGINAL-URL:https://www.lgs-leinefelde-worbis.de
X-WR-CALDESC:Veranstaltungen für Landesgartenschau 2026 in Leinefelde-Worbis
REFRESH-INTERVAL;VALUE=DURATION:PT1H
X-Robots-Tag:noindex
X-PUBLISHED-TTL:PT1H
BEGIN:VTIMEZONE
TZID:Europe/Berlin
BEGIN:DAYLIGHT
TZOFFSETFROM:+0100
TZOFFSETTO:+0200
TZNAME:CEST
DTSTART:20250330T010000
END:DAYLIGHT
BEGIN:STANDARD
TZOFFSETFROM:+0200
TZOFFSETTO:+0100
TZNAME:CET
DTSTART:20251026T010000
END:STANDARD
BEGIN:DAYLIGHT
TZOFFSETFROM:+0100
TZOFFSETTO:+0200
TZNAME:CEST
DTSTART:20260329T010000
END:DAYLIGHT
BEGIN:STANDARD
TZOFFSETFROM:+0200
TZOFFSETTO:+0100
TZNAME:CET
DTSTART:20261025T010000
END:STANDARD
BEGIN:DAYLIGHT
TZOFFSETFROM:+0100
TZOFFSETTO:+0200
TZNAME:CEST
DTSTART:20270328T010000
END:DAYLIGHT
BEGIN:STANDARD
TZOFFSETFROM:+0200
TZOFFSETTO:+0100
TZNAME:CET
DTSTART:20271031T010000
END:STANDARD
END:VTIMEZONE
BEGIN:VEVENT
DTSTART;TZID=Europe/Berlin:20260617T103000
DTEND;TZID=Europe/Berlin:20260617T120000
DTSTAMP:20260420T235035
CREATED:20260202T150652Z
LAST-MODIFIED:20260204T060015Z
UID:10003500-1781692200-1781697600@www.lgs-leinefelde-worbis.de
SUMMARY:Grünes Klassenzimmer: Gestalten mit Naturmaterial
DESCRIPTION:buchbares Kursangebot für Kindergartengruppen und Schulklassen \n\n\n\nPartner: Bildungs- und Ferienstätte Eichsfeld \n\n\n\nDie Natur bietet eine Fülle an Materialien\, aus denen sich individuelle und kreative Werke gestalten lassen. In diesem Angebot steht das gestalterische Arbeiten mit Naturmaterialien im Mittelpunkt – verbunden mit einer achtsamen Auszeit. Dabei werden ganz nebenbei spannende Einblicke in natürliche Zusammenhänge und die Besonderheiten der verwendeten Materialien vermittelt. \n\n\n\nZur Buchung: https://www.lgs-leinefelde-worbis.de/veranstaltungen-uebersicht/gruenes-klassenzimmer/buchung/#/
URL:https://www.lgs-leinefelde-worbis.de/veranstaltung/gruenes-klassenzimmer-gestalten-mit-naturmaterial/2026-06-17/
CATEGORIES:Grünes Klassenzimmer
ATTACH;FMTTYPE=image/jpeg:https://www.lgs-leinefelde-worbis.de/wp-content/uploads/2026/02/wooden-art-pieces-painting-process.jpeg
END:VEVENT
BEGIN:VEVENT
DTSTART;TZID=Europe/Berlin:20260617T103000
DTEND;TZID=Europe/Berlin:20260617T120000
DTSTAMP:20260420T235035
CREATED:20260208T152709Z
LAST-MODIFIED:20260208T152710Z
UID:10003653-1781692200-1781697600@www.lgs-leinefelde-worbis.de
SUMMARY:Grünes Klassenzimmer: Plastik ist überall\, aber kennst du den Unterschied?
DESCRIPTION:buchbares Kursangebot für Kindergartengruppen und Schulklassen \n\n\n\nPartner: Stiftung für Technologie\, Innovation und Forschung Thüringen (STIFT) \n\n\n\nIn diesem Workshop werden verschiedene Kunststoffe erkannt\, ihre Dichte getestet und die Herstellungsweise erläutert. Mit spannenden Experimenten zur Polymerisation erfolgt ein praxisnaher Einblick in die Welt der Kunststoffe – Wissenschaft zum Anfassen! \n\n\n\nZur Buchung: https://www.lgs-leinefelde-worbis.de/veranstaltungen-uebersicht/gruenes-klassenzimmer/buchung/#/
URL:https://www.lgs-leinefelde-worbis.de/veranstaltung/gruenes-klassenzimmer-plastik-ist-ueberall-aber-kennst-du-den-unterschied/2026-06-17/1/
CATEGORIES:Grünes Klassenzimmer
ATTACH;FMTTYPE=image/jpeg:https://www.lgs-leinefelde-worbis.de/wp-content/uploads/2026/02/Plastik-ist-ueberall-aber-kennst-du-den-Unterschied_MINT-e1770564417954.jpeg
END:VEVENT
BEGIN:VEVENT
DTSTART;TZID=Europe/Berlin:20260617T120000
DTEND;TZID=Europe/Berlin:20260617T130000
DTSTAMP:20260420T235035
CREATED:20260128T063239Z
LAST-MODIFIED:20260128T075725Z
UID:10003091-1781697600-1781701200@www.lgs-leinefelde-worbis.de
SUMMARY:Kirchenpavillon lädt zum Verweilen ein
DESCRIPTION:Der ökumenische Kirchenpavillon der katholischen und evangelischen Kirchen lädt zum Verweilen\, Einkehren und Entdecken ein. Wir laden Sie ein zu unseren täglichen geistlichen Impulsen zum Thema „erdnah – himmelweit“.
URL:https://www.lgs-leinefelde-worbis.de/veranstaltung/kirchenpavillon-laedt-zum-verweilen-ein-5/2026-06-17/
ATTACH;FMTTYPE=image/jpeg:https://www.lgs-leinefelde-worbis.de/wp-content/uploads/2026/01/Logo-ErdnahHimmelweit_final-4-e1769587039528.jpg
END:VEVENT
BEGIN:VEVENT
DTSTART;TZID=Europe/Berlin:20260617T130000
DTEND;TZID=Europe/Berlin:20260617T143000
DTSTAMP:20260420T235035
CREATED:20260202T142107Z
LAST-MODIFIED:20260204T060200Z
UID:10003472-1781701200-1781706600@www.lgs-leinefelde-worbis.de
SUMMARY:Grünes Klassenzimmer: Die Wüstung Kirrode
DESCRIPTION:Die Wiederentdeckung einer fast vergessenen Siedlung im Eichsfeld \n\n\n\nbuchbares Kursangebot für Kindergartengruppen und Schulklassen \n\n\n\nPartner: Lehrer\, Herr Uwe Kamlot \n\n\n\nIm Kurs lernen die Teilnehmer die mittelalter­liche Wüstung Kirrode kennen\, entdecken de­ren Geschichte und Aufbau bei einer Gelän­debegehung und erfahren\, wie Ausgrabungen ablaufen und was in Kirrode gefunden wurde. \n\n\n\nZur Buchung: https://www.lgs-leinefelde-worbis.de/veranstaltungen-uebersicht/gruenes-klassenzimmer/buchung/#/
URL:https://www.lgs-leinefelde-worbis.de/veranstaltung/gruenes-klassenzimmer-die-wuestung-kirrode/2026-06-17/
CATEGORIES:Grünes Klassenzimmer
ATTACH;FMTTYPE=image/jpeg:https://www.lgs-leinefelde-worbis.de/wp-content/uploads/2026/02/Die-Wuestung-Kirrode-e1770042061459.jpg
END:VEVENT
BEGIN:VEVENT
DTSTART;TZID=Europe/Berlin:20260617T130000
DTEND;TZID=Europe/Berlin:20260617T143000
DTSTAMP:20260420T235035
CREATED:20260203T153400Z
LAST-MODIFIED:20260204T055858Z
UID:10003531-1781701200-1781706600@www.lgs-leinefelde-worbis.de
SUMMARY:Grünes Klassenzimmer: Herz\, Hand und Verstand (Erlebnispädagogik)
DESCRIPTION:buchbares Kursangebot für Kindergartengruppen und Schulklassen \n\n\n\nPartner: Bildungs- und Ferienstätte Eichsfeld \n\n\n\nDurch verschiedene erlebnispädagogische Übungen werden Selbstvertrauen\, Mut\, Geschicklichkeit sowie kognitive Fähigkeiten und kooperative Kommunikation in der Gruppe gezielt gefördert. Spielerische Herausforderungen bieten Raum für persönliche Entwicklung und gemeinsames Lernen. \n\n\n\nZur Buchung: https://www.lgs-leinefelde-worbis.de/veranstaltungen-uebersicht/gruenes-klassenzimmer/buchung/#/
URL:https://www.lgs-leinefelde-worbis.de/veranstaltung/gruenes-klassenzimmer-herz-hand-und-verstand-erlebnispaedagogik/2026-06-17/
CATEGORIES:Grünes Klassenzimmer
ATTACH;FMTTYPE=image/jpeg:https://www.lgs-leinefelde-worbis.de/wp-content/uploads/2026/02/Herz-Hand-und-Verstand-Erlebnispaedagogik-e1770104512925.jpg
END:VEVENT
BEGIN:VEVENT
DTSTART;TZID=Europe/Berlin:20260617T130000
DTEND;TZID=Europe/Berlin:20260617T143000
DTSTAMP:20260420T235035
CREATED:20260208T152709Z
LAST-MODIFIED:20260208T152710Z
UID:10003654-1781701200-1781706600@www.lgs-leinefelde-worbis.de
SUMMARY:Grünes Klassenzimmer: Plastik ist überall\, aber kennst du den Unterschied?
DESCRIPTION:buchbares Kursangebot für Kindergartengruppen und Schulklassen \n\n\n\nPartner: Stiftung für Technologie\, Innovation und Forschung Thüringen (STIFT) \n\n\n\nIn diesem Workshop werden verschiedene Kunststoffe erkannt\, ihre Dichte getestet und die Herstellungsweise erläutert. Mit spannenden Experimenten zur Polymerisation erfolgt ein praxisnaher Einblick in die Welt der Kunststoffe – Wissenschaft zum Anfassen! \n\n\n\nZur Buchung: https://www.lgs-leinefelde-worbis.de/veranstaltungen-uebersicht/gruenes-klassenzimmer/buchung/#/
URL:https://www.lgs-leinefelde-worbis.de/veranstaltung/gruenes-klassenzimmer-plastik-ist-ueberall-aber-kennst-du-den-unterschied/2026-06-17/2/
CATEGORIES:Grünes Klassenzimmer
ATTACH;FMTTYPE=image/jpeg:https://www.lgs-leinefelde-worbis.de/wp-content/uploads/2026/02/Plastik-ist-ueberall-aber-kennst-du-den-Unterschied_MINT-e1770564417954.jpeg
END:VEVENT
BEGIN:VEVENT
DTSTART;TZID=Europe/Berlin:20260617T153000
DTEND;TZID=Europe/Berlin:20260617T180000
DTSTAMP:20260420T235035
CREATED:20251027T105519Z
LAST-MODIFIED:20260204T063928Z
UID:10000166-1781710200-1781719200@www.lgs-leinefelde-worbis.de
SUMMARY:Spielenachmittag
DESCRIPTION:Freut euch auf einen unterhaltsamen Spielenachmittag für Groß und Klein! Gemeinsam entdecken wir liebevoll gestaltete Holzspiele. Ob Klassiker oder neue Spielideen – hier ist für jeden etwas dabei. Kommt vorbei\, spielt mit und erlebt einen entspannten Nachmittag voller Spaß\, Geschick und Gemeinschaft!
URL:https://www.lgs-leinefelde-worbis.de/veranstaltung/spielenachmittag-3/2026-06-17/
CATEGORIES:Aktivitäten
ATTACH;FMTTYPE=image/jpeg:https://www.lgs-leinefelde-worbis.de/wp-content/uploads/2025/10/taking-out-brick-Gross-e1761562508192.jpg
END:VEVENT
BEGIN:VEVENT
DTSTART;TZID=Europe/Berlin:20260617T170000
DTEND;TZID=Europe/Berlin:20260617T180000
DTSTAMP:20260420T235035
CREATED:20260128T071531Z
LAST-MODIFIED:20260128T075504Z
UID:10003312-1781715600-1781719200@www.lgs-leinefelde-worbis.de
SUMMARY:Kirchenpavillon lädt zum Verweilen ein
DESCRIPTION:Der ökumenische Kirchenpavillon der katholischen und evangelischen Kirchen lädt zum Verweilen\, Einkehren und Entdecken ein. Wir laden Sie ein zu unseren täglichen geistlichen Impulsen zum Thema „erdnah – himmelweit“.
URL:https://www.lgs-leinefelde-worbis.de/veranstaltung/kirchenpavillon-laedt-zum-verweilen-ein-9/2026-06-17/
ATTACH;FMTTYPE=image/jpeg:https://www.lgs-leinefelde-worbis.de/wp-content/uploads/2026/01/Logo-ErdnahHimmelweit_final-e1769586897585.jpg
END:VEVENT
BEGIN:VEVENT
DTSTART;TZID=Europe/Berlin:20260617T170000
DTEND;TZID=Europe/Berlin:20260617T181500
DTSTAMP:20260420T235035
CREATED:20251104T095929Z
LAST-MODIFIED:20251107T084211Z
UID:10000312-1781715600-1781720100@www.lgs-leinefelde-worbis.de
SUMMARY:BeSinnung mit ZENbo®Balance für Erwachsene
DESCRIPTION:ZENbo®Balance verbindet Elemente aus Yoga\, Qigong\, Meditation und Entspannungsmethoden zu einem ganzheitlichen Übungsansatz. Im Mittelpunkt steht das achtsame Wahrnehmen von Bewegung und Atmung\, um Körper\, Geist und Seele in Einklang zu bringen.Die Kurseinheiten fördern Konzentration\, Koordination und Gleichgewicht und bieten Gelegenheit\, durch Atemübungen und sanfte Bewegungen Ruhe und Ausgeglichenheit zu finden. Auch Einsteigerinnen und Einsteiger ohne Vorkenntnisse sind willkommen. \n\n\n\nKursleitung: Ellen Görke (Entspannungspädagogin\, ZENbo® Balance-Trainerin\, Achtsamkeitstrainerin\, Meditationslehrerin)Termine: 06.05.\, 27.05.\, 17.06.\, 01.07.\, 22.07.\, 12.08.\, 02.09. und 23.09.2026Mehr Infos zum Angebot: https://achtsam-mit-ellen.de/
URL:https://www.lgs-leinefelde-worbis.de/veranstaltung/besinnung-mit-zenbobalance-fuer-erwachsene/2026-06-17/
ATTACH;FMTTYPE=image/jpeg:https://www.lgs-leinefelde-worbis.de/wp-content/uploads/2025/11/young-woman-practicing-yoga-home.jpg
END:VEVENT
END:VCALENDAR