BEGIN:VCALENDAR
VERSION:2.0
PRODID:-//Landesgartenschau 2026 in Leinefelde-Worbis - ECPv6.15.20//NONSGML v1.0//EN
CALSCALE:GREGORIAN
METHOD:PUBLISH
X-ORIGINAL-URL:https://www.lgs-leinefelde-worbis.de
X-WR-CALDESC:Veranstaltungen für Landesgartenschau 2026 in Leinefelde-Worbis
REFRESH-INTERVAL;VALUE=DURATION:PT1H
X-Robots-Tag:noindex
X-PUBLISHED-TTL:PT1H
BEGIN:VTIMEZONE
TZID:Europe/Berlin
BEGIN:DAYLIGHT
TZOFFSETFROM:+0100
TZOFFSETTO:+0200
TZNAME:CEST
DTSTART:20250330T010000
END:DAYLIGHT
BEGIN:STANDARD
TZOFFSETFROM:+0200
TZOFFSETTO:+0100
TZNAME:CET
DTSTART:20251026T010000
END:STANDARD
BEGIN:DAYLIGHT
TZOFFSETFROM:+0100
TZOFFSETTO:+0200
TZNAME:CEST
DTSTART:20260329T010000
END:DAYLIGHT
BEGIN:STANDARD
TZOFFSETFROM:+0200
TZOFFSETTO:+0100
TZNAME:CET
DTSTART:20261025T010000
END:STANDARD
BEGIN:DAYLIGHT
TZOFFSETFROM:+0100
TZOFFSETTO:+0200
TZNAME:CEST
DTSTART:20270328T010000
END:DAYLIGHT
BEGIN:STANDARD
TZOFFSETFROM:+0200
TZOFFSETTO:+0100
TZNAME:CET
DTSTART:20271031T010000
END:STANDARD
END:VTIMEZONE
BEGIN:VEVENT
DTSTART;TZID=Europe/Berlin:20260618T100000
DTEND;TZID=Europe/Berlin:20260618T180000
DTSTAMP:20260421T013405
CREATED:20260218T114411Z
LAST-MODIFIED:20260218T114414Z
UID:10003807-1781776800-1781805600@www.lgs-leinefelde-worbis.de
SUMMARY:Blumenblock: Ausstellung Design & Klassisch
DESCRIPTION:Die Ausstellung im Blumenblock (Erdgeschoss & 1. Obergeschoss) setzt auf florale Installationen statt klassischer Blumenbilder. Pflanzen werden als gestalterisches Material genutzt\, um klare Linien\, Formen und Raumstrukturen zu erzeugen. Klassische Floristik und modernes Design begegnen sich auf einer konzeptionellen Ebene. 
URL:https://www.lgs-leinefelde-worbis.de/veranstaltung/blumenblock-ausstellung-design-klassisch/2026-06-18/
CATEGORIES:Ausstellung,Blumenblock
ATTACH;FMTTYPE=image/jpeg:https://www.lgs-leinefelde-worbis.de/wp-content/uploads/2026/02/d9cf2ef9-fb20-4ebd-9f43-13ed5160e47d-e1771415038722.jpeg
END:VEVENT
BEGIN:VEVENT
DTSTART;TZID=Europe/Berlin:20260618T103000
DTEND;TZID=Europe/Berlin:20260618T120000
DTSTAMP:20260421T013405
CREATED:20260208T153226Z
LAST-MODIFIED:20260208T153228Z
UID:10003655-1781778600-1781784000@www.lgs-leinefelde-worbis.de
SUMMARY:Grünes Klassenzimmer: Erde\, mich gibt’s nur einmal: Umweltschutz und Mülltrennung
DESCRIPTION:buchbares Kursangebot für Kindergartengruppen und Schulklassen \n\n\n\nPartner: Fachamt ÖTK\, Stadtbibliothek Leinefelde-Worbis \n\n\n\nIn dieser Veranstaltung entdecken Kinder\, warum Umweltschutz wichtig ist und lernen spielerisch\, wie richtiges Mülltrennen funktioniert – mit einer spannenden Vorlesegeschichte und einem interaktiven Quiz zum Mitmachen. \n\n\n\nZur Buchung: https://www.lgs-leinefelde-worbis.de/veranstaltungen-uebersicht/gruenes-klassenzimmer/buchung/#/
URL:https://www.lgs-leinefelde-worbis.de/veranstaltung/gruenes-klassenzimmer-erde-mich-gibts-nur-einmal-umweltschutz-und-muelltrennung/2026-06-18/1/
CATEGORIES:Grünes Klassenzimmer
ATTACH;FMTTYPE=image/jpeg:https://www.lgs-leinefelde-worbis.de/wp-content/uploads/2026/02/Erde-mich-gibts-1x_Stadtbiblo-e1770564736596.jpeg
END:VEVENT
BEGIN:VEVENT
DTSTART;TZID=Europe/Berlin:20260618T120000
DTEND;TZID=Europe/Berlin:20260618T130000
DTSTAMP:20260421T013405
CREATED:20260128T063239Z
LAST-MODIFIED:20260128T075725Z
UID:10003092-1781784000-1781787600@www.lgs-leinefelde-worbis.de
SUMMARY:Kirchenpavillon lädt zum Verweilen ein
DESCRIPTION:Der ökumenische Kirchenpavillon der katholischen und evangelischen Kirchen lädt zum Verweilen\, Einkehren und Entdecken ein. Wir laden Sie ein zu unseren täglichen geistlichen Impulsen zum Thema „erdnah – himmelweit“.
URL:https://www.lgs-leinefelde-worbis.de/veranstaltung/kirchenpavillon-laedt-zum-verweilen-ein-5/2026-06-18/
ATTACH;FMTTYPE=image/jpeg:https://www.lgs-leinefelde-worbis.de/wp-content/uploads/2026/01/Logo-ErdnahHimmelweit_final-4-e1769587039528.jpg
END:VEVENT
BEGIN:VEVENT
DTSTART;TZID=Europe/Berlin:20260618T130000
DTEND;TZID=Europe/Berlin:20260618T143000
DTSTAMP:20260421T013405
CREATED:20260208T153226Z
LAST-MODIFIED:20260208T153228Z
UID:10003656-1781787600-1781793000@www.lgs-leinefelde-worbis.de
SUMMARY:Grünes Klassenzimmer: Erde\, mich gibt’s nur einmal: Umweltschutz und Mülltrennung
DESCRIPTION:buchbares Kursangebot für Kindergartengruppen und Schulklassen \n\n\n\nPartner: Fachamt ÖTK\, Stadtbibliothek Leinefelde-Worbis \n\n\n\nIn dieser Veranstaltung entdecken Kinder\, warum Umweltschutz wichtig ist und lernen spielerisch\, wie richtiges Mülltrennen funktioniert – mit einer spannenden Vorlesegeschichte und einem interaktiven Quiz zum Mitmachen. \n\n\n\nZur Buchung: https://www.lgs-leinefelde-worbis.de/veranstaltungen-uebersicht/gruenes-klassenzimmer/buchung/#/
URL:https://www.lgs-leinefelde-worbis.de/veranstaltung/gruenes-klassenzimmer-erde-mich-gibts-nur-einmal-umweltschutz-und-muelltrennung/2026-06-18/2/
CATEGORIES:Grünes Klassenzimmer
ATTACH;FMTTYPE=image/jpeg:https://www.lgs-leinefelde-worbis.de/wp-content/uploads/2026/02/Erde-mich-gibts-1x_Stadtbiblo-e1770564736596.jpeg
END:VEVENT
BEGIN:VEVENT
DTSTART;TZID=Europe/Berlin:20260618T150000
DTEND;TZID=Europe/Berlin:20260618T160000
DTSTAMP:20260421T013405
CREATED:20251107T070658Z
LAST-MODIFIED:20260227T063746Z
UID:10000289-1781794800-1781798400@www.lgs-leinefelde-worbis.de
SUMMARY:Vortrag „Vom Gartentraum zum Traumgarten“
DESCRIPTION:Im Rahmen der Landesgartenschau lädt Dr. Sabine Schroeder zu einer inspirierenden Vortragsreihe rund um die Gestaltung naturnaher Gärten ein. Der Vortrag „Vom Gartentraum zum Traumgarten“ richtet sich an alle\, die ihre Liebe zur Natur auch im eigenen Garten verwirklichen möchten – pflegeleicht\, harmonisch und individuell. Anhand persönlicher Erfahrungen zeigt Dr. Schroeder\, wie aus einem anfänglichen Gartentraum ein echter Traumgarten werden kann\, und berichtet von ihrem Weg von der Gartenanfängerin zur selbständigen Gartenplanerin.Die Vorträge finden an mehreren Terminen während der Gartenschau statt – jeweils donnerstags um 15:00 Uhr an den folgenden Tagen: 7. Mai\, 21. Mai\, 4. Juni\, 18. Juni\, 2. Juli\, 16. Juli\, 30. Juli\, 13. August\, 27. August\, 10. September\, 24. September und 8. Oktober 2026.
URL:https://www.lgs-leinefelde-worbis.de/veranstaltung/vortrag-vom-gartentraum-zum-traumgarten/2026-06-18/
ATTACH;FMTTYPE=image/jpeg:https://www.lgs-leinefelde-worbis.de/wp-content/uploads/2025/11/Traumgarten-Kopieren-e1762499165213.jpg
END:VEVENT
BEGIN:VEVENT
DTSTART;TZID=Europe/Berlin:20260618T170000
DTEND;TZID=Europe/Berlin:20260618T180000
DTSTAMP:20260421T013405
CREATED:20260128T071531Z
LAST-MODIFIED:20260128T075504Z
UID:10003313-1781802000-1781805600@www.lgs-leinefelde-worbis.de
SUMMARY:Kirchenpavillon lädt zum Verweilen ein
DESCRIPTION:Der ökumenische Kirchenpavillon der katholischen und evangelischen Kirchen lädt zum Verweilen\, Einkehren und Entdecken ein. Wir laden Sie ein zu unseren täglichen geistlichen Impulsen zum Thema „erdnah – himmelweit“.
URL:https://www.lgs-leinefelde-worbis.de/veranstaltung/kirchenpavillon-laedt-zum-verweilen-ein-9/2026-06-18/
ATTACH;FMTTYPE=image/jpeg:https://www.lgs-leinefelde-worbis.de/wp-content/uploads/2026/01/Logo-ErdnahHimmelweit_final-e1769586897585.jpg
END:VEVENT
END:VCALENDAR