BEGIN:VCALENDAR
VERSION:2.0
PRODID:-//Landesgartenschau 2026 in Leinefelde-Worbis - ECPv6.15.20//NONSGML v1.0//EN
CALSCALE:GREGORIAN
METHOD:PUBLISH
X-ORIGINAL-URL:https://www.lgs-leinefelde-worbis.de
X-WR-CALDESC:Veranstaltungen für Landesgartenschau 2026 in Leinefelde-Worbis
REFRESH-INTERVAL;VALUE=DURATION:PT1H
X-Robots-Tag:noindex
X-PUBLISHED-TTL:PT1H
BEGIN:VTIMEZONE
TZID:Europe/Berlin
BEGIN:DAYLIGHT
TZOFFSETFROM:+0100
TZOFFSETTO:+0200
TZNAME:CEST
DTSTART:20250330T010000
END:DAYLIGHT
BEGIN:STANDARD
TZOFFSETFROM:+0200
TZOFFSETTO:+0100
TZNAME:CET
DTSTART:20251026T010000
END:STANDARD
BEGIN:DAYLIGHT
TZOFFSETFROM:+0100
TZOFFSETTO:+0200
TZNAME:CEST
DTSTART:20260329T010000
END:DAYLIGHT
BEGIN:STANDARD
TZOFFSETFROM:+0200
TZOFFSETTO:+0100
TZNAME:CET
DTSTART:20261025T010000
END:STANDARD
BEGIN:DAYLIGHT
TZOFFSETFROM:+0100
TZOFFSETTO:+0200
TZNAME:CEST
DTSTART:20270328T010000
END:DAYLIGHT
BEGIN:STANDARD
TZOFFSETFROM:+0200
TZOFFSETTO:+0100
TZNAME:CET
DTSTART:20271031T010000
END:STANDARD
END:VTIMEZONE
BEGIN:VEVENT
DTSTART;TZID=Europe/Berlin:20260625T100000
DTEND;TZID=Europe/Berlin:20260625T180000
DTSTAMP:20260425T164003
CREATED:20260218T114411Z
LAST-MODIFIED:20260218T114414Z
UID:10003814-1782381600-1782410400@www.lgs-leinefelde-worbis.de
SUMMARY:Blumenblock: Ausstellung Design & Klassisch
DESCRIPTION:Die Ausstellung im Blumenblock (Erdgeschoss & 1. Obergeschoss) setzt auf florale Installationen statt klassischer Blumenbilder. Pflanzen werden als gestalterisches Material genutzt\, um klare Linien\, Formen und Raumstrukturen zu erzeugen. Klassische Floristik und modernes Design begegnen sich auf einer konzeptionellen Ebene. 
URL:https://www.lgs-leinefelde-worbis.de/veranstaltung/blumenblock-ausstellung-design-klassisch/2026-06-25/
CATEGORIES:Ausstellung,Blumenblock
ATTACH;FMTTYPE=image/jpeg:https://www.lgs-leinefelde-worbis.de/wp-content/uploads/2026/02/d9cf2ef9-fb20-4ebd-9f43-13ed5160e47d-e1771415038722.jpeg
END:VEVENT
BEGIN:VEVENT
DTSTART;TZID=Europe/Berlin:20260625T103000
DTEND;TZID=Europe/Berlin:20260625T120000
DTSTAMP:20260425T164003
CREATED:20260204T145758Z
LAST-MODIFIED:20260204T145831Z
UID:10003611-1782383400-1782388800@www.lgs-leinefelde-worbis.de
SUMMARY:Grünes Klassenzimmer: Den heimischen Tieren auf der Spur
DESCRIPTION:buchbares Kursangebot für Kindergartengruppen und Schulklassen \n\n\n\nPartner: Fachamt ÖTK\, Stadtbibliothek Leinefelde-Worbis \n\n\n\nDie Veranstaltung bietet eine Einführung in die heimische Tierwelt. Dabei lernen die Teilnehmenden\, wie sich Tiere beobachten lassen und welche Spuren sie hinterlassen. \n\n\n\nZur Buchung: https://www.lgs-leinefelde-worbis.de/veranstaltungen-uebersicht/gruenes-klassenzimmer/buchung/#/
URL:https://www.lgs-leinefelde-worbis.de/veranstaltung/gruenes-klassenzimmer-den-heimischen-tieren-auf-der-spur/2026-06-25/1/
CATEGORIES:Grünes Klassenzimmer
ATTACH;FMTTYPE=image/jpeg:https://www.lgs-leinefelde-worbis.de/wp-content/uploads/2026/02/Den-heimischen-Tieren-auf-der-Spur_Stadtbiblo-e1770217071217.jpeg
END:VEVENT
BEGIN:VEVENT
DTSTART;TZID=Europe/Berlin:20260625T110000
DTEND;TZID=Europe/Berlin:20260625T120000
DTSTAMP:20260425T164003
CREATED:20260106T143743Z
LAST-MODIFIED:20260106T143743Z
UID:10000454-1782385200-1782388800@www.lgs-leinefelde-worbis.de
SUMMARY:Eierlikör-Tasting
DESCRIPTION:Entdecken Sie die Vielfalt regionaler Eierliköre: von klassisch-cremig bis hin zu besonderen Geschmacksvariationen. Probieren Sie ausgewählte Spezialitäten aus der Umgebung und erfahren Sie Wissenswertes über Herkunft und die regionalen Besonderheiten.
URL:https://www.lgs-leinefelde-worbis.de/veranstaltung/eierlikoer-tasting/2026-06-25/1/
ATTACH;FMTTYPE=image/jpeg:https://www.lgs-leinefelde-worbis.de/wp-content/uploads/2026/01/Eierlikoerspezialitaeten-Tino-Sieland-HVE-Eichsfeld-Touristik-e.V-Kopieren-e1767710237287.jpg
END:VEVENT
BEGIN:VEVENT
DTSTART;TZID=Europe/Berlin:20260625T110000
DTEND;TZID=Europe/Berlin:20260625T170000
DTSTAMP:20260425T164003
CREATED:20260219T131500Z
LAST-MODIFIED:20260219T063842Z
UID:10003905-1782385200-1782406800@www.lgs-leinefelde-worbis.de
SUMMARY:Mensch. Natur. Einklang. – Die Rhön zu Gast auf der LGS
DESCRIPTION:Die faszinierende Mittelgebirgslandschaft der Rhön steht am 25. Juni 2026 im Mittelpunkt einer Informationsveranstaltung im Rahmen der Landesgartenschau Leinefelde-Worbis 2026. Unter dem Titel „Mensch. Natur. Einklang.“ präsentiert das UNESCO-Biosphärenreservat Rhön seine natürlichen und kulturellen Besonderheiten. Mit ihren weiten\, offen wirkenden Landschaften gilt die Rhön als beliebtes Wandergebiet im Dreiländereck Bayern\, Hessen und Thüringen. Vorgestellt werden unter anderem der Fernwanderweg DER HOCHRHÖNER\, der in diesem Jahr sein 20-jähriges Jubiläum begeht\, sowie zahlreiche Tagestouren und Themenwege. Auch der international anerkannte Sternenpark Rhön mit seinem beeindruckenden Nachthimmel wird thematisiert. Darüber hinaus informiert das Biosphärenreservat über seine Tier- und Pflanzenwelt sowie über Projekte in der Modellregion für nachhaltige Entwicklung.
URL:https://www.lgs-leinefelde-worbis.de/veranstaltung/mensch-natur-einklang-die-rhoen-zu-gast-auf-der-lgs/
CATEGORIES:Vorträge
ATTACH;FMTTYPE=image/jpeg:https://www.lgs-leinefelde-worbis.de/wp-content/uploads/2026/02/Wandergruppe-Rhoen_DSC7447-Kopieren-e1771483030232.jpg
END:VEVENT
BEGIN:VEVENT
DTSTART;TZID=Europe/Berlin:20260625T120000
DTEND;TZID=Europe/Berlin:20260625T130000
DTSTAMP:20260425T164003
CREATED:20260128T063239Z
LAST-MODIFIED:20260128T075725Z
UID:10003099-1782388800-1782392400@www.lgs-leinefelde-worbis.de
SUMMARY:Kirchenpavillon lädt zum Verweilen ein
DESCRIPTION:Der ökumenische Kirchenpavillon der katholischen und evangelischen Kirchen lädt zum Verweilen\, Einkehren und Entdecken ein. Wir laden Sie ein zu unseren täglichen geistlichen Impulsen zum Thema „erdnah – himmelweit“.
URL:https://www.lgs-leinefelde-worbis.de/veranstaltung/kirchenpavillon-laedt-zum-verweilen-ein-5/2026-06-25/
ATTACH;FMTTYPE=image/jpeg:https://www.lgs-leinefelde-worbis.de/wp-content/uploads/2026/01/Logo-ErdnahHimmelweit_final-4-e1769587039528.jpg
END:VEVENT
BEGIN:VEVENT
DTSTART;TZID=Europe/Berlin:20260625T130000
DTEND;TZID=Europe/Berlin:20260625T143000
DTSTAMP:20260425T164003
CREATED:20260204T145758Z
LAST-MODIFIED:20260204T145831Z
UID:10003612-1782392400-1782397800@www.lgs-leinefelde-worbis.de
SUMMARY:Grünes Klassenzimmer: Den heimischen Tieren auf der Spur
DESCRIPTION:buchbares Kursangebot für Kindergartengruppen und Schulklassen \n\n\n\nPartner: Fachamt ÖTK\, Stadtbibliothek Leinefelde-Worbis \n\n\n\nDie Veranstaltung bietet eine Einführung in die heimische Tierwelt. Dabei lernen die Teilnehmenden\, wie sich Tiere beobachten lassen und welche Spuren sie hinterlassen. \n\n\n\nZur Buchung: https://www.lgs-leinefelde-worbis.de/veranstaltungen-uebersicht/gruenes-klassenzimmer/buchung/#/
URL:https://www.lgs-leinefelde-worbis.de/veranstaltung/gruenes-klassenzimmer-den-heimischen-tieren-auf-der-spur/2026-06-25/2/
CATEGORIES:Grünes Klassenzimmer
ATTACH;FMTTYPE=image/jpeg:https://www.lgs-leinefelde-worbis.de/wp-content/uploads/2026/02/Den-heimischen-Tieren-auf-der-Spur_Stadtbiblo-e1770217071217.jpeg
END:VEVENT
BEGIN:VEVENT
DTSTART;TZID=Europe/Berlin:20260625T150000
DTEND;TZID=Europe/Berlin:20260625T160000
DTSTAMP:20260425T164003
CREATED:20260106T143743Z
LAST-MODIFIED:20260106T143743Z
UID:10000455-1782399600-1782403200@www.lgs-leinefelde-worbis.de
SUMMARY:Eierlikör-Tasting
DESCRIPTION:Entdecken Sie die Vielfalt regionaler Eierliköre: von klassisch-cremig bis hin zu besonderen Geschmacksvariationen. Probieren Sie ausgewählte Spezialitäten aus der Umgebung und erfahren Sie Wissenswertes über Herkunft und die regionalen Besonderheiten.
URL:https://www.lgs-leinefelde-worbis.de/veranstaltung/eierlikoer-tasting/2026-06-25/2/
ATTACH;FMTTYPE=image/jpeg:https://www.lgs-leinefelde-worbis.de/wp-content/uploads/2026/01/Eierlikoerspezialitaeten-Tino-Sieland-HVE-Eichsfeld-Touristik-e.V-Kopieren-e1767710237287.jpg
END:VEVENT
BEGIN:VEVENT
DTSTART;TZID=Europe/Berlin:20260625T170000
DTEND;TZID=Europe/Berlin:20260625T180000
DTSTAMP:20260425T164003
CREATED:20260128T071531Z
LAST-MODIFIED:20260128T075504Z
UID:10003320-1782406800-1782410400@www.lgs-leinefelde-worbis.de
SUMMARY:Kirchenpavillon lädt zum Verweilen ein
DESCRIPTION:Der ökumenische Kirchenpavillon der katholischen und evangelischen Kirchen lädt zum Verweilen\, Einkehren und Entdecken ein. Wir laden Sie ein zu unseren täglichen geistlichen Impulsen zum Thema „erdnah – himmelweit“.
URL:https://www.lgs-leinefelde-worbis.de/veranstaltung/kirchenpavillon-laedt-zum-verweilen-ein-9/2026-06-25/
ATTACH;FMTTYPE=image/jpeg:https://www.lgs-leinefelde-worbis.de/wp-content/uploads/2026/01/Logo-ErdnahHimmelweit_final-e1769586897585.jpg
END:VEVENT
END:VCALENDAR