BEGIN:VCALENDAR
VERSION:2.0
PRODID:-//Landesgartenschau 2026 in Leinefelde-Worbis - ECPv6.15.20//NONSGML v1.0//EN
CALSCALE:GREGORIAN
METHOD:PUBLISH
X-ORIGINAL-URL:https://www.lgs-leinefelde-worbis.de
X-WR-CALDESC:Veranstaltungen für Landesgartenschau 2026 in Leinefelde-Worbis
REFRESH-INTERVAL;VALUE=DURATION:PT1H
X-Robots-Tag:noindex
X-PUBLISHED-TTL:PT1H
BEGIN:VTIMEZONE
TZID:Europe/Berlin
BEGIN:DAYLIGHT
TZOFFSETFROM:+0100
TZOFFSETTO:+0200
TZNAME:CEST
DTSTART:20250330T010000
END:DAYLIGHT
BEGIN:STANDARD
TZOFFSETFROM:+0200
TZOFFSETTO:+0100
TZNAME:CET
DTSTART:20251026T010000
END:STANDARD
BEGIN:DAYLIGHT
TZOFFSETFROM:+0100
TZOFFSETTO:+0200
TZNAME:CEST
DTSTART:20260329T010000
END:DAYLIGHT
BEGIN:STANDARD
TZOFFSETFROM:+0200
TZOFFSETTO:+0100
TZNAME:CET
DTSTART:20261025T010000
END:STANDARD
BEGIN:DAYLIGHT
TZOFFSETFROM:+0100
TZOFFSETTO:+0200
TZNAME:CEST
DTSTART:20270328T010000
END:DAYLIGHT
BEGIN:STANDARD
TZOFFSETFROM:+0200
TZOFFSETTO:+0100
TZNAME:CET
DTSTART:20271031T010000
END:STANDARD
END:VTIMEZONE
BEGIN:VEVENT
DTSTART;TZID=Europe/Berlin:20260702T100000
DTEND;TZID=Europe/Berlin:20260702T180000
DTSTAMP:20260426T032759
CREATED:20251107T065632Z
LAST-MODIFIED:20260126T120533Z
UID:10002705-1782986400-1783015200@www.lgs-leinefelde-worbis.de
SUMMARY:Imanuel Immergrün zu Gast bei der Landesgartenschau
DESCRIPTION:Mit einer beeindruckenden Größe von 2\,40 Metern\, farbenprächtigem Erscheinungsbild und ansteckender Lebensfreude sorgt Imanuel Immergrün für unvergessliche Momente auf dem Gelände der Landesgartenschau Leinefelde-Worbis 2026. Ausgestattet mit seiner einzigARTigen Schubkarre und einem wundersamen Garten\, entfaltet er ein fantasievolles Spiel aus Humor\, Bewegung und Natur. Ob Balanciermeinnicht oder Jongliernuss – hier blüht die Fantasie! Und wenn die Sonne brennt\, erfrischt Imanuel Pflanzen wie Menschen mit spritziger Lebensfreude. Die unterhaltsame Begegnung mit Imanuel Immergrün findet an mehreren Tagen während der Landesgartenschau statt: am 7. Mai\, 11. Juni\, 2. Juli\, 27. August und 24. September 2026. \n\n\n\nImanuel Immergrün zu Gast bei der LandesgartenschauTermine: 7. Mai\, 11. Juni\, 2. Juli\, 27. August und 24. September 2026Ort: Gelände Landesgartenschau
URL:https://www.lgs-leinefelde-worbis.de/veranstaltung/imanuel-immergruen-zu-gast-bei-der-landesgartenschau/2026-07-02/
ATTACH;FMTTYPE=image/jpeg:https://www.lgs-leinefelde-worbis.de/wp-content/uploads/2025/11/©-L.Hollmann-Immergruen-Foto-4-M.Weuthen.jpg
END:VEVENT
BEGIN:VEVENT
DTSTART;TZID=Europe/Berlin:20260702T100000
DTEND;TZID=Europe/Berlin:20260702T180000
DTSTAMP:20260426T032759
CREATED:20260218T114725Z
LAST-MODIFIED:20260218T114726Z
UID:10003818-1782986400-1783015200@www.lgs-leinefelde-worbis.de
SUMMARY:Blumenblock: Ausstellung International & Heimat
DESCRIPTION:Gestalterische Einflüsse aus verschiedenen Kulturen treffen bei dieser Ausstellung im Blumenblock (Erdgeschoss & 1. Obergeschoss) auf regionale Pflanzen\, Materialien und handwerkliche Traditionen. Die Ausstellung stellt globale Vielfalt der Floristik der lokalen Identität gegenüber und verbindet beides zu einem gemeinsamen Bild. 
URL:https://www.lgs-leinefelde-worbis.de/veranstaltung/blumenblock-ausstellung-international-heimat/2026-07-02/
CATEGORIES:Ausstellung,Blumenblock
ATTACH;FMTTYPE=image/jpeg:https://www.lgs-leinefelde-worbis.de/wp-content/uploads/2026/02/IMG_0703-rotated-e1771415230768.jpeg
END:VEVENT
BEGIN:VEVENT
DTSTART;TZID=Europe/Berlin:20260702T103000
DTEND;TZID=Europe/Berlin:20260702T120000
DTSTAMP:20260426T032759
CREATED:20260206T114200Z
LAST-MODIFIED:20260206T091913Z
UID:10003631-1782988200-1782993600@www.lgs-leinefelde-worbis.de
SUMMARY:Grünes Klassenzimmer: Wir entdecken unsere heimischen Pflanzen
DESCRIPTION:buchbares Kursangebot für Kindergartengruppen und Schulklassen \n\n\n\nPartner: Fachamt ÖTK\, Stadtbibliothek Leinefelde-Worbis \n\n\n\nDie Veranstaltung vermittelt kindgerecht Wissen über Pflanzen und Bäume. Zum Abschluss wird Kresse oder eine Blumenzwiebel eingepflanzt und zum Mitnehmen vorbereitet. \n\n\n\nZur Buchung: https://www.lgs-leinefelde-worbis.de/veranstaltungen-uebersicht/gruenes-klassenzimmer/buchung/#/
URL:https://www.lgs-leinefelde-worbis.de/veranstaltung/gruenes-klassenzimmer-wir-entdecken-unsere-heimischen-pflanzen/2026-07-02/1/
CATEGORIES:Grünes Klassenzimmer
ATTACH;FMTTYPE=image/jpeg:https://www.lgs-leinefelde-worbis.de/wp-content/uploads/2026/02/Wir-entdecken-unsere-heimischen-Pflanzen_Stadtbiblo-e1770369531501.jpeg
END:VEVENT
BEGIN:VEVENT
DTSTART;TZID=Europe/Berlin:20260702T120000
DTEND;TZID=Europe/Berlin:20260702T130000
DTSTAMP:20260426T032759
CREATED:20260128T063239Z
LAST-MODIFIED:20260128T075725Z
UID:10003106-1782993600-1782997200@www.lgs-leinefelde-worbis.de
SUMMARY:Kirchenpavillon lädt zum Verweilen ein
DESCRIPTION:Der ökumenische Kirchenpavillon der katholischen und evangelischen Kirchen lädt zum Verweilen\, Einkehren und Entdecken ein. Wir laden Sie ein zu unseren täglichen geistlichen Impulsen zum Thema „erdnah – himmelweit“.
URL:https://www.lgs-leinefelde-worbis.de/veranstaltung/kirchenpavillon-laedt-zum-verweilen-ein-5/2026-07-02/
ATTACH;FMTTYPE=image/jpeg:https://www.lgs-leinefelde-worbis.de/wp-content/uploads/2026/01/Logo-ErdnahHimmelweit_final-4-e1769587039528.jpg
END:VEVENT
BEGIN:VEVENT
DTSTART;TZID=Europe/Berlin:20260702T130000
DTEND;TZID=Europe/Berlin:20260702T143000
DTSTAMP:20260426T032759
CREATED:20260206T114200Z
LAST-MODIFIED:20260206T091913Z
UID:10003632-1782997200-1783002600@www.lgs-leinefelde-worbis.de
SUMMARY:Grünes Klassenzimmer: Wir entdecken unsere heimischen Pflanzen
DESCRIPTION:buchbares Kursangebot für Kindergartengruppen und Schulklassen \n\n\n\nPartner: Fachamt ÖTK\, Stadtbibliothek Leinefelde-Worbis \n\n\n\nDie Veranstaltung vermittelt kindgerecht Wissen über Pflanzen und Bäume. Zum Abschluss wird Kresse oder eine Blumenzwiebel eingepflanzt und zum Mitnehmen vorbereitet. \n\n\n\nZur Buchung: https://www.lgs-leinefelde-worbis.de/veranstaltungen-uebersicht/gruenes-klassenzimmer/buchung/#/
URL:https://www.lgs-leinefelde-worbis.de/veranstaltung/gruenes-klassenzimmer-wir-entdecken-unsere-heimischen-pflanzen/2026-07-02/2/
CATEGORIES:Grünes Klassenzimmer
ATTACH;FMTTYPE=image/jpeg:https://www.lgs-leinefelde-worbis.de/wp-content/uploads/2026/02/Wir-entdecken-unsere-heimischen-Pflanzen_Stadtbiblo-e1770369531501.jpeg
END:VEVENT
BEGIN:VEVENT
DTSTART;TZID=Europe/Berlin:20260702T150000
DTEND;TZID=Europe/Berlin:20260702T160000
DTSTAMP:20260426T032759
CREATED:20251107T070658Z
LAST-MODIFIED:20260227T063746Z
UID:10000291-1783004400-1783008000@www.lgs-leinefelde-worbis.de
SUMMARY:Vortrag „Vom Gartentraum zum Traumgarten“
DESCRIPTION:Im Rahmen der Landesgartenschau lädt Dr. Sabine Schroeder zu einer inspirierenden Vortragsreihe rund um die Gestaltung naturnaher Gärten ein. Der Vortrag „Vom Gartentraum zum Traumgarten“ richtet sich an alle\, die ihre Liebe zur Natur auch im eigenen Garten verwirklichen möchten – pflegeleicht\, harmonisch und individuell. Anhand persönlicher Erfahrungen zeigt Dr. Schroeder\, wie aus einem anfänglichen Gartentraum ein echter Traumgarten werden kann\, und berichtet von ihrem Weg von der Gartenanfängerin zur selbständigen Gartenplanerin.Die Vorträge finden an mehreren Terminen während der Gartenschau statt – jeweils donnerstags um 15:00 Uhr an den folgenden Tagen: 7. Mai\, 21. Mai\, 4. Juni\, 18. Juni\, 2. Juli\, 16. Juli\, 30. Juli\, 13. August\, 27. August\, 10. September\, 24. September und 8. Oktober 2026.
URL:https://www.lgs-leinefelde-worbis.de/veranstaltung/vortrag-vom-gartentraum-zum-traumgarten/2026-07-02/
ATTACH;FMTTYPE=image/jpeg:https://www.lgs-leinefelde-worbis.de/wp-content/uploads/2025/11/Traumgarten-Kopieren-e1762499165213.jpg
END:VEVENT
BEGIN:VEVENT
DTSTART;TZID=Europe/Berlin:20260702T170000
DTEND;TZID=Europe/Berlin:20260702T180000
DTSTAMP:20260426T032759
CREATED:20260128T071531Z
LAST-MODIFIED:20260128T075504Z
UID:10003327-1783011600-1783015200@www.lgs-leinefelde-worbis.de
SUMMARY:Kirchenpavillon lädt zum Verweilen ein
DESCRIPTION:Der ökumenische Kirchenpavillon der katholischen und evangelischen Kirchen lädt zum Verweilen\, Einkehren und Entdecken ein. Wir laden Sie ein zu unseren täglichen geistlichen Impulsen zum Thema „erdnah – himmelweit“.
URL:https://www.lgs-leinefelde-worbis.de/veranstaltung/kirchenpavillon-laedt-zum-verweilen-ein-9/2026-07-02/
ATTACH;FMTTYPE=image/jpeg:https://www.lgs-leinefelde-worbis.de/wp-content/uploads/2026/01/Logo-ErdnahHimmelweit_final-e1769586897585.jpg
END:VEVENT
END:VCALENDAR