BEGIN:VCALENDAR
VERSION:2.0
PRODID:-//Landesgartenschau 2026 in Leinefelde-Worbis - ECPv6.15.20//NONSGML v1.0//EN
CALSCALE:GREGORIAN
METHOD:PUBLISH
X-ORIGINAL-URL:https://www.lgs-leinefelde-worbis.de
X-WR-CALDESC:Veranstaltungen für Landesgartenschau 2026 in Leinefelde-Worbis
REFRESH-INTERVAL;VALUE=DURATION:PT1H
X-Robots-Tag:noindex
X-PUBLISHED-TTL:PT1H
BEGIN:VTIMEZONE
TZID:Europe/Berlin
BEGIN:DAYLIGHT
TZOFFSETFROM:+0100
TZOFFSETTO:+0200
TZNAME:CEST
DTSTART:20250330T010000
END:DAYLIGHT
BEGIN:STANDARD
TZOFFSETFROM:+0200
TZOFFSETTO:+0100
TZNAME:CET
DTSTART:20251026T010000
END:STANDARD
BEGIN:DAYLIGHT
TZOFFSETFROM:+0100
TZOFFSETTO:+0200
TZNAME:CEST
DTSTART:20260329T010000
END:DAYLIGHT
BEGIN:STANDARD
TZOFFSETFROM:+0200
TZOFFSETTO:+0100
TZNAME:CET
DTSTART:20261025T010000
END:STANDARD
BEGIN:DAYLIGHT
TZOFFSETFROM:+0100
TZOFFSETTO:+0200
TZNAME:CEST
DTSTART:20270328T010000
END:DAYLIGHT
BEGIN:STANDARD
TZOFFSETFROM:+0200
TZOFFSETTO:+0100
TZNAME:CET
DTSTART:20271031T010000
END:STANDARD
END:VTIMEZONE
BEGIN:VEVENT
DTSTART;TZID=Europe/Berlin:20260703T100000
DTEND;TZID=Europe/Berlin:20260703T180000
DTSTAMP:20260426T045230
CREATED:20260218T114725Z
LAST-MODIFIED:20260218T114726Z
UID:10003819-1783072800-1783101600@www.lgs-leinefelde-worbis.de
SUMMARY:Blumenblock: Ausstellung International & Heimat
DESCRIPTION:Gestalterische Einflüsse aus verschiedenen Kulturen treffen bei dieser Ausstellung im Blumenblock (Erdgeschoss & 1. Obergeschoss) auf regionale Pflanzen\, Materialien und handwerkliche Traditionen. Die Ausstellung stellt globale Vielfalt der Floristik der lokalen Identität gegenüber und verbindet beides zu einem gemeinsamen Bild. 
URL:https://www.lgs-leinefelde-worbis.de/veranstaltung/blumenblock-ausstellung-international-heimat/2026-07-03/
CATEGORIES:Ausstellung,Blumenblock
ATTACH;FMTTYPE=image/jpeg:https://www.lgs-leinefelde-worbis.de/wp-content/uploads/2026/02/IMG_0703-rotated-e1771415230768.jpeg
END:VEVENT
BEGIN:VEVENT
DTSTART;TZID=Europe/Berlin:20260703T120000
DTEND;TZID=Europe/Berlin:20260703T130000
DTSTAMP:20260426T045230
CREATED:20260128T063239Z
LAST-MODIFIED:20260128T075725Z
UID:10003107-1783080000-1783083600@www.lgs-leinefelde-worbis.de
SUMMARY:Kirchenpavillon lädt zum Verweilen ein
DESCRIPTION:Der ökumenische Kirchenpavillon der katholischen und evangelischen Kirchen lädt zum Verweilen\, Einkehren und Entdecken ein. Wir laden Sie ein zu unseren täglichen geistlichen Impulsen zum Thema „erdnah – himmelweit“.
URL:https://www.lgs-leinefelde-worbis.de/veranstaltung/kirchenpavillon-laedt-zum-verweilen-ein-5/2026-07-03/
ATTACH;FMTTYPE=image/jpeg:https://www.lgs-leinefelde-worbis.de/wp-content/uploads/2026/01/Logo-ErdnahHimmelweit_final-4-e1769587039528.jpg
END:VEVENT
BEGIN:VEVENT
DTSTART;TZID=Europe/Berlin:20260703T130000
DTEND;TZID=Europe/Berlin:20260703T160000
DTSTAMP:20260426T045230
CREATED:20260126T131540Z
LAST-MODIFIED:20260204T060902Z
UID:10002737-1783083600-1783094400@www.lgs-leinefelde-worbis.de
SUMMARY:Drehorgelnachmittag
DESCRIPTION:Freuen Sie sich auf einen fröhlichen Drehorgelnachmittag auf der Landesgartenschau. Mit beschwingten und heiteren Melodien zieht die Drehorgel durch das Gelände und schafft eine besondere\, nostalgische Atmosphäre. Die Musik lädt zum Innehalten\, Mitsummen und Verweilen ein und sorgt bei großen wie kleinen Besucherinnen und Besuchern für gute Laune. Ein musikalisches Erlebnis\, das den Spaziergang über das Gartenschaugelände auf charmante Weise begleitet.
URL:https://www.lgs-leinefelde-worbis.de/veranstaltung/drehorgelnachmittag/2026-07-03/
CATEGORIES:Musik
ATTACH;FMTTYPE=image/jpeg:https://www.lgs-leinefelde-worbis.de/wp-content/uploads/2026/01/Drehorgel-Nachmittag-e1769433329288.jpg
END:VEVENT
BEGIN:VEVENT
DTSTART;TZID=Europe/Berlin:20260703T150000
DTEND;TZID=Europe/Berlin:20260703T170000
DTSTAMP:20260426T045230
CREATED:20251119T073035Z
LAST-MODIFIED:20260227T062805Z
UID:10000357-1783090800-1783098000@www.lgs-leinefelde-worbis.de
SUMMARY:Konzert Upcyclophones & Voice
DESCRIPTION:Mehrfach Gelegenheit\, in faszinierende Klangexperimente einzutauchen\, bietet das Konzert „Upcyclophones & Voice“ im Rahmen der Landesgartenschau. An drei Terminen – 08. Mai\, 03. Juli und 04. September 2026\, jeweils um 15 Uhr – präsentiert die Leipziger Musikerin Maria Schüritz ihre außergewöhnliche Mischung aus DIY-Instrumenten und kunstvollen Vocal-Loops. \n\n\n\nMit selbstgebauten Klangkörpern wie der Nähmaschinenschubfachgitarre\, der Haarklemmenkalimba oder der Rotkreuzkastenharfe kreiert sie ungewöhnliche\, atmosphärische Soundwelten. Zwischen warmen Chören\, groovigem Soul und experimentellen Klangteppichen verbindet Schüritz eigenwillige Instrumente\, Songs und Spoken Word zu einem unverwechselbaren Musikerlebnis. Alle drei Konzerte bereichern das vielfältige Kulturprogramm der Gartenschau.
URL:https://www.lgs-leinefelde-worbis.de/veranstaltung/konzert-upcyclophones-voice/2026-07-03/
CATEGORIES:Musik
ATTACH;FMTTYPE=image/jpeg:https://www.lgs-leinefelde-worbis.de/wp-content/uploads/2025/11/2024_upcyclophones-e1763537410583.jpg
END:VEVENT
BEGIN:VEVENT
DTSTART;TZID=Europe/Berlin:20260703T160000
DTEND;TZID=Europe/Berlin:20260703T170000
DTSTAMP:20260426T045230
CREATED:20251125T143557Z
LAST-MODIFIED:20251125T143558Z
UID:10000375-1783094400-1783098000@www.lgs-leinefelde-worbis.de
SUMMARY:Mitmachprogramm für Jedermann
DESCRIPTION:Im Programm der Landesgartenschau lädt ein spezielles Mitmachangebot dazu ein\, Verspannungen sanft zu lösen und den Körper beweglicher zu machen. Unter Anleitung von Jutta Barthel entsteht eine wohltuende Einheit\, die sich gezielt Schulter-\, Nacken- und Rückenbereichen widmet. Die Übungen werden im Sitzen sowie teilweise im Stehen durchgeführt und eignen sich für Menschen jeden Alters – ein kompakter Ganzkörperimpuls für fitte Faszien und mehr Wohlbefinden. \n\n\n\nTermine (jeweils 16:00–17:00 Uhr): \n\n\n\n\n22.05.2026\n\n\n\n05.06.2026\n\n\n\n03.07.2026\n\n\n\n21.08.2026\n\n\n\n25.09.2026\n\n\n\n\nDas Angebot ergänzt das vielfältige Bewegungs- und Gesundheitsprogramm der Landesgartenschau und sorgt für eine kleine\, aber wirkungsvolle Auszeit im Alltag.
URL:https://www.lgs-leinefelde-worbis.de/veranstaltung/mitmachprogramm-fuer-jedermann/2026-07-03/
ATTACH;FMTTYPE=image/jpeg:https://www.lgs-leinefelde-worbis.de/wp-content/uploads/2025/11/sports-927762_1280.jpg
END:VEVENT
BEGIN:VEVENT
DTSTART;TZID=Europe/Berlin:20260703T170000
DTEND;TZID=Europe/Berlin:20260703T180000
DTSTAMP:20260426T045230
CREATED:20260128T071531Z
LAST-MODIFIED:20260128T075504Z
UID:10003328-1783098000-1783101600@www.lgs-leinefelde-worbis.de
SUMMARY:Kirchenpavillon lädt zum Verweilen ein
DESCRIPTION:Der ökumenische Kirchenpavillon der katholischen und evangelischen Kirchen lädt zum Verweilen\, Einkehren und Entdecken ein. Wir laden Sie ein zu unseren täglichen geistlichen Impulsen zum Thema „erdnah – himmelweit“.
URL:https://www.lgs-leinefelde-worbis.de/veranstaltung/kirchenpavillon-laedt-zum-verweilen-ein-9/2026-07-03/
ATTACH;FMTTYPE=image/jpeg:https://www.lgs-leinefelde-worbis.de/wp-content/uploads/2026/01/Logo-ErdnahHimmelweit_final-e1769586897585.jpg
END:VEVENT
END:VCALENDAR