BEGIN:VCALENDAR
VERSION:2.0
PRODID:-//Landesgartenschau 2026 in Leinefelde-Worbis - ECPv6.15.20//NONSGML v1.0//EN
CALSCALE:GREGORIAN
METHOD:PUBLISH
X-ORIGINAL-URL:https://www.lgs-leinefelde-worbis.de
X-WR-CALDESC:Veranstaltungen für Landesgartenschau 2026 in Leinefelde-Worbis
REFRESH-INTERVAL;VALUE=DURATION:PT1H
X-Robots-Tag:noindex
X-PUBLISHED-TTL:PT1H
BEGIN:VTIMEZONE
TZID:Europe/Berlin
BEGIN:DAYLIGHT
TZOFFSETFROM:+0100
TZOFFSETTO:+0200
TZNAME:CEST
DTSTART:20250330T010000
END:DAYLIGHT
BEGIN:STANDARD
TZOFFSETFROM:+0200
TZOFFSETTO:+0100
TZNAME:CET
DTSTART:20251026T010000
END:STANDARD
BEGIN:DAYLIGHT
TZOFFSETFROM:+0100
TZOFFSETTO:+0200
TZNAME:CEST
DTSTART:20260329T010000
END:DAYLIGHT
BEGIN:STANDARD
TZOFFSETFROM:+0200
TZOFFSETTO:+0100
TZNAME:CET
DTSTART:20261025T010000
END:STANDARD
BEGIN:DAYLIGHT
TZOFFSETFROM:+0100
TZOFFSETTO:+0200
TZNAME:CEST
DTSTART:20270328T010000
END:DAYLIGHT
BEGIN:STANDARD
TZOFFSETFROM:+0200
TZOFFSETTO:+0100
TZNAME:CET
DTSTART:20271031T010000
END:STANDARD
END:VTIMEZONE
BEGIN:VEVENT
DTSTART;TZID=Europe/Berlin:20260706T100000
DTEND;TZID=Europe/Berlin:20260706T150000
DTSTAMP:20260426T045104
CREATED:20260323T163846Z
LAST-MODIFIED:20260323T164227Z
UID:10004004-1783332000-1783350000@www.lgs-leinefelde-worbis.de
SUMMARY:Botanica in Originali & nachhaltige Substrate entdecken
DESCRIPTION:Am Montag\, 6. Juli 2026\, von 10.00 bis 15.00 Uhr stehen gleich zwei kreative und informative Angebote auf dem Programm. Unter dem Titel „Botanica in Originali: Pflanzendruck wie zu Reicharts Zeiten“ entstehen mit Blüten und Blättern individuelle Drucke auf Papier und Stoff. Pflanzen werden dabei zu natürlichen Druckvorlagen und hinterlassen durch verschiedene Techniken einzigartige Spuren. Ergänzend lädt ein Wimmelbild zum Ausmalen zum Mitmachen ein. \n\n\n\nIm zweiten Teil „Aus der Erde – für die Erde“ dreht sich alles um Substrate und ihre Möglichkeiten für Pflanzenwachstum und -zucht. Vorgestellt werden unterschiedliche Materialien sowie eine DIY-Anleitung zur Herstellung kompostierbarer Pflanzentöpfchen. \n\n\n\nDie Veranstaltung findet im Themengarten „Grünes Herz – Der Garten Thüringens“\, im Pavillon „Gärtnertreff Thüringen“ statt. Zuständig ist das Deutsche Gartenbaumuseum.
URL:https://www.lgs-leinefelde-worbis.de/veranstaltung/botanica-in-originali-nachhaltige-substrate-entdecken/2026-07-06/
CATEGORIES:Themengarten "Grünes Herz"
ATTACH;FMTTYPE=image/jpeg:https://www.lgs-leinefelde-worbis.de/wp-content/uploads/2026/03/green-e1774283913584.jpeg
END:VEVENT
BEGIN:VEVENT
DTSTART;TZID=Europe/Berlin:20260706T100000
DTEND;TZID=Europe/Berlin:20260706T180000
DTSTAMP:20260426T045104
CREATED:20260218T114725Z
LAST-MODIFIED:20260218T114726Z
UID:10003822-1783332000-1783360800@www.lgs-leinefelde-worbis.de
SUMMARY:Blumenblock: Ausstellung International & Heimat
DESCRIPTION:Gestalterische Einflüsse aus verschiedenen Kulturen treffen bei dieser Ausstellung im Blumenblock (Erdgeschoss & 1. Obergeschoss) auf regionale Pflanzen\, Materialien und handwerkliche Traditionen. Die Ausstellung stellt globale Vielfalt der Floristik der lokalen Identität gegenüber und verbindet beides zu einem gemeinsamen Bild. 
URL:https://www.lgs-leinefelde-worbis.de/veranstaltung/blumenblock-ausstellung-international-heimat/2026-07-06/
CATEGORIES:Ausstellung,Blumenblock
ATTACH;FMTTYPE=image/jpeg:https://www.lgs-leinefelde-worbis.de/wp-content/uploads/2026/02/IMG_0703-rotated-e1771415230768.jpeg
END:VEVENT
BEGIN:VEVENT
DTSTART;TZID=Europe/Berlin:20260706T100000
DTEND;TZID=Europe/Berlin:20260706T180000
DTSTAMP:20260426T045104
CREATED:20260331T124449Z
LAST-MODIFIED:20260331T124450Z
UID:10004103-1783332000-1783360800@www.lgs-leinefelde-worbis.de
SUMMARY:Der Harz zu Gast im Pavillon der Regionen
DESCRIPTION:Im Zeitraum vom 6. bis 12. Juli 2026 präsentiert sich der Harzer Tourismusverband im Pavillon der Regionen auf dem Gelände der Landesgartenschau Leinefelde-Worbis. Vorgestellt wird eine der vielfältigsten Mittelgebirgsregionen Deutschlands\, die mit beeindruckender Natur\, sagenumwobener Geschichte und lebendiger Tradition begeistert. Dichte Wälder\, mystische Moore\, klare Talsperren sowie der Brocken als höchste Erhebung Norddeutschlands prägen das Landschaftsbild. Historische Fachwerkstädte\, UNESCO-Welterbestätten und abwechslungsreiche Aktivangebote machen den Harz zu einem ganzjährigen Reiseziel. \n\n\n\nWährend der Präsentationswoche sind zudem wechselnde Mitausstellerinnen und Mitaussteller im Pavillon vertreten. Dazu zählen unter anderem Hotels\, lokale Tourismusorganisationen sowie Freizeitbetriebe und Veranstalter aus dem Harz. Sie informieren über individuelle Angebote – von Übernachtungsarrangements und Pauschalen über Ausflugstipps bis hin zu Veranstaltungen und regionalen Besonderheiten.
URL:https://www.lgs-leinefelde-worbis.de/veranstaltung/der-harz-zu-gast-im-pavillon-der-regionen/2026-07-06/
CATEGORIES:Pavillon der Regionen,Vorträge
ATTACH;FMTTYPE=image/jpeg:https://www.lgs-leinefelde-worbis.de/wp-content/uploads/2026/03/Torfhausmoor-c-HTV-fotoweberei-20-Kopieren-e1774961052669.jpg
END:VEVENT
BEGIN:VEVENT
DTSTART;TZID=Europe/Berlin:20260706T103000
DTEND;TZID=Europe/Berlin:20260706T120000
DTSTAMP:20260426T045104
CREATED:20260204T144247Z
LAST-MODIFIED:20260204T144248Z
UID:10003596-1783333800-1783339200@www.lgs-leinefelde-worbis.de
SUMMARY:Grünes Klassenzimmer: Schulmedizin und Heilkräuter
DESCRIPTION:buchbares Kursangebot für Kindergartengruppen und Schulklassen \n\n\n\nPartner: Altstadt-Apotheke \n\n\n\nAusgewählte Heilpflanzen wie Pfefferminze\, Kamille\, Thymian und Johanniskraut werden mit Blick auf Botanik\, Inhaltsstoffe und Anwendungsgebiete vorgestellt. Ergänzend wird der Bezug zur Schulmedizin thematisiert und eine passende Teemischung zubereitet. \n\n\n\nZur Buchung: https://www.lgs-leinefelde-worbis.de/veranstaltungen-uebersicht/gruenes-klassenzimmer/buchung/#/
URL:https://www.lgs-leinefelde-worbis.de/veranstaltung/gruenes-klassenzimmer-schulmedizin-und-heilkraeuter/2026-07-06/
CATEGORIES:Grünes Klassenzimmer
ATTACH;FMTTYPE=image/jpeg:https://www.lgs-leinefelde-worbis.de/wp-content/uploads/2026/02/Schulmedizin-Heilkraeuter_Dr.-Hentrich-e1770216157137.jpeg
END:VEVENT
BEGIN:VEVENT
DTSTART;TZID=Europe/Berlin:20260706T120000
DTEND;TZID=Europe/Berlin:20260706T130000
DTSTAMP:20260426T045104
CREATED:20260128T063239Z
LAST-MODIFIED:20260128T075725Z
UID:10003110-1783339200-1783342800@www.lgs-leinefelde-worbis.de
SUMMARY:Kirchenpavillon lädt zum Verweilen ein
DESCRIPTION:Der ökumenische Kirchenpavillon der katholischen und evangelischen Kirchen lädt zum Verweilen\, Einkehren und Entdecken ein. Wir laden Sie ein zu unseren täglichen geistlichen Impulsen zum Thema „erdnah – himmelweit“.
URL:https://www.lgs-leinefelde-worbis.de/veranstaltung/kirchenpavillon-laedt-zum-verweilen-ein-5/2026-07-06/
ATTACH;FMTTYPE=image/jpeg:https://www.lgs-leinefelde-worbis.de/wp-content/uploads/2026/01/Logo-ErdnahHimmelweit_final-4-e1769587039528.jpg
END:VEVENT
BEGIN:VEVENT
DTSTART;TZID=Europe/Berlin:20260706T130000
DTEND;TZID=Europe/Berlin:20260706T143000
DTSTAMP:20260426T045104
CREATED:20260202T141408Z
LAST-MODIFIED:20260204T060225Z
UID:10003463-1783342800-1783348200@www.lgs-leinefelde-worbis.de
SUMMARY:Grünes Klassenzimmer: Vom Leine-Schaf zur Socke
DESCRIPTION:buchbares Kursangebot für Kindergartengruppen und Schulklassen \n\n\n\nPartner: Thüringer Landfrauen e. V. Ortsverein Leinefelde-Worbis \n\n\n\nEine alte Tradition des Eichsfelds wird erlebbar gemacht – vom Schaf bis zum fertigen Strumpf. Der Weg der Schafwolle und ihre Verarbeitung bis zum Endprodukt zeigt anschaulich ein Stück regionaler Handwerkskunst\, das es lohnt\, weiterzugeben. \n\n\n\nZur Buchung: https://www.lgs-leinefelde-worbis.de/veranstaltungen-uebersicht/gruenes-klassenzimmer/buchung/#/
URL:https://www.lgs-leinefelde-worbis.de/veranstaltung/gruenes-klassenzimmer-vom-leine-schaf-zur-socke/2026-07-06/
CATEGORIES:Grünes Klassenzimmer
ATTACH;FMTTYPE=image/jpeg:https://www.lgs-leinefelde-worbis.de/wp-content/uploads/2026/02/Leine-Schaf-zur-SOcke_Landfrauen-e1770041638721.jpg
END:VEVENT
BEGIN:VEVENT
DTSTART;TZID=Europe/Berlin:20260706T160000
DTEND;TZID=Europe/Berlin:20260706T170000
DTSTAMP:20260426T045104
CREATED:20260216T060917Z
LAST-MODIFIED:20260216T060918Z
UID:10003748-1783353600-1783357200@www.lgs-leinefelde-worbis.de
SUMMARY:Kursangebot Rückenschule –Impulse für einen starken Rücken im Gartenalltag
DESCRIPTION:Wir wissen alle: Unkraut vergeht nicht\, aber die Beweglichkeit im Kreuz manchmal schon. Denn Bücken\, Heben und Tragen gehören zum Gärtnern wie die Gießkanne. Die Lösung: Gerader Rücken\, in die Knie\, wenig Gewicht – oder? Damit Ihr Kreuz nicht zum „Garten-Graus“ wird\, macht das Team von Salus Physiotherapie Leinefelde Sie fit für die Beete. In einer ca. einstündigen Einheit lernen Sie Ihre Rückenmuskulatur kennen und einzusetzen. Wir üben das richtige Heben von schweren Kübeln und zeigen Ihnen kleine Lockerungsübungen für zwischendurch. Mit Salus’ Tipps im Rücken\, können Sie sich nach jedem Unkraut bücken!
URL:https://www.lgs-leinefelde-worbis.de/veranstaltung/kursangebot-rueckenschule-impulse-fuer-einen-starken-ruecken-im-gartenalltag/2026-07-06/
CATEGORIES:Aktivitäten
ATTACH;FMTTYPE=image/jpeg:https://www.lgs-leinefelde-worbis.de/wp-content/uploads/2026/02/Rueckenschule-1-e1771222148743.jpeg
END:VEVENT
BEGIN:VEVENT
DTSTART;TZID=Europe/Berlin:20260706T170000
DTEND;TZID=Europe/Berlin:20260706T180000
DTSTAMP:20260426T045104
CREATED:20260128T071531Z
LAST-MODIFIED:20260128T075504Z
UID:10003331-1783357200-1783360800@www.lgs-leinefelde-worbis.de
SUMMARY:Kirchenpavillon lädt zum Verweilen ein
DESCRIPTION:Der ökumenische Kirchenpavillon der katholischen und evangelischen Kirchen lädt zum Verweilen\, Einkehren und Entdecken ein. Wir laden Sie ein zu unseren täglichen geistlichen Impulsen zum Thema „erdnah – himmelweit“.
URL:https://www.lgs-leinefelde-worbis.de/veranstaltung/kirchenpavillon-laedt-zum-verweilen-ein-9/2026-07-06/
ATTACH;FMTTYPE=image/jpeg:https://www.lgs-leinefelde-worbis.de/wp-content/uploads/2026/01/Logo-ErdnahHimmelweit_final-e1769586897585.jpg
END:VEVENT
END:VCALENDAR