BEGIN:VCALENDAR
VERSION:2.0
PRODID:-//Landesgartenschau 2026 in Leinefelde-Worbis - ECPv6.15.20//NONSGML v1.0//EN
CALSCALE:GREGORIAN
METHOD:PUBLISH
X-WR-CALNAME:Landesgartenschau 2026 in Leinefelde-Worbis
X-ORIGINAL-URL:https://www.lgs-leinefelde-worbis.de
X-WR-CALDESC:Veranstaltungen für Landesgartenschau 2026 in Leinefelde-Worbis
REFRESH-INTERVAL;VALUE=DURATION:PT1H
X-Robots-Tag:noindex
X-PUBLISHED-TTL:PT1H
BEGIN:VTIMEZONE
TZID:Europe/Berlin
BEGIN:DAYLIGHT
TZOFFSETFROM:+0100
TZOFFSETTO:+0200
TZNAME:CEST
DTSTART:20250330T010000
END:DAYLIGHT
BEGIN:STANDARD
TZOFFSETFROM:+0200
TZOFFSETTO:+0100
TZNAME:CET
DTSTART:20251026T010000
END:STANDARD
BEGIN:DAYLIGHT
TZOFFSETFROM:+0100
TZOFFSETTO:+0200
TZNAME:CEST
DTSTART:20260329T010000
END:DAYLIGHT
BEGIN:STANDARD
TZOFFSETFROM:+0200
TZOFFSETTO:+0100
TZNAME:CET
DTSTART:20261025T010000
END:STANDARD
BEGIN:DAYLIGHT
TZOFFSETFROM:+0100
TZOFFSETTO:+0200
TZNAME:CEST
DTSTART:20270328T010000
END:DAYLIGHT
BEGIN:STANDARD
TZOFFSETFROM:+0200
TZOFFSETTO:+0100
TZNAME:CET
DTSTART:20271031T010000
END:STANDARD
END:VTIMEZONE
BEGIN:VEVENT
DTSTART;TZID=Europe/Berlin:20260707T100000
DTEND;TZID=Europe/Berlin:20260707T150000
DTSTAMP:20260426T044850
CREATED:20260323T163846Z
LAST-MODIFIED:20260323T164227Z
UID:10004005-1783418400-1783436400@www.lgs-leinefelde-worbis.de
SUMMARY:Botanica in Originali & nachhaltige Substrate entdecken
DESCRIPTION:Am Montag\, 6. Juli 2026\, von 10.00 bis 15.00 Uhr stehen gleich zwei kreative und informative Angebote auf dem Programm. Unter dem Titel „Botanica in Originali: Pflanzendruck wie zu Reicharts Zeiten“ entstehen mit Blüten und Blättern individuelle Drucke auf Papier und Stoff. Pflanzen werden dabei zu natürlichen Druckvorlagen und hinterlassen durch verschiedene Techniken einzigartige Spuren. Ergänzend lädt ein Wimmelbild zum Ausmalen zum Mitmachen ein. \n\n\n\nIm zweiten Teil „Aus der Erde – für die Erde“ dreht sich alles um Substrate und ihre Möglichkeiten für Pflanzenwachstum und -zucht. Vorgestellt werden unterschiedliche Materialien sowie eine DIY-Anleitung zur Herstellung kompostierbarer Pflanzentöpfchen. \n\n\n\nDie Veranstaltung findet im Themengarten „Grünes Herz – Der Garten Thüringens“\, im Pavillon „Gärtnertreff Thüringen“ statt. Zuständig ist das Deutsche Gartenbaumuseum.
URL:https://www.lgs-leinefelde-worbis.de/veranstaltung/botanica-in-originali-nachhaltige-substrate-entdecken/2026-07-07/
CATEGORIES:Themengarten "Grünes Herz"
ATTACH;FMTTYPE=image/jpeg:https://www.lgs-leinefelde-worbis.de/wp-content/uploads/2026/03/green-e1774283913584.jpeg
END:VEVENT
BEGIN:VEVENT
DTSTART;TZID=Europe/Berlin:20260707T100000
DTEND;TZID=Europe/Berlin:20260707T180000
DTSTAMP:20260426T044850
CREATED:20260218T114725Z
LAST-MODIFIED:20260218T114726Z
UID:10003823-1783418400-1783447200@www.lgs-leinefelde-worbis.de
SUMMARY:Blumenblock: Ausstellung International & Heimat
DESCRIPTION:Gestalterische Einflüsse aus verschiedenen Kulturen treffen bei dieser Ausstellung im Blumenblock (Erdgeschoss & 1. Obergeschoss) auf regionale Pflanzen\, Materialien und handwerkliche Traditionen. Die Ausstellung stellt globale Vielfalt der Floristik der lokalen Identität gegenüber und verbindet beides zu einem gemeinsamen Bild. 
URL:https://www.lgs-leinefelde-worbis.de/veranstaltung/blumenblock-ausstellung-international-heimat/2026-07-07/
CATEGORIES:Ausstellung,Blumenblock
ATTACH;FMTTYPE=image/jpeg:https://www.lgs-leinefelde-worbis.de/wp-content/uploads/2026/02/IMG_0703-rotated-e1771415230768.jpeg
END:VEVENT
BEGIN:VEVENT
DTSTART;TZID=Europe/Berlin:20260707T100000
DTEND;TZID=Europe/Berlin:20260707T180000
DTSTAMP:20260426T044850
CREATED:20260331T124449Z
LAST-MODIFIED:20260331T124450Z
UID:10004104-1783418400-1783447200@www.lgs-leinefelde-worbis.de
SUMMARY:Der Harz zu Gast im Pavillon der Regionen
DESCRIPTION:Im Zeitraum vom 6. bis 12. Juli 2026 präsentiert sich der Harzer Tourismusverband im Pavillon der Regionen auf dem Gelände der Landesgartenschau Leinefelde-Worbis. Vorgestellt wird eine der vielfältigsten Mittelgebirgsregionen Deutschlands\, die mit beeindruckender Natur\, sagenumwobener Geschichte und lebendiger Tradition begeistert. Dichte Wälder\, mystische Moore\, klare Talsperren sowie der Brocken als höchste Erhebung Norddeutschlands prägen das Landschaftsbild. Historische Fachwerkstädte\, UNESCO-Welterbestätten und abwechslungsreiche Aktivangebote machen den Harz zu einem ganzjährigen Reiseziel. \n\n\n\nWährend der Präsentationswoche sind zudem wechselnde Mitausstellerinnen und Mitaussteller im Pavillon vertreten. Dazu zählen unter anderem Hotels\, lokale Tourismusorganisationen sowie Freizeitbetriebe und Veranstalter aus dem Harz. Sie informieren über individuelle Angebote – von Übernachtungsarrangements und Pauschalen über Ausflugstipps bis hin zu Veranstaltungen und regionalen Besonderheiten.
URL:https://www.lgs-leinefelde-worbis.de/veranstaltung/der-harz-zu-gast-im-pavillon-der-regionen/2026-07-07/
CATEGORIES:Pavillon der Regionen,Vorträge
ATTACH;FMTTYPE=image/jpeg:https://www.lgs-leinefelde-worbis.de/wp-content/uploads/2026/03/Torfhausmoor-c-HTV-fotoweberei-20-Kopieren-e1774961052669.jpg
END:VEVENT
BEGIN:VEVENT
DTSTART;TZID=Europe/Berlin:20260707T103000
DTEND;TZID=Europe/Berlin:20260707T120000
DTSTAMP:20260426T044850
CREATED:20260203T155100Z
LAST-MODIFIED:20260204T055741Z
UID:10003555-1783420200-1783425600@www.lgs-leinefelde-worbis.de
SUMMARY:Grünes Klassenzimmer: Die Rückkehr der drei großen Beutegreifer
DESCRIPTION:buchbares Kursangebot für Kindergartengruppen und Schulklassen \n\n\n\nPartner: Alternativer Bärenpark Worbis gGmbH \n\n\n\nBär\, Wolf und Luchs besiedeln zunehmend wieder heimische Wälder und nehmen als Beutegreifer eine wichtige Rolle im ökologischen Gleichgewicht ein. Der Kurs vermittelt Kenntnisse zur Biologie und Lebensweise dieser Tiere und beleuchtet die ökologischen Auswirkungen ihrer Rückkehr. Zudem wird die Bedeutung ihres Schutzes für den Erhalt der biologischen Vielfalt thematisiert. \n\n\n\nZur Buchung: https://www.lgs-leinefelde-worbis.de/veranstaltungen-uebersicht/gruenes-klassenzimmer/buchung/#/
URL:https://www.lgs-leinefelde-worbis.de/veranstaltung/gruenes-klassenzimmer-die-rueckkehr-der-drei-grossen-beutegreifer/2026-07-07/
CATEGORIES:Grünes Klassenzimmer
ATTACH;FMTTYPE=image/jpeg:https://www.lgs-leinefelde-worbis.de/wp-content/uploads/2026/02/Die-Rueckkehr-der-drei-grossen-Beutegreifer_BaePa-e1770105242160.jpg
END:VEVENT
BEGIN:VEVENT
DTSTART;TZID=Europe/Berlin:20260707T110000
DTEND;TZID=Europe/Berlin:20260707T130000
DTSTAMP:20260426T044850
CREATED:20251107T063321Z
LAST-MODIFIED:20251107T063322Z
UID:10000272-1783422000-1783429200@www.lgs-leinefelde-worbis.de
SUMMARY:Kurs „Kräuter im Garten“ mit dem Schaugarten Schönhagen
DESCRIPTION:Im Rahmen der Landesgartenschau Leinefelde-Worbis 2026 bietet der Schaugarten Schönhagen einen informativen Kurs rund um das Thema Kräuter an. Dabei steht Wissenswertes über die wichtigsten Gewürz- und Heilkräuter im Mittelpunkt. Kräuter gelten als wahre Schätze unter den Pflanzen – sie bereichern nicht nur die Küche\, sondern leisten auch einen wertvollen Beitrag zur Gesundheit.Der Kurs wird an zwei Terminen angeboten\, um 11:00 Uhr und 14:00 Uhr. \n\n\n\nKurs „Kräuter im Garten“ mit dem Schaugarten SchönhagenDienstag\, 7. Juli 2026\, um 11:00 Uhr und 14:00 UhrOrt: Gelände der Landesgartenschau Leinefelde-Worbis
URL:https://www.lgs-leinefelde-worbis.de/veranstaltung/kurs-kraeuter-im-garten-mit-dem-schaugarten-schoenhagen/2026-07-07/1/
ATTACH;FMTTYPE=image/jpeg:https://www.lgs-leinefelde-worbis.de/wp-content/uploads/2025/11/Kraeuterspirale.jpg
END:VEVENT
BEGIN:VEVENT
DTSTART;TZID=Europe/Berlin:20260707T120000
DTEND;TZID=Europe/Berlin:20260707T130000
DTSTAMP:20260426T044850
CREATED:20260128T063239Z
LAST-MODIFIED:20260128T075725Z
UID:10003111-1783425600-1783429200@www.lgs-leinefelde-worbis.de
SUMMARY:Kirchenpavillon lädt zum Verweilen ein
DESCRIPTION:Der ökumenische Kirchenpavillon der katholischen und evangelischen Kirchen lädt zum Verweilen\, Einkehren und Entdecken ein. Wir laden Sie ein zu unseren täglichen geistlichen Impulsen zum Thema „erdnah – himmelweit“.
URL:https://www.lgs-leinefelde-worbis.de/veranstaltung/kirchenpavillon-laedt-zum-verweilen-ein-5/2026-07-07/
ATTACH;FMTTYPE=image/jpeg:https://www.lgs-leinefelde-worbis.de/wp-content/uploads/2026/01/Logo-ErdnahHimmelweit_final-4-e1769587039528.jpg
END:VEVENT
BEGIN:VEVENT
DTSTART;TZID=Europe/Berlin:20260707T140000
DTEND;TZID=Europe/Berlin:20260707T160000
DTSTAMP:20260426T044850
CREATED:20251107T063321Z
LAST-MODIFIED:20251107T063322Z
UID:10000273-1783432800-1783440000@www.lgs-leinefelde-worbis.de
SUMMARY:Kurs „Kräuter im Garten“ mit dem Schaugarten Schönhagen
DESCRIPTION:Im Rahmen der Landesgartenschau Leinefelde-Worbis 2026 bietet der Schaugarten Schönhagen einen informativen Kurs rund um das Thema Kräuter an. Dabei steht Wissenswertes über die wichtigsten Gewürz- und Heilkräuter im Mittelpunkt. Kräuter gelten als wahre Schätze unter den Pflanzen – sie bereichern nicht nur die Küche\, sondern leisten auch einen wertvollen Beitrag zur Gesundheit.Der Kurs wird an zwei Terminen angeboten\, um 11:00 Uhr und 14:00 Uhr. \n\n\n\nKurs „Kräuter im Garten“ mit dem Schaugarten SchönhagenDienstag\, 7. Juli 2026\, um 11:00 Uhr und 14:00 UhrOrt: Gelände der Landesgartenschau Leinefelde-Worbis
URL:https://www.lgs-leinefelde-worbis.de/veranstaltung/kurs-kraeuter-im-garten-mit-dem-schaugarten-schoenhagen/2026-07-07/2/
ATTACH;FMTTYPE=image/jpeg:https://www.lgs-leinefelde-worbis.de/wp-content/uploads/2025/11/Kraeuterspirale.jpg
END:VEVENT
BEGIN:VEVENT
DTSTART;TZID=Europe/Berlin:20260707T160000
DTEND;TZID=Europe/Berlin:20260707T170000
DTSTAMP:20260426T044850
CREATED:20251117T102147Z
LAST-MODIFIED:20260227T084154Z
UID:10003930-1783440000-1783443600@www.lgs-leinefelde-worbis.de
SUMMARY:Kursangebot: Hula-Hoop – Bewegung\, Leichtigkeit & Rhythmus
DESCRIPTION:Im Rahmen der Landesgartenschau lädt ein Hula-Hoop-Kurs zu Bewegung mit Leichtigkeit und Rhythmus ein. In fließenden Bewegungen und ohne Leistungsdruck werden Rücken\, Core und Koordination gestärkt. Mit Musik\, Spaß und rhythmischen Übungen entsteht eine kleine Auszeit voller Energie und Lebensfreude. \n\n\n\nDie Kurseinheiten finden an folgenden Terminen jeweils um 16:00 Uhr statt: 06.10.; 05.05.; 19.05.; 02.06.; 16.06.; 07.07.; 21.07.; 04.08.; 18.08.; 01.09. und 15.09.2026
URL:https://www.lgs-leinefelde-worbis.de/veranstaltung/kursangebot-hula-hoop-bewegung-leichtigkeit-rhythmus/2026-07-07/
CATEGORIES:Aktivitäten
ATTACH;FMTTYPE=image/jpeg:https://www.lgs-leinefelde-worbis.de/wp-content/uploads/2025/11/woman-exercising-with-hula-hoop-circle-Kopieren.jpg
END:VEVENT
BEGIN:VEVENT
DTSTART;TZID=Europe/Berlin:20260707T170000
DTEND;TZID=Europe/Berlin:20260707T180000
DTSTAMP:20260426T044850
CREATED:20260128T071531Z
LAST-MODIFIED:20260128T075504Z
UID:10003332-1783443600-1783447200@www.lgs-leinefelde-worbis.de
SUMMARY:Kirchenpavillon lädt zum Verweilen ein
DESCRIPTION:Der ökumenische Kirchenpavillon der katholischen und evangelischen Kirchen lädt zum Verweilen\, Einkehren und Entdecken ein. Wir laden Sie ein zu unseren täglichen geistlichen Impulsen zum Thema „erdnah – himmelweit“.
URL:https://www.lgs-leinefelde-worbis.de/veranstaltung/kirchenpavillon-laedt-zum-verweilen-ein-9/2026-07-07/
ATTACH;FMTTYPE=image/jpeg:https://www.lgs-leinefelde-worbis.de/wp-content/uploads/2026/01/Logo-ErdnahHimmelweit_final-e1769586897585.jpg
END:VEVENT
END:VCALENDAR