BEGIN:VCALENDAR
VERSION:2.0
PRODID:-//Landesgartenschau 2026 in Leinefelde-Worbis - ECPv6.15.20//NONSGML v1.0//EN
CALSCALE:GREGORIAN
METHOD:PUBLISH
X-ORIGINAL-URL:https://www.lgs-leinefelde-worbis.de
X-WR-CALDESC:Veranstaltungen für Landesgartenschau 2026 in Leinefelde-Worbis
REFRESH-INTERVAL;VALUE=DURATION:PT1H
X-Robots-Tag:noindex
X-PUBLISHED-TTL:PT1H
BEGIN:VTIMEZONE
TZID:Europe/Berlin
BEGIN:DAYLIGHT
TZOFFSETFROM:+0100
TZOFFSETTO:+0200
TZNAME:CEST
DTSTART:20250330T010000
END:DAYLIGHT
BEGIN:STANDARD
TZOFFSETFROM:+0200
TZOFFSETTO:+0100
TZNAME:CET
DTSTART:20251026T010000
END:STANDARD
BEGIN:DAYLIGHT
TZOFFSETFROM:+0100
TZOFFSETTO:+0200
TZNAME:CEST
DTSTART:20260329T010000
END:DAYLIGHT
BEGIN:STANDARD
TZOFFSETFROM:+0200
TZOFFSETTO:+0100
TZNAME:CET
DTSTART:20261025T010000
END:STANDARD
BEGIN:DAYLIGHT
TZOFFSETFROM:+0100
TZOFFSETTO:+0200
TZNAME:CEST
DTSTART:20270328T010000
END:DAYLIGHT
BEGIN:STANDARD
TZOFFSETFROM:+0200
TZOFFSETTO:+0100
TZNAME:CET
DTSTART:20271031T010000
END:STANDARD
END:VTIMEZONE
BEGIN:VEVENT
DTSTART;TZID=Europe/Berlin:20260708T100000
DTEND;TZID=Europe/Berlin:20260708T150000
DTSTAMP:20260426T045053
CREATED:20260323T163846Z
LAST-MODIFIED:20260323T164227Z
UID:10004006-1783504800-1783522800@www.lgs-leinefelde-worbis.de
SUMMARY:Botanica in Originali & nachhaltige Substrate entdecken
DESCRIPTION:Am Montag\, 6. Juli 2026\, von 10.00 bis 15.00 Uhr stehen gleich zwei kreative und informative Angebote auf dem Programm. Unter dem Titel „Botanica in Originali: Pflanzendruck wie zu Reicharts Zeiten“ entstehen mit Blüten und Blättern individuelle Drucke auf Papier und Stoff. Pflanzen werden dabei zu natürlichen Druckvorlagen und hinterlassen durch verschiedene Techniken einzigartige Spuren. Ergänzend lädt ein Wimmelbild zum Ausmalen zum Mitmachen ein. \n\n\n\nIm zweiten Teil „Aus der Erde – für die Erde“ dreht sich alles um Substrate und ihre Möglichkeiten für Pflanzenwachstum und -zucht. Vorgestellt werden unterschiedliche Materialien sowie eine DIY-Anleitung zur Herstellung kompostierbarer Pflanzentöpfchen. \n\n\n\nDie Veranstaltung findet im Themengarten „Grünes Herz – Der Garten Thüringens“\, im Pavillon „Gärtnertreff Thüringen“ statt. Zuständig ist das Deutsche Gartenbaumuseum.
URL:https://www.lgs-leinefelde-worbis.de/veranstaltung/botanica-in-originali-nachhaltige-substrate-entdecken/2026-07-08/
CATEGORIES:Themengarten "Grünes Herz"
ATTACH;FMTTYPE=image/jpeg:https://www.lgs-leinefelde-worbis.de/wp-content/uploads/2026/03/green-e1774283913584.jpeg
END:VEVENT
BEGIN:VEVENT
DTSTART;TZID=Europe/Berlin:20260708T100000
DTEND;TZID=Europe/Berlin:20260708T180000
DTSTAMP:20260426T045053
CREATED:20260218T114725Z
LAST-MODIFIED:20260218T114726Z
UID:10003824-1783504800-1783533600@www.lgs-leinefelde-worbis.de
SUMMARY:Blumenblock: Ausstellung International & Heimat
DESCRIPTION:Gestalterische Einflüsse aus verschiedenen Kulturen treffen bei dieser Ausstellung im Blumenblock (Erdgeschoss & 1. Obergeschoss) auf regionale Pflanzen\, Materialien und handwerkliche Traditionen. Die Ausstellung stellt globale Vielfalt der Floristik der lokalen Identität gegenüber und verbindet beides zu einem gemeinsamen Bild. 
URL:https://www.lgs-leinefelde-worbis.de/veranstaltung/blumenblock-ausstellung-international-heimat/2026-07-08/
CATEGORIES:Ausstellung,Blumenblock
ATTACH;FMTTYPE=image/jpeg:https://www.lgs-leinefelde-worbis.de/wp-content/uploads/2026/02/IMG_0703-rotated-e1771415230768.jpeg
END:VEVENT
BEGIN:VEVENT
DTSTART;TZID=Europe/Berlin:20260708T100000
DTEND;TZID=Europe/Berlin:20260708T180000
DTSTAMP:20260426T045053
CREATED:20260331T124449Z
LAST-MODIFIED:20260331T124450Z
UID:10004105-1783504800-1783533600@www.lgs-leinefelde-worbis.de
SUMMARY:Der Harz zu Gast im Pavillon der Regionen
DESCRIPTION:Im Zeitraum vom 6. bis 12. Juli 2026 präsentiert sich der Harzer Tourismusverband im Pavillon der Regionen auf dem Gelände der Landesgartenschau Leinefelde-Worbis. Vorgestellt wird eine der vielfältigsten Mittelgebirgsregionen Deutschlands\, die mit beeindruckender Natur\, sagenumwobener Geschichte und lebendiger Tradition begeistert. Dichte Wälder\, mystische Moore\, klare Talsperren sowie der Brocken als höchste Erhebung Norddeutschlands prägen das Landschaftsbild. Historische Fachwerkstädte\, UNESCO-Welterbestätten und abwechslungsreiche Aktivangebote machen den Harz zu einem ganzjährigen Reiseziel. \n\n\n\nWährend der Präsentationswoche sind zudem wechselnde Mitausstellerinnen und Mitaussteller im Pavillon vertreten. Dazu zählen unter anderem Hotels\, lokale Tourismusorganisationen sowie Freizeitbetriebe und Veranstalter aus dem Harz. Sie informieren über individuelle Angebote – von Übernachtungsarrangements und Pauschalen über Ausflugstipps bis hin zu Veranstaltungen und regionalen Besonderheiten.
URL:https://www.lgs-leinefelde-worbis.de/veranstaltung/der-harz-zu-gast-im-pavillon-der-regionen/2026-07-08/
CATEGORIES:Pavillon der Regionen,Vorträge
ATTACH;FMTTYPE=image/jpeg:https://www.lgs-leinefelde-worbis.de/wp-content/uploads/2026/03/Torfhausmoor-c-HTV-fotoweberei-20-Kopieren-e1774961052669.jpg
END:VEVENT
BEGIN:VEVENT
DTSTART;TZID=Europe/Berlin:20260708T103000
DTEND;TZID=Europe/Berlin:20260708T120000
DTSTAMP:20260426T045053
CREATED:20260208T153756Z
LAST-MODIFIED:20260208T153756Z
UID:10003666-1783506600-1783512000@www.lgs-leinefelde-worbis.de
SUMMARY:Grünes Klassenzimmer: Wasser und das Leben im Gewässer
DESCRIPTION:buchbares Kursangebot für Kindergartengruppen und Schulklassen \n\n\n\nPartner: Naturpark Eichsfeld-Hainich-Werratal \n\n\n\nDer Workshop vermittelt Wissen über verschiedene Gewässertypen sowie deren typische Tier- und Pflanzenarten. Anschließend wird der Bach mit Keschern\, Bestimmungshilfen und Beobachtungsbögen untersucht. Dabei wird deutlich\, welche Bedeutung saubere Gewässer für die Natur haben. \n\n\n\nZur Buchung: https://www.lgs-leinefelde-worbis.de/veranstaltungen-uebersicht/gruenes-klassenzimmer/buchung/#/
URL:https://www.lgs-leinefelde-worbis.de/veranstaltung/gruenes-klassenzimmer-wasser-und-das-leben-im-gewaesser/2026-07-08/1/
CATEGORIES:Grünes Klassenzimmer
ATTACH;FMTTYPE=image/jpeg:https://www.lgs-leinefelde-worbis.de/wp-content/uploads/2026/02/Wasser-und-das-Leben-im-Gewaesser_Naturpark_E-H-W-1-e1770565064299.jpg
END:VEVENT
BEGIN:VEVENT
DTSTART;TZID=Europe/Berlin:20260708T110000
DTEND;TZID=Europe/Berlin:20260708T140000
DTSTAMP:20260426T045053
CREATED:20251027T130316Z
LAST-MODIFIED:20260204T062653Z
UID:10000221-1783508400-1783519200@www.lgs-leinefelde-worbis.de
SUMMARY:Mitmachtanz - Seniorentanz
DESCRIPTION:Bewegung\, Musik und Gemeinschaft stehen hier im Mittelpunkt! Beim Mitmachtanz für Seniorinnen und Senioren werden einfache Tänze zu beschwingter Musik getanzt – allein\, zu zweit oder in der Gruppe. Die Bewegungen sind leicht erlernbar und fördern Gleichgewicht\, Koordination und Lebensfreude. Ganz ohne Leistungsdruck – einfach mitmachen\, Spaß haben und in Bewegung bleiben! \n\n\n\nAlle Termine im Überblick: \n\n\n\n29.04.; 20.05.; 03.06.; 08.07.; 12.08; 02.09.; 07.10.2026 jeweils um 11:00 und um 14:00 Uhr.
URL:https://www.lgs-leinefelde-worbis.de/veranstaltung/mitmachtanz-seniorentanz/2026-07-08/
CATEGORIES:Aktivitäten,Musik
ATTACH;FMTTYPE=image/jpeg:https://www.lgs-leinefelde-worbis.de/wp-content/uploads/2025/10/high-angle-view-carefree-senior-couple-having-fun-while-dancing-home-Gross.jpg
END:VEVENT
BEGIN:VEVENT
DTSTART;TZID=Europe/Berlin:20260708T120000
DTEND;TZID=Europe/Berlin:20260708T130000
DTSTAMP:20260426T045053
CREATED:20260128T063239Z
LAST-MODIFIED:20260128T075725Z
UID:10003112-1783512000-1783515600@www.lgs-leinefelde-worbis.de
SUMMARY:Kirchenpavillon lädt zum Verweilen ein
DESCRIPTION:Der ökumenische Kirchenpavillon der katholischen und evangelischen Kirchen lädt zum Verweilen\, Einkehren und Entdecken ein. Wir laden Sie ein zu unseren täglichen geistlichen Impulsen zum Thema „erdnah – himmelweit“.
URL:https://www.lgs-leinefelde-worbis.de/veranstaltung/kirchenpavillon-laedt-zum-verweilen-ein-5/2026-07-08/
ATTACH;FMTTYPE=image/jpeg:https://www.lgs-leinefelde-worbis.de/wp-content/uploads/2026/01/Logo-ErdnahHimmelweit_final-4-e1769587039528.jpg
END:VEVENT
BEGIN:VEVENT
DTSTART;TZID=Europe/Berlin:20260708T130000
DTEND;TZID=Europe/Berlin:20260708T143000
DTSTAMP:20260426T045053
CREATED:20260203T151900Z
LAST-MODIFIED:20260204T055945Z
UID:10003516-1783515600-1783521000@www.lgs-leinefelde-worbis.de
SUMMARY:Grünes Klassenzimmer: Die Welt der Bienen entdecken
DESCRIPTION:buchbares Kursangebot für Kindergartengruppen und Schulklassen \n\n\n\nPartner: Eichsfelder Imkerverein e. V. \n\n\n\nDas Angebot vermittelt grundlegendes Wissen über die Bedeutung der Honigbiene für die Natur. Themen wie das Leben im Bienenstock\, die Aufgabenverteilung im Volk und die Arbeit eines Imkers werden anschaulich und interaktiv aufgegriffen. Ein besonderes Highlight ist die Beobachtung lebender Bienen in einem Schaukasten\, die einen direkten Zugang zur faszinierenden Welt dieser wichtigen Bestäuber ermöglicht. \n\n\n\nZur Buchung: https://www.lgs-leinefelde-worbis.de/veranstaltungen-uebersicht/gruenes-klassenzimmer/buchung/#/
URL:https://www.lgs-leinefelde-worbis.de/veranstaltung/gruenes-klassenzimmer-die-welt-der-bienen-entdecken/2026-07-08/
CATEGORIES:Grünes Klassenzimmer
ATTACH;FMTTYPE=image/jpeg:https://www.lgs-leinefelde-worbis.de/wp-content/uploads/2026/02/Die-Welt-der-Bienen-entdecken_Eichsfelder-Imkerverein-e.V-e1770103572110.jpeg
END:VEVENT
BEGIN:VEVENT
DTSTART;TZID=Europe/Berlin:20260708T130000
DTEND;TZID=Europe/Berlin:20260708T143000
DTSTAMP:20260426T045053
CREATED:20260208T153756Z
LAST-MODIFIED:20260208T153756Z
UID:10003667-1783515600-1783521000@www.lgs-leinefelde-worbis.de
SUMMARY:Grünes Klassenzimmer: Wasser und das Leben im Gewässer
DESCRIPTION:buchbares Kursangebot für Kindergartengruppen und Schulklassen \n\n\n\nPartner: Naturpark Eichsfeld-Hainich-Werratal \n\n\n\nDer Workshop vermittelt Wissen über verschiedene Gewässertypen sowie deren typische Tier- und Pflanzenarten. Anschließend wird der Bach mit Keschern\, Bestimmungshilfen und Beobachtungsbögen untersucht. Dabei wird deutlich\, welche Bedeutung saubere Gewässer für die Natur haben. \n\n\n\nZur Buchung: https://www.lgs-leinefelde-worbis.de/veranstaltungen-uebersicht/gruenes-klassenzimmer/buchung/#/
URL:https://www.lgs-leinefelde-worbis.de/veranstaltung/gruenes-klassenzimmer-wasser-und-das-leben-im-gewaesser/2026-07-08/2/
CATEGORIES:Grünes Klassenzimmer
ATTACH;FMTTYPE=image/jpeg:https://www.lgs-leinefelde-worbis.de/wp-content/uploads/2026/02/Wasser-und-das-Leben-im-Gewaesser_Naturpark_E-H-W-1-e1770565064299.jpg
END:VEVENT
BEGIN:VEVENT
DTSTART;TZID=Europe/Berlin:20260708T153000
DTEND;TZID=Europe/Berlin:20260708T180000
DTSTAMP:20260426T045053
CREATED:20251027T105519Z
LAST-MODIFIED:20260204T063928Z
UID:10000169-1783524600-1783533600@www.lgs-leinefelde-worbis.de
SUMMARY:Spielenachmittag
DESCRIPTION:Freut euch auf einen unterhaltsamen Spielenachmittag für Groß und Klein! Gemeinsam entdecken wir liebevoll gestaltete Holzspiele. Ob Klassiker oder neue Spielideen – hier ist für jeden etwas dabei. Kommt vorbei\, spielt mit und erlebt einen entspannten Nachmittag voller Spaß\, Geschick und Gemeinschaft!
URL:https://www.lgs-leinefelde-worbis.de/veranstaltung/spielenachmittag-3/2026-07-08/
CATEGORIES:Aktivitäten
ATTACH;FMTTYPE=image/jpeg:https://www.lgs-leinefelde-worbis.de/wp-content/uploads/2025/10/taking-out-brick-Gross-e1761562508192.jpg
END:VEVENT
BEGIN:VEVENT
DTSTART;TZID=Europe/Berlin:20260708T160000
DTEND;TZID=Europe/Berlin:20260708T164500
DTSTAMP:20260426T045053
CREATED:20260411T130331Z
LAST-MODIFIED:20260411T130332Z
UID:10004130-1783526400-1783529100@www.lgs-leinefelde-worbis.de
SUMMARY:Kochkurs bei der Landesgartenschau
DESCRIPTION:Im Rahmen der Landesgartenschau dreht sich bei diesem Kochkurs alles um frische\, saisonale Zutaten und die Freude am gemeinsamen Zubereiten. Inspiriert von der Natur und der Vielfalt regionaler Produkte entstehen einfache\, kreative Gerichte\, die sich gut in den Alltag integrieren lassen. Der Kochkurs richtet sich an Einsteiger ebenso wie an Hobbyköche. Im Mittelpunkt stehen das Ausprobieren neuer Rezepte\, das Kennenlernen verschiedener Zubereitungstechniken und das harmonische Zusammenspiel unterschiedlicher Aromen. In entspannter Atmosphäre lädt das Angebot dazu ein\, gemeinsam zu kochen und die kulinarische Seite der Landesgartenschau zu entdecken.
URL:https://www.lgs-leinefelde-worbis.de/veranstaltung/kochkurs-bei-der-landesgartenschau/2026-07-08/
ATTACH;FMTTYPE=image/jpeg:https://www.lgs-leinefelde-worbis.de/wp-content/uploads/2026/04/Kochkurs-e1775912589839.jpg
END:VEVENT
BEGIN:VEVENT
DTSTART;TZID=Europe/Berlin:20260708T170000
DTEND;TZID=Europe/Berlin:20260708T180000
DTSTAMP:20260426T045053
CREATED:20260128T071531Z
LAST-MODIFIED:20260128T075504Z
UID:10003333-1783530000-1783533600@www.lgs-leinefelde-worbis.de
SUMMARY:Kirchenpavillon lädt zum Verweilen ein
DESCRIPTION:Der ökumenische Kirchenpavillon der katholischen und evangelischen Kirchen lädt zum Verweilen\, Einkehren und Entdecken ein. Wir laden Sie ein zu unseren täglichen geistlichen Impulsen zum Thema „erdnah – himmelweit“.
URL:https://www.lgs-leinefelde-worbis.de/veranstaltung/kirchenpavillon-laedt-zum-verweilen-ein-9/2026-07-08/
ATTACH;FMTTYPE=image/jpeg:https://www.lgs-leinefelde-worbis.de/wp-content/uploads/2026/01/Logo-ErdnahHimmelweit_final-e1769586897585.jpg
END:VEVENT
BEGIN:VEVENT
DTSTART;TZID=Europe/Berlin:20260708T170000
DTEND;TZID=Europe/Berlin:20260708T181500
DTSTAMP:20260426T045053
CREATED:20251027T110243Z
LAST-MODIFIED:20260107T085019Z
UID:10000321-1783530000-1783534500@www.lgs-leinefelde-worbis.de
SUMMARY:BeSinnung durch Lauschen und Spüren von Klängen
DESCRIPTION:Diese Veranstaltung lädt zu einer Stunde der Entspannung und inneren Ruhe ein. Mit dem Klang von Klangschalen und weiteren Instrumenten entsteht eine meditative Atmosphäre\, die zum Innehalten und bewussten Wahrnehmen anregt. Die Teilnehmerinnen und Teilnehmer können sich auf eine wohltuende Auszeit freuen\, in der Körper und Geist zur Ruhe kommen und die harmonischen Schwingungen der Klänge erlebt werden können.  \n\n\n\nKursleitung: Franziska Herzberg (Ergotherapeutin\, zertifizierte Peter Hess®-Klangschalenpraktikerin)Termine: 29.04.\, 20.05.\, 10.06.\, 08.07.\, 05.08.\, 26.08.\, 16.09. und 30.09.2026Mehr Infos zum Angebot: https://mitherzundklang.com/
URL:https://www.lgs-leinefelde-worbis.de/veranstaltung/klaenge/2026-07-08/
ATTACH;FMTTYPE=image/jpeg:https://www.lgs-leinefelde-worbis.de/wp-content/uploads/2025/10/young-person-enjoying-yoga-retreat.jpg
END:VEVENT
END:VCALENDAR