BEGIN:VCALENDAR
VERSION:2.0
PRODID:-//Landesgartenschau 2026 in Leinefelde-Worbis - ECPv6.15.20//NONSGML v1.0//EN
CALSCALE:GREGORIAN
METHOD:PUBLISH
X-ORIGINAL-URL:https://www.lgs-leinefelde-worbis.de
X-WR-CALDESC:Veranstaltungen für Landesgartenschau 2026 in Leinefelde-Worbis
REFRESH-INTERVAL;VALUE=DURATION:PT1H
X-Robots-Tag:noindex
X-PUBLISHED-TTL:PT1H
BEGIN:VTIMEZONE
TZID:Europe/Berlin
BEGIN:DAYLIGHT
TZOFFSETFROM:+0100
TZOFFSETTO:+0200
TZNAME:CEST
DTSTART:20250330T010000
END:DAYLIGHT
BEGIN:STANDARD
TZOFFSETFROM:+0200
TZOFFSETTO:+0100
TZNAME:CET
DTSTART:20251026T010000
END:STANDARD
BEGIN:DAYLIGHT
TZOFFSETFROM:+0100
TZOFFSETTO:+0200
TZNAME:CEST
DTSTART:20260329T010000
END:DAYLIGHT
BEGIN:STANDARD
TZOFFSETFROM:+0200
TZOFFSETTO:+0100
TZNAME:CET
DTSTART:20261025T010000
END:STANDARD
BEGIN:DAYLIGHT
TZOFFSETFROM:+0100
TZOFFSETTO:+0200
TZNAME:CEST
DTSTART:20270328T010000
END:DAYLIGHT
BEGIN:STANDARD
TZOFFSETFROM:+0200
TZOFFSETTO:+0100
TZNAME:CET
DTSTART:20271031T010000
END:STANDARD
END:VTIMEZONE
BEGIN:VEVENT
DTSTART;TZID=Europe/Berlin:20260709T100000
DTEND;TZID=Europe/Berlin:20260709T150000
DTSTAMP:20260426T050249
CREATED:20260323T163846Z
LAST-MODIFIED:20260323T164227Z
UID:10004007-1783591200-1783609200@www.lgs-leinefelde-worbis.de
SUMMARY:Botanica in Originali & nachhaltige Substrate entdecken
DESCRIPTION:Am Montag\, 6. Juli 2026\, von 10.00 bis 15.00 Uhr stehen gleich zwei kreative und informative Angebote auf dem Programm. Unter dem Titel „Botanica in Originali: Pflanzendruck wie zu Reicharts Zeiten“ entstehen mit Blüten und Blättern individuelle Drucke auf Papier und Stoff. Pflanzen werden dabei zu natürlichen Druckvorlagen und hinterlassen durch verschiedene Techniken einzigartige Spuren. Ergänzend lädt ein Wimmelbild zum Ausmalen zum Mitmachen ein. \n\n\n\nIm zweiten Teil „Aus der Erde – für die Erde“ dreht sich alles um Substrate und ihre Möglichkeiten für Pflanzenwachstum und -zucht. Vorgestellt werden unterschiedliche Materialien sowie eine DIY-Anleitung zur Herstellung kompostierbarer Pflanzentöpfchen. \n\n\n\nDie Veranstaltung findet im Themengarten „Grünes Herz – Der Garten Thüringens“\, im Pavillon „Gärtnertreff Thüringen“ statt. Zuständig ist das Deutsche Gartenbaumuseum.
URL:https://www.lgs-leinefelde-worbis.de/veranstaltung/botanica-in-originali-nachhaltige-substrate-entdecken/2026-07-09/
CATEGORIES:Themengarten "Grünes Herz"
ATTACH;FMTTYPE=image/jpeg:https://www.lgs-leinefelde-worbis.de/wp-content/uploads/2026/03/green-e1774283913584.jpeg
END:VEVENT
BEGIN:VEVENT
DTSTART;TZID=Europe/Berlin:20260709T100000
DTEND;TZID=Europe/Berlin:20260709T180000
DTSTAMP:20260426T050249
CREATED:20260218T114725Z
LAST-MODIFIED:20260218T114726Z
UID:10003825-1783591200-1783620000@www.lgs-leinefelde-worbis.de
SUMMARY:Blumenblock: Ausstellung International & Heimat
DESCRIPTION:Gestalterische Einflüsse aus verschiedenen Kulturen treffen bei dieser Ausstellung im Blumenblock (Erdgeschoss & 1. Obergeschoss) auf regionale Pflanzen\, Materialien und handwerkliche Traditionen. Die Ausstellung stellt globale Vielfalt der Floristik der lokalen Identität gegenüber und verbindet beides zu einem gemeinsamen Bild. 
URL:https://www.lgs-leinefelde-worbis.de/veranstaltung/blumenblock-ausstellung-international-heimat/2026-07-09/
CATEGORIES:Ausstellung,Blumenblock
ATTACH;FMTTYPE=image/jpeg:https://www.lgs-leinefelde-worbis.de/wp-content/uploads/2026/02/IMG_0703-rotated-e1771415230768.jpeg
END:VEVENT
BEGIN:VEVENT
DTSTART;TZID=Europe/Berlin:20260709T100000
DTEND;TZID=Europe/Berlin:20260709T180000
DTSTAMP:20260426T050249
CREATED:20260331T124449Z
LAST-MODIFIED:20260331T124450Z
UID:10004106-1783591200-1783620000@www.lgs-leinefelde-worbis.de
SUMMARY:Der Harz zu Gast im Pavillon der Regionen
DESCRIPTION:Im Zeitraum vom 6. bis 12. Juli 2026 präsentiert sich der Harzer Tourismusverband im Pavillon der Regionen auf dem Gelände der Landesgartenschau Leinefelde-Worbis. Vorgestellt wird eine der vielfältigsten Mittelgebirgsregionen Deutschlands\, die mit beeindruckender Natur\, sagenumwobener Geschichte und lebendiger Tradition begeistert. Dichte Wälder\, mystische Moore\, klare Talsperren sowie der Brocken als höchste Erhebung Norddeutschlands prägen das Landschaftsbild. Historische Fachwerkstädte\, UNESCO-Welterbestätten und abwechslungsreiche Aktivangebote machen den Harz zu einem ganzjährigen Reiseziel. \n\n\n\nWährend der Präsentationswoche sind zudem wechselnde Mitausstellerinnen und Mitaussteller im Pavillon vertreten. Dazu zählen unter anderem Hotels\, lokale Tourismusorganisationen sowie Freizeitbetriebe und Veranstalter aus dem Harz. Sie informieren über individuelle Angebote – von Übernachtungsarrangements und Pauschalen über Ausflugstipps bis hin zu Veranstaltungen und regionalen Besonderheiten.
URL:https://www.lgs-leinefelde-worbis.de/veranstaltung/der-harz-zu-gast-im-pavillon-der-regionen/2026-07-09/
CATEGORIES:Pavillon der Regionen,Vorträge
ATTACH;FMTTYPE=image/jpeg:https://www.lgs-leinefelde-worbis.de/wp-content/uploads/2026/03/Torfhausmoor-c-HTV-fotoweberei-20-Kopieren-e1774961052669.jpg
END:VEVENT
BEGIN:VEVENT
DTSTART;TZID=Europe/Berlin:20260709T103000
DTEND;TZID=Europe/Berlin:20260709T120000
DTSTAMP:20260426T050249
CREATED:20260203T154200Z
LAST-MODIFIED:20260204T055820Z
UID:10003546-1783593000-1783598400@www.lgs-leinefelde-worbis.de
SUMMARY:Grünes Klassenzimmer: Komm\, wir entdecken die Welt der Insekten
DESCRIPTION:buchbares Kursangebot für Kindergartengruppen und Schulklassen \n\n\n\nPartner: Fachamt ÖTK\, Stadtbibliothek Leinefelde-Worbis \n\n\n\nDieses Angebot führt Kinder auf eine spannende Entdeckungsreise in die Welt der Insekten. Eine Vorlesegeschichte\, eine angeleitete Entdeckertour und verschiedene forschend-spielerische Elemente wecken Neugier und fördern das Staunen über die Vielfalt und Bedeutung dieser faszinierenden Tiergruppe. \n\n\n\nZur Buchung: https://www.lgs-leinefelde-worbis.de/veranstaltungen-uebersicht/gruenes-klassenzimmer/buchung/#/
URL:https://www.lgs-leinefelde-worbis.de/veranstaltung/gruenes-klassenzimmer-komm-wir-entdecken-die-welt-der-insekten/2026-07-09/1/
CATEGORIES:Grünes Klassenzimmer
ATTACH;FMTTYPE=image/jpeg:https://www.lgs-leinefelde-worbis.de/wp-content/uploads/2026/02/Komm-wir-entdecken-die-Welt-der-Insekten_Stadtbiblo-e1770104914829.jpeg
END:VEVENT
BEGIN:VEVENT
DTSTART;TZID=Europe/Berlin:20260709T110000
DTEND;TZID=Europe/Berlin:20260709T120000
DTSTAMP:20260426T050249
CREATED:20260106T144749Z
LAST-MODIFIED:20260106T144749Z
UID:10000466-1783594800-1783598400@www.lgs-leinefelde-worbis.de
SUMMARY:Kulinarische Reise durch das Eichsfeld
DESCRIPTION:Begeben Sie sich während der Landesgartenschau auf eine genussvolle Tour durch das Eichsfeld. Verkosten Sie typische Spezialitäten wie die Eichsfelder Stracke oder den traditionellen Schmandkuchen und erfahren Sie mehr über die handwerkliche Herstellung\, regionale Rezepturen und die geschichtliche Bedeutung dieser Produkte.
URL:https://www.lgs-leinefelde-worbis.de/veranstaltung/kulinarische-reise-durch-das-eichsfeld/2026-07-09/1/
ATTACH;FMTTYPE=image/jpeg:https://www.lgs-leinefelde-worbis.de/wp-content/uploads/2026/01/Kulinarik-Tino-Sieland-HVE-Eichsfeld-Touristik-e.V-1-Kopieren-e1767710855244.jpg
END:VEVENT
BEGIN:VEVENT
DTSTART;TZID=Europe/Berlin:20260709T120000
DTEND;TZID=Europe/Berlin:20260709T130000
DTSTAMP:20260426T050249
CREATED:20260128T063239Z
LAST-MODIFIED:20260128T075725Z
UID:10003113-1783598400-1783602000@www.lgs-leinefelde-worbis.de
SUMMARY:Kirchenpavillon lädt zum Verweilen ein
DESCRIPTION:Der ökumenische Kirchenpavillon der katholischen und evangelischen Kirchen lädt zum Verweilen\, Einkehren und Entdecken ein. Wir laden Sie ein zu unseren täglichen geistlichen Impulsen zum Thema „erdnah – himmelweit“.
URL:https://www.lgs-leinefelde-worbis.de/veranstaltung/kirchenpavillon-laedt-zum-verweilen-ein-5/2026-07-09/
ATTACH;FMTTYPE=image/jpeg:https://www.lgs-leinefelde-worbis.de/wp-content/uploads/2026/01/Logo-ErdnahHimmelweit_final-4-e1769587039528.jpg
END:VEVENT
BEGIN:VEVENT
DTSTART;TZID=Europe/Berlin:20260709T130000
DTEND;TZID=Europe/Berlin:20260709T143000
DTSTAMP:20260426T050249
CREATED:20260203T154200Z
LAST-MODIFIED:20260204T055820Z
UID:10003547-1783602000-1783607400@www.lgs-leinefelde-worbis.de
SUMMARY:Grünes Klassenzimmer: Komm\, wir entdecken die Welt der Insekten
DESCRIPTION:buchbares Kursangebot für Kindergartengruppen und Schulklassen \n\n\n\nPartner: Fachamt ÖTK\, Stadtbibliothek Leinefelde-Worbis \n\n\n\nDieses Angebot führt Kinder auf eine spannende Entdeckungsreise in die Welt der Insekten. Eine Vorlesegeschichte\, eine angeleitete Entdeckertour und verschiedene forschend-spielerische Elemente wecken Neugier und fördern das Staunen über die Vielfalt und Bedeutung dieser faszinierenden Tiergruppe. \n\n\n\nZur Buchung: https://www.lgs-leinefelde-worbis.de/veranstaltungen-uebersicht/gruenes-klassenzimmer/buchung/#/
URL:https://www.lgs-leinefelde-worbis.de/veranstaltung/gruenes-klassenzimmer-komm-wir-entdecken-die-welt-der-insekten/2026-07-09/2/
CATEGORIES:Grünes Klassenzimmer
ATTACH;FMTTYPE=image/jpeg:https://www.lgs-leinefelde-worbis.de/wp-content/uploads/2026/02/Komm-wir-entdecken-die-Welt-der-Insekten_Stadtbiblo-e1770104914829.jpeg
END:VEVENT
BEGIN:VEVENT
DTSTART;TZID=Europe/Berlin:20260709T150000
DTEND;TZID=Europe/Berlin:20260709T160000
DTSTAMP:20260426T050249
CREATED:20260106T144749Z
LAST-MODIFIED:20260106T144749Z
UID:10000467-1783609200-1783612800@www.lgs-leinefelde-worbis.de
SUMMARY:Kulinarische Reise durch das Eichsfeld
DESCRIPTION:Begeben Sie sich während der Landesgartenschau auf eine genussvolle Tour durch das Eichsfeld. Verkosten Sie typische Spezialitäten wie die Eichsfelder Stracke oder den traditionellen Schmandkuchen und erfahren Sie mehr über die handwerkliche Herstellung\, regionale Rezepturen und die geschichtliche Bedeutung dieser Produkte.
URL:https://www.lgs-leinefelde-worbis.de/veranstaltung/kulinarische-reise-durch-das-eichsfeld/2026-07-09/2/
ATTACH;FMTTYPE=image/jpeg:https://www.lgs-leinefelde-worbis.de/wp-content/uploads/2026/01/Kulinarik-Tino-Sieland-HVE-Eichsfeld-Touristik-e.V-1-Kopieren-e1767710855244.jpg
END:VEVENT
BEGIN:VEVENT
DTSTART;TZID=Europe/Berlin:20260709T170000
DTEND;TZID=Europe/Berlin:20260709T180000
DTSTAMP:20260426T050249
CREATED:20260128T071531Z
LAST-MODIFIED:20260128T075504Z
UID:10003334-1783616400-1783620000@www.lgs-leinefelde-worbis.de
SUMMARY:Kirchenpavillon lädt zum Verweilen ein
DESCRIPTION:Der ökumenische Kirchenpavillon der katholischen und evangelischen Kirchen lädt zum Verweilen\, Einkehren und Entdecken ein. Wir laden Sie ein zu unseren täglichen geistlichen Impulsen zum Thema „erdnah – himmelweit“.
URL:https://www.lgs-leinefelde-worbis.de/veranstaltung/kirchenpavillon-laedt-zum-verweilen-ein-9/2026-07-09/
ATTACH;FMTTYPE=image/jpeg:https://www.lgs-leinefelde-worbis.de/wp-content/uploads/2026/01/Logo-ErdnahHimmelweit_final-e1769586897585.jpg
END:VEVENT
END:VCALENDAR