BEGIN:VCALENDAR
VERSION:2.0
PRODID:-//Landesgartenschau 2026 in Leinefelde-Worbis - ECPv6.15.20//NONSGML v1.0//EN
CALSCALE:GREGORIAN
METHOD:PUBLISH
X-WR-CALNAME:Landesgartenschau 2026 in Leinefelde-Worbis
X-ORIGINAL-URL:https://www.lgs-leinefelde-worbis.de
X-WR-CALDESC:Veranstaltungen für Landesgartenschau 2026 in Leinefelde-Worbis
REFRESH-INTERVAL;VALUE=DURATION:PT1H
X-Robots-Tag:noindex
X-PUBLISHED-TTL:PT1H
BEGIN:VTIMEZONE
TZID:Europe/Berlin
BEGIN:DAYLIGHT
TZOFFSETFROM:+0100
TZOFFSETTO:+0200
TZNAME:CEST
DTSTART:20250330T010000
END:DAYLIGHT
BEGIN:STANDARD
TZOFFSETFROM:+0200
TZOFFSETTO:+0100
TZNAME:CET
DTSTART:20251026T010000
END:STANDARD
BEGIN:DAYLIGHT
TZOFFSETFROM:+0100
TZOFFSETTO:+0200
TZNAME:CEST
DTSTART:20260329T010000
END:DAYLIGHT
BEGIN:STANDARD
TZOFFSETFROM:+0200
TZOFFSETTO:+0100
TZNAME:CET
DTSTART:20261025T010000
END:STANDARD
BEGIN:DAYLIGHT
TZOFFSETFROM:+0100
TZOFFSETTO:+0200
TZNAME:CEST
DTSTART:20270328T010000
END:DAYLIGHT
BEGIN:STANDARD
TZOFFSETFROM:+0200
TZOFFSETTO:+0100
TZNAME:CET
DTSTART:20271031T010000
END:STANDARD
END:VTIMEZONE
BEGIN:VEVENT
DTSTART;TZID=Europe/Berlin:20260711T100000
DTEND;TZID=Europe/Berlin:20260711T180000
DTSTAMP:20260426T050055
CREATED:20260218T114725Z
LAST-MODIFIED:20260218T114726Z
UID:10003827-1783764000-1783792800@www.lgs-leinefelde-worbis.de
SUMMARY:Blumenblock: Ausstellung International & Heimat
DESCRIPTION:Gestalterische Einflüsse aus verschiedenen Kulturen treffen bei dieser Ausstellung im Blumenblock (Erdgeschoss & 1. Obergeschoss) auf regionale Pflanzen\, Materialien und handwerkliche Traditionen. Die Ausstellung stellt globale Vielfalt der Floristik der lokalen Identität gegenüber und verbindet beides zu einem gemeinsamen Bild. 
URL:https://www.lgs-leinefelde-worbis.de/veranstaltung/blumenblock-ausstellung-international-heimat/2026-07-11/
CATEGORIES:Ausstellung,Blumenblock
ATTACH;FMTTYPE=image/jpeg:https://www.lgs-leinefelde-worbis.de/wp-content/uploads/2026/02/IMG_0703-rotated-e1771415230768.jpeg
END:VEVENT
BEGIN:VEVENT
DTSTART;TZID=Europe/Berlin:20260711T100000
DTEND;TZID=Europe/Berlin:20260711T180000
DTSTAMP:20260426T050055
CREATED:20260323T164541Z
LAST-MODIFIED:20260323T164542Z
UID:10004009-1783764000-1783792800@www.lgs-leinefelde-worbis.de
SUMMARY:Orientierung für die richtige Staudenwahl
DESCRIPTION:Unter dem Titel „Die Staudensichtung – was ist das\, was bringt mir das und wie kann ich sie nutzen?“ erhalten Besucherinnen und Besucher am Sonnabend\, 11. Juli 2026\, einen Einblick in die Arbeit des Arbeitskreises Staudensichtung. Dieses unabhängige Gremium aus Fachleuten verschiedener Hochschulen und Versuchseinrichtungen prüft an unterschiedlichen Standorten in Deutschland sowie in Österreich\, der Schweiz und Tschechien Stauden unter verschiedenen Boden- und Klimabedingungen. \n\n\n\nZiel ist es\, verlässliche Sortenempfehlungen für eine standortgerechte Verwendung im privaten Garten ebenso wie im öffentlichen und gewerblichen Grün zu geben. Die Staudensichtung gilt damit als eine Art „Stiftung Warentest“ für Staudenfreunde und -verwender. Cornelia Pacalai erläutert\, wie diese Bewertungen entstehen und wie sie praktisch genutzt werden können. \n\n\n\nDie Veranstaltung findet im Themengarten „Grünes Herz – Der Garten Thüringens“\, im Pavillon „Gärtnertreff Thüringen“ statt. Zuständig ist das Thüringer Landesamt für Landwirtschaft und Ländlichen Raum.
URL:https://www.lgs-leinefelde-worbis.de/veranstaltung/orientierung-fuer-die-richtige-staudenwahl/
CATEGORIES:Themengarten "Grünes Herz"
ATTACH;FMTTYPE=image/jpeg:https://www.lgs-leinefelde-worbis.de/wp-content/uploads/2026/03/11_07_2026_Staudensichtung-e1774284334931.jpg
END:VEVENT
BEGIN:VEVENT
DTSTART;TZID=Europe/Berlin:20260711T100000
DTEND;TZID=Europe/Berlin:20260711T180000
DTSTAMP:20260426T050055
CREATED:20260331T124449Z
LAST-MODIFIED:20260331T124450Z
UID:10004108-1783764000-1783792800@www.lgs-leinefelde-worbis.de
SUMMARY:Der Harz zu Gast im Pavillon der Regionen
DESCRIPTION:Im Zeitraum vom 6. bis 12. Juli 2026 präsentiert sich der Harzer Tourismusverband im Pavillon der Regionen auf dem Gelände der Landesgartenschau Leinefelde-Worbis. Vorgestellt wird eine der vielfältigsten Mittelgebirgsregionen Deutschlands\, die mit beeindruckender Natur\, sagenumwobener Geschichte und lebendiger Tradition begeistert. Dichte Wälder\, mystische Moore\, klare Talsperren sowie der Brocken als höchste Erhebung Norddeutschlands prägen das Landschaftsbild. Historische Fachwerkstädte\, UNESCO-Welterbestätten und abwechslungsreiche Aktivangebote machen den Harz zu einem ganzjährigen Reiseziel. \n\n\n\nWährend der Präsentationswoche sind zudem wechselnde Mitausstellerinnen und Mitaussteller im Pavillon vertreten. Dazu zählen unter anderem Hotels\, lokale Tourismusorganisationen sowie Freizeitbetriebe und Veranstalter aus dem Harz. Sie informieren über individuelle Angebote – von Übernachtungsarrangements und Pauschalen über Ausflugstipps bis hin zu Veranstaltungen und regionalen Besonderheiten.
URL:https://www.lgs-leinefelde-worbis.de/veranstaltung/der-harz-zu-gast-im-pavillon-der-regionen/2026-07-11/
CATEGORIES:Pavillon der Regionen,Vorträge
ATTACH;FMTTYPE=image/jpeg:https://www.lgs-leinefelde-worbis.de/wp-content/uploads/2026/03/Torfhausmoor-c-HTV-fotoweberei-20-Kopieren-e1774961052669.jpg
END:VEVENT
BEGIN:VEVENT
DTSTART;TZID=Europe/Berlin:20260711T110000
DTEND;TZID=Europe/Berlin:20260711T140000
DTSTAMP:20260426T050055
CREATED:20260112T133321Z
LAST-MODIFIED:20260204T061121Z
UID:10002750-1783767600-1783778400@www.lgs-leinefelde-worbis.de
SUMMARY:Konzert mit dem Böhmisch-Mährischen-Blechgewitter
DESCRIPTION:Der Slogan der Blaskapelle „BMB – mehr als Musik…“ steht für ein musikalisches Konzept\, das Generationen verbindet. Seit nunmehr 16 Jahren ist das Ensemble in Südniedersachsen\, Thüringen und Hessen unterwegs und begeistert mit musikalischer Vielfalt. Das Repertoire reicht von klassischer Blasmusik bis hin zu eigenen Arrangements aus der Unterhaltungs- und Stimmungsmusik. Diese Bandbreite ermöglicht Programme\, die flexibel auf Publikum und Anlass abgestimmt sind und sowohl auf der Bühne als auch im direkten Kontakt überzeugen. \n\n\n\nIm Rahmen der Landesgartenschau ist die Blaskapelle gleich mehrmals live zu erleben: am 16. Mai 2026 von 11 bis 18 Uhr\, am 11. Juli 2026 von 11 bis 14 Uhr\, am 29. August von 11 – 18 Uhr und am 26. September ebenfalls von 11 bis 18 Uhr. An diesen Terminen dürfen sich die Besucherinnen und Besucher auf abwechslungsreiche musikalische Unterhaltung für Jung und Alt freuen.
URL:https://www.lgs-leinefelde-worbis.de/veranstaltung/konzert-mit-dem-boehmisch-maehrischen-blechgewitter/2026-07-11/
CATEGORIES:Musik
ATTACH;FMTTYPE=image/jpeg:https://www.lgs-leinefelde-worbis.de/wp-content/uploads/2026/01/Blechgewitter-e1768224772488.jpg
END:VEVENT
BEGIN:VEVENT
DTSTART;TZID=Europe/Berlin:20260711T120000
DTEND;TZID=Europe/Berlin:20260711T130000
DTSTAMP:20260426T050055
CREATED:20260128T063239Z
LAST-MODIFIED:20260128T075725Z
UID:10003115-1783771200-1783774800@www.lgs-leinefelde-worbis.de
SUMMARY:Kirchenpavillon lädt zum Verweilen ein
DESCRIPTION:Der ökumenische Kirchenpavillon der katholischen und evangelischen Kirchen lädt zum Verweilen\, Einkehren und Entdecken ein. Wir laden Sie ein zu unseren täglichen geistlichen Impulsen zum Thema „erdnah – himmelweit“.
URL:https://www.lgs-leinefelde-worbis.de/veranstaltung/kirchenpavillon-laedt-zum-verweilen-ein-5/2026-07-11/
ATTACH;FMTTYPE=image/jpeg:https://www.lgs-leinefelde-worbis.de/wp-content/uploads/2026/01/Logo-ErdnahHimmelweit_final-4-e1769587039528.jpg
END:VEVENT
BEGIN:VEVENT
DTSTART;TZID=Europe/Berlin:20260711T150000
DTEND;TZID=Europe/Berlin:20260711T170000
DTSTAMP:20260426T050055
CREATED:20251203T124735Z
LAST-MODIFIED:20260204T060654Z
UID:10000419-1783782000-1783789200@www.lgs-leinefelde-worbis.de
SUMMARY:Danza andaluza - getanzte Gitarrenmusik
DESCRIPTION:Die Farruca ist ein Flamencostil mit besonders mitreißendem Rhythmus. In diesem Konzert spielt der Gitarrist Roger Tristao Adao neben traditionellen Tänzen auch komponierte spanische Gitarrenmusik und zeigt\, wie Komponisten alte Melodien und Rhythmen kunstvoll weiterentwickelt haben. Die Tänzerin Carmen Rodriquez Castillo hat zur Gitarrenmusik eigene Choreographien geschaffen\, die ihre andalusische Herkunft erkennen lassen und zugleich moderne Einflüsse einbeziehen.
URL:https://www.lgs-leinefelde-worbis.de/veranstaltung/danza-andaluza-getanzte-gitarrenmusik/
CATEGORIES:Musik
ATTACH;FMTTYPE=image/jpeg:https://www.lgs-leinefelde-worbis.de/wp-content/uploads/2025/12/01_Foto-Carmen-1-e1764766035903.jpg
END:VEVENT
BEGIN:VEVENT
DTSTART;TZID=Europe/Berlin:20260711T170000
DTEND;TZID=Europe/Berlin:20260711T180000
DTSTAMP:20260426T050055
CREATED:20260128T071531Z
LAST-MODIFIED:20260128T075504Z
UID:10003336-1783789200-1783792800@www.lgs-leinefelde-worbis.de
SUMMARY:Kirchenpavillon lädt zum Verweilen ein
DESCRIPTION:Der ökumenische Kirchenpavillon der katholischen und evangelischen Kirchen lädt zum Verweilen\, Einkehren und Entdecken ein. Wir laden Sie ein zu unseren täglichen geistlichen Impulsen zum Thema „erdnah – himmelweit“.
URL:https://www.lgs-leinefelde-worbis.de/veranstaltung/kirchenpavillon-laedt-zum-verweilen-ein-9/2026-07-11/
ATTACH;FMTTYPE=image/jpeg:https://www.lgs-leinefelde-worbis.de/wp-content/uploads/2026/01/Logo-ErdnahHimmelweit_final-e1769586897585.jpg
END:VEVENT
END:VCALENDAR