BEGIN:VCALENDAR
VERSION:2.0
PRODID:-//Landesgartenschau 2026 in Leinefelde-Worbis - ECPv6.15.20//NONSGML v1.0//EN
CALSCALE:GREGORIAN
METHOD:PUBLISH
X-ORIGINAL-URL:https://www.lgs-leinefelde-worbis.de
X-WR-CALDESC:Veranstaltungen für Landesgartenschau 2026 in Leinefelde-Worbis
REFRESH-INTERVAL;VALUE=DURATION:PT1H
X-Robots-Tag:noindex
X-PUBLISHED-TTL:PT1H
BEGIN:VTIMEZONE
TZID:Europe/Berlin
BEGIN:DAYLIGHT
TZOFFSETFROM:+0100
TZOFFSETTO:+0200
TZNAME:CEST
DTSTART:20250330T010000
END:DAYLIGHT
BEGIN:STANDARD
TZOFFSETFROM:+0200
TZOFFSETTO:+0100
TZNAME:CET
DTSTART:20251026T010000
END:STANDARD
BEGIN:DAYLIGHT
TZOFFSETFROM:+0100
TZOFFSETTO:+0200
TZNAME:CEST
DTSTART:20260329T010000
END:DAYLIGHT
BEGIN:STANDARD
TZOFFSETFROM:+0200
TZOFFSETTO:+0100
TZNAME:CET
DTSTART:20261025T010000
END:STANDARD
BEGIN:DAYLIGHT
TZOFFSETFROM:+0100
TZOFFSETTO:+0200
TZNAME:CEST
DTSTART:20270328T010000
END:DAYLIGHT
BEGIN:STANDARD
TZOFFSETFROM:+0200
TZOFFSETTO:+0100
TZNAME:CET
DTSTART:20271031T010000
END:STANDARD
END:VTIMEZONE
BEGIN:VEVENT
DTSTART;TZID=Europe/Berlin:20260712T100000
DTEND;TZID=Europe/Berlin:20260712T173000
DTSTAMP:20260426T050428
CREATED:20260416T090758Z
LAST-MODIFIED:20260416T090759Z
UID:10004166-1783850400-1783877400@www.lgs-leinefelde-worbis.de
SUMMARY:Antik- und Sammlermarkt vor dem Blumenblock
DESCRIPTION:Wer gern auf Schatzsuche geht\, alte Lieblingsstücke entdeckt oder einfach die besondere Atmosphäre eines Marktes genießen möchte\, bekommt im Umfeld der Landesgartenschau 2026 eine zusätzliche Gelegenheit dazu. Vor dem Blumenblock in der Bachstraße 7 bis 11 findet an vier Sonntagen ein Antik- und Sammlermarkt statt. Geöffnet ist jeweils von 10:00 bis 17:30 Uhr. \n\n\n\nDie Termine sind der 17. Mai\, 14. Juni\, 12. Juli und 23. August 2026. Besonders attraktiv: Der Markt liegt außerhalb des Bezahlbereichs der Landesgartenschau und ist damit für alle Interessierten frei zugänglich. Ein Ticket für das Ausstellungsgelände wird nicht benötigt\, der Eintritt ist frei. Mit dem Angebot entsteht direkt am Blumenblock ein zusätzlicher Anlaufpunkt für alle\, die Antiquitäten\, Sammlerstücke und besondere Fundstücke schätzen. Der Markt lädt zum entspannten Bummeln\, Entdecken und Verweilen ein und ergänzt das Umfeld der Landesgartenschau um ein offenes Format\, das auch unabhängig vom Besuch des Ausstellungsgeländes genutzt werden kann. Weitere Informationen zum Veranstalter und Kontaktmöglichkeiten sind online bei Flohmarkt Junkies Wichmann erhältlich. \n\n\n\nDer Flyer zum Download
URL:https://www.lgs-leinefelde-worbis.de/veranstaltung/antik-und-sammlermarkt-vor-dem-blumenblock/2026-07-12/
CATEGORIES:Feste & Märkte
ATTACH;FMTTYPE=image/jpeg:https://www.lgs-leinefelde-worbis.de/wp-content/uploads/2026/04/Antikmarkt-e1776330467110.jpg
END:VEVENT
BEGIN:VEVENT
DTSTART;TZID=Europe/Berlin:20260712T100000
DTEND;TZID=Europe/Berlin:20260712T180000
DTSTAMP:20260426T050428
CREATED:20260218T114725Z
LAST-MODIFIED:20260218T114726Z
UID:10003828-1783850400-1783879200@www.lgs-leinefelde-worbis.de
SUMMARY:Blumenblock: Ausstellung International & Heimat
DESCRIPTION:Gestalterische Einflüsse aus verschiedenen Kulturen treffen bei dieser Ausstellung im Blumenblock (Erdgeschoss & 1. Obergeschoss) auf regionale Pflanzen\, Materialien und handwerkliche Traditionen. Die Ausstellung stellt globale Vielfalt der Floristik der lokalen Identität gegenüber und verbindet beides zu einem gemeinsamen Bild. 
URL:https://www.lgs-leinefelde-worbis.de/veranstaltung/blumenblock-ausstellung-international-heimat/2026-07-12/
CATEGORIES:Ausstellung,Blumenblock
ATTACH;FMTTYPE=image/jpeg:https://www.lgs-leinefelde-worbis.de/wp-content/uploads/2026/02/IMG_0703-rotated-e1771415230768.jpeg
END:VEVENT
BEGIN:VEVENT
DTSTART;TZID=Europe/Berlin:20260712T100000
DTEND;TZID=Europe/Berlin:20260712T180000
DTSTAMP:20260426T050428
CREATED:20260331T124449Z
LAST-MODIFIED:20260331T124450Z
UID:10004109-1783850400-1783879200@www.lgs-leinefelde-worbis.de
SUMMARY:Der Harz zu Gast im Pavillon der Regionen
DESCRIPTION:Im Zeitraum vom 6. bis 12. Juli 2026 präsentiert sich der Harzer Tourismusverband im Pavillon der Regionen auf dem Gelände der Landesgartenschau Leinefelde-Worbis. Vorgestellt wird eine der vielfältigsten Mittelgebirgsregionen Deutschlands\, die mit beeindruckender Natur\, sagenumwobener Geschichte und lebendiger Tradition begeistert. Dichte Wälder\, mystische Moore\, klare Talsperren sowie der Brocken als höchste Erhebung Norddeutschlands prägen das Landschaftsbild. Historische Fachwerkstädte\, UNESCO-Welterbestätten und abwechslungsreiche Aktivangebote machen den Harz zu einem ganzjährigen Reiseziel. \n\n\n\nWährend der Präsentationswoche sind zudem wechselnde Mitausstellerinnen und Mitaussteller im Pavillon vertreten. Dazu zählen unter anderem Hotels\, lokale Tourismusorganisationen sowie Freizeitbetriebe und Veranstalter aus dem Harz. Sie informieren über individuelle Angebote – von Übernachtungsarrangements und Pauschalen über Ausflugstipps bis hin zu Veranstaltungen und regionalen Besonderheiten.
URL:https://www.lgs-leinefelde-worbis.de/veranstaltung/der-harz-zu-gast-im-pavillon-der-regionen/2026-07-12/
CATEGORIES:Pavillon der Regionen,Vorträge
ATTACH;FMTTYPE=image/jpeg:https://www.lgs-leinefelde-worbis.de/wp-content/uploads/2026/03/Torfhausmoor-c-HTV-fotoweberei-20-Kopieren-e1774961052669.jpg
END:VEVENT
BEGIN:VEVENT
DTSTART;TZID=Europe/Berlin:20260712T110000
DTEND;TZID=Europe/Berlin:20260712T140000
DTSTAMP:20260426T050428
CREATED:20260106T142901Z
LAST-MODIFIED:20260204T061320Z
UID:10000449-1783854000-1783864800@www.lgs-leinefelde-worbis.de
SUMMARY:Konzert mit SERO-Solo
DESCRIPTION:Deutsche Hits von den 60ern bis heute – aus Ost und West. Das Programm mit SERO-Solo verbindet im Rahmen der Landesgartenschau bekannte Klassiker mit selten gespielten musikalischen Schätzen und bringt sie live\, frisch und mit viel Spielfreude auf die Bühne. Mit Akustikgitarre\, Gesang\, Fußpercussion und „Bodo-in-the-box“ entsteht eine charmante Anderthalb-Mann-Band\, die Erinnerungen weckt und zum Mitsingen einlädt.
URL:https://www.lgs-leinefelde-worbis.de/veranstaltung/konzert-mit-sero-solo/2026-07-12/
CATEGORIES:Musik
ATTACH;FMTTYPE=image/jpeg:https://www.lgs-leinefelde-worbis.de/wp-content/uploads/2026/01/Deutschrock_Solo.jpg
END:VEVENT
BEGIN:VEVENT
DTSTART;TZID=Europe/Berlin:20260712T120000
DTEND;TZID=Europe/Berlin:20260712T130000
DTSTAMP:20260426T050428
CREATED:20260128T063239Z
LAST-MODIFIED:20260128T075725Z
UID:10003116-1783857600-1783861200@www.lgs-leinefelde-worbis.de
SUMMARY:Kirchenpavillon lädt zum Verweilen ein
DESCRIPTION:Der ökumenische Kirchenpavillon der katholischen und evangelischen Kirchen lädt zum Verweilen\, Einkehren und Entdecken ein. Wir laden Sie ein zu unseren täglichen geistlichen Impulsen zum Thema „erdnah – himmelweit“.
URL:https://www.lgs-leinefelde-worbis.de/veranstaltung/kirchenpavillon-laedt-zum-verweilen-ein-5/2026-07-12/
ATTACH;FMTTYPE=image/jpeg:https://www.lgs-leinefelde-worbis.de/wp-content/uploads/2026/01/Logo-ErdnahHimmelweit_final-4-e1769587039528.jpg
END:VEVENT
BEGIN:VEVENT
DTSTART;TZID=Europe/Berlin:20260712T140000
DTEND;TZID=Europe/Berlin:20260712T180000
DTSTAMP:20260426T050428
CREATED:20251107T071710Z
LAST-MODIFIED:20260204T062331Z
UID:10000301-1783864800-1783879200@www.lgs-leinefelde-worbis.de
SUMMARY:Konzert mit B-Country-Boy
DESCRIPTION:Im Rahmen der Landesgartenschau erwartet die Besucherinnen und Besucher ein mitreißendes Country-Erlebnis mit B-Country-Boy. Mit seiner unverwechselbaren Stimme\, authentischem Sound und einer großen Portion Charme bringt der Musiker den echten Country-Spirit auf die Bühne. Ob gefühlvolle Balladen oder tanzbare Hits – B-Country-Boy sorgt an beiden Nachmittagen für gute Laune\, mitreißende Stimmung und ein unvergessliches Musikerlebnis für alle Fans des Country-Genres. \n\n\n\nKonzert mit B-Country-BoyTermine: Sonntag\, 7. Juni 2026\, und Sonntag\, 12. Juli 2026\, jeweils von 14:00 bis 18:00 UhrOrt: Gelände Landesgartenschau
URL:https://www.lgs-leinefelde-worbis.de/veranstaltung/16519/2026-07-12/
CATEGORIES:Musik
ATTACH;FMTTYPE=image/jpeg:https://www.lgs-leinefelde-worbis.de/wp-content/uploads/2025/11/B-Country-Boy.jpg
END:VEVENT
BEGIN:VEVENT
DTSTART;TZID=Europe/Berlin:20260712T150000
DTEND;TZID=Europe/Berlin:20260712T180000
DTSTAMP:20260426T050428
CREATED:20251110T120342Z
LAST-MODIFIED:20260204T062305Z
UID:10000330-1783868400-1783879200@www.lgs-leinefelde-worbis.de
SUMMARY:Konzert mit Porridge Castle
DESCRIPTION:Im Rahmen der Landesgartenschau sorgt das Duo Porridge Castle für stimmungsvolle musikalische Nachmittage. Sängerin und Bassistin Tina Geßner und Gitarrist Ralf Kirchner interpretieren bekannte Pop- und Rockklassiker in frischen\, eigenständigen Arrangements. Mit Charme\, Spielfreude und einer Prise Humor entsteht ein authentisches Musikerlebnis\, das gleichermaßen berührt und begeistert – mal groovig und energiegeladen\, mal leise und gefühlvoll.Konzert mit Porridge Castle01. Mai\, 21. Juni\, 12. Juli und 02. August 2026\, jeweils 15:00–18:00 Uhr
URL:https://www.lgs-leinefelde-worbis.de/veranstaltung/konzert-mit-porridge-castle/2026-07-12/
CATEGORIES:Musik
ATTACH;FMTTYPE=image/jpeg:https://www.lgs-leinefelde-worbis.de/wp-content/uploads/2025/11/41eb62db-08d4-4931-aebb-e0d1e98cca52-e1762776203612.jpg
END:VEVENT
BEGIN:VEVENT
DTSTART;TZID=Europe/Berlin:20260712T153000
DTEND;TZID=Europe/Berlin:20260712T180000
DTSTAMP:20260426T050428
CREATED:20251027T104329Z
LAST-MODIFIED:20260204T063950Z
UID:10000144-1783870200-1783879200@www.lgs-leinefelde-worbis.de
SUMMARY:Spielenachmittag
DESCRIPTION:Freut euch auf einen unterhaltsamen Spielenachmittag für Groß und Klein! Gemeinsam entdecken wir liebevoll gestaltete Holzspiele. Ob Klassiker oder neue Spielideen – hier ist für jeden etwas dabei. Kommt vorbei\, spielt mit und erlebt einen entspannten Nachmittag voller Spaß\, Geschick und Gemeinschaft!
URL:https://www.lgs-leinefelde-worbis.de/veranstaltung/spielenachmittag-2/2026-07-12/
CATEGORIES:Aktivitäten
ATTACH;FMTTYPE=image/jpeg:https://www.lgs-leinefelde-worbis.de/wp-content/uploads/2025/10/friends-having-fun-with-traditional-games-Gross-e1761561076916.jpg
END:VEVENT
BEGIN:VEVENT
DTSTART;TZID=Europe/Berlin:20260712T170000
DTEND;TZID=Europe/Berlin:20260712T180000
DTSTAMP:20260426T050428
CREATED:20260128T071531Z
LAST-MODIFIED:20260128T075504Z
UID:10003337-1783875600-1783879200@www.lgs-leinefelde-worbis.de
SUMMARY:Kirchenpavillon lädt zum Verweilen ein
DESCRIPTION:Der ökumenische Kirchenpavillon der katholischen und evangelischen Kirchen lädt zum Verweilen\, Einkehren und Entdecken ein. Wir laden Sie ein zu unseren täglichen geistlichen Impulsen zum Thema „erdnah – himmelweit“.
URL:https://www.lgs-leinefelde-worbis.de/veranstaltung/kirchenpavillon-laedt-zum-verweilen-ein-9/2026-07-12/
ATTACH;FMTTYPE=image/jpeg:https://www.lgs-leinefelde-worbis.de/wp-content/uploads/2026/01/Logo-ErdnahHimmelweit_final-e1769586897585.jpg
END:VEVENT
END:VCALENDAR