BEGIN:VCALENDAR
VERSION:2.0
PRODID:-//Landesgartenschau 2026 in Leinefelde-Worbis - ECPv6.15.20//NONSGML v1.0//EN
CALSCALE:GREGORIAN
METHOD:PUBLISH
X-WR-CALNAME:Landesgartenschau 2026 in Leinefelde-Worbis
X-ORIGINAL-URL:https://www.lgs-leinefelde-worbis.de
X-WR-CALDESC:Veranstaltungen für Landesgartenschau 2026 in Leinefelde-Worbis
REFRESH-INTERVAL;VALUE=DURATION:PT1H
X-Robots-Tag:noindex
X-PUBLISHED-TTL:PT1H
BEGIN:VTIMEZONE
TZID:Europe/Berlin
BEGIN:DAYLIGHT
TZOFFSETFROM:+0100
TZOFFSETTO:+0200
TZNAME:CEST
DTSTART:20250330T010000
END:DAYLIGHT
BEGIN:STANDARD
TZOFFSETFROM:+0200
TZOFFSETTO:+0100
TZNAME:CET
DTSTART:20251026T010000
END:STANDARD
BEGIN:DAYLIGHT
TZOFFSETFROM:+0100
TZOFFSETTO:+0200
TZNAME:CEST
DTSTART:20260329T010000
END:DAYLIGHT
BEGIN:STANDARD
TZOFFSETFROM:+0200
TZOFFSETTO:+0100
TZNAME:CET
DTSTART:20261025T010000
END:STANDARD
BEGIN:DAYLIGHT
TZOFFSETFROM:+0100
TZOFFSETTO:+0200
TZNAME:CEST
DTSTART:20270328T010000
END:DAYLIGHT
BEGIN:STANDARD
TZOFFSETFROM:+0200
TZOFFSETTO:+0100
TZNAME:CET
DTSTART:20271031T010000
END:STANDARD
END:VTIMEZONE
BEGIN:VEVENT
DTSTART;TZID=Europe/Berlin:20260713T103000
DTEND;TZID=Europe/Berlin:20260713T120000
DTSTAMP:20260426T044727
CREATED:20260208T153950Z
LAST-MODIFIED:20260208T153950Z
UID:10003670-1783938600-1783944000@www.lgs-leinefelde-worbis.de
SUMMARY:Grünes Klassenzimmer: Tree of hope
DESCRIPTION:buchbares Kursangebot für Kindergartengruppen und Schulklassen \n\n\n\nPartner: hope – Ambulantes Hospiz- und Palliativzentrum \n\n\n\nIn diesem Angebot gestalten Kinder in einer positiven Atmosphäre einen bunten Wünschebaum. Dabei geht es um ihre Hoffnungen\, Zukunftsvorstellungen und Dinge\, die ihnen Kraft geben – über materielle Wünsche hinaus. \n\n\n\nZur Buchung: https://www.lgs-leinefelde-worbis.de/veranstaltungen-uebersicht/gruenes-klassenzimmer/buchung/#/
URL:https://www.lgs-leinefelde-worbis.de/veranstaltung/gruenes-klassenzimmer-tree-of-hope/
CATEGORIES:Grünes Klassenzimmer
ATTACH;FMTTYPE=image/jpeg:https://www.lgs-leinefelde-worbis.de/wp-content/uploads/2026/02/Tree-of-hope_hope-Kopieren-e1770565182672.jpeg
END:VEVENT
BEGIN:VEVENT
DTSTART;TZID=Europe/Berlin:20260713T120000
DTEND;TZID=Europe/Berlin:20260713T130000
DTSTAMP:20260426T044727
CREATED:20260128T063239Z
LAST-MODIFIED:20260128T075725Z
UID:10003117-1783944000-1783947600@www.lgs-leinefelde-worbis.de
SUMMARY:Kirchenpavillon lädt zum Verweilen ein
DESCRIPTION:Der ökumenische Kirchenpavillon der katholischen und evangelischen Kirchen lädt zum Verweilen\, Einkehren und Entdecken ein. Wir laden Sie ein zu unseren täglichen geistlichen Impulsen zum Thema „erdnah – himmelweit“.
URL:https://www.lgs-leinefelde-worbis.de/veranstaltung/kirchenpavillon-laedt-zum-verweilen-ein-5/2026-07-13/
ATTACH;FMTTYPE=image/jpeg:https://www.lgs-leinefelde-worbis.de/wp-content/uploads/2026/01/Logo-ErdnahHimmelweit_final-4-e1769587039528.jpg
END:VEVENT
BEGIN:VEVENT
DTSTART;TZID=Europe/Berlin:20260713T160000
DTEND;TZID=Europe/Berlin:20260713T170000
DTSTAMP:20260426T044727
CREATED:20260216T060917Z
LAST-MODIFIED:20260216T060918Z
UID:10003749-1783958400-1783962000@www.lgs-leinefelde-worbis.de
SUMMARY:Kursangebot Rückenschule –Impulse für einen starken Rücken im Gartenalltag
DESCRIPTION:Wir wissen alle: Unkraut vergeht nicht\, aber die Beweglichkeit im Kreuz manchmal schon. Denn Bücken\, Heben und Tragen gehören zum Gärtnern wie die Gießkanne. Die Lösung: Gerader Rücken\, in die Knie\, wenig Gewicht – oder? Damit Ihr Kreuz nicht zum „Garten-Graus“ wird\, macht das Team von Salus Physiotherapie Leinefelde Sie fit für die Beete. In einer ca. einstündigen Einheit lernen Sie Ihre Rückenmuskulatur kennen und einzusetzen. Wir üben das richtige Heben von schweren Kübeln und zeigen Ihnen kleine Lockerungsübungen für zwischendurch. Mit Salus’ Tipps im Rücken\, können Sie sich nach jedem Unkraut bücken!
URL:https://www.lgs-leinefelde-worbis.de/veranstaltung/kursangebot-rueckenschule-impulse-fuer-einen-starken-ruecken-im-gartenalltag/2026-07-13/
CATEGORIES:Aktivitäten
ATTACH;FMTTYPE=image/jpeg:https://www.lgs-leinefelde-worbis.de/wp-content/uploads/2026/02/Rueckenschule-1-e1771222148743.jpeg
END:VEVENT
BEGIN:VEVENT
DTSTART;TZID=Europe/Berlin:20260713T170000
DTEND;TZID=Europe/Berlin:20260713T180000
DTSTAMP:20260426T044727
CREATED:20260128T071531Z
LAST-MODIFIED:20260128T075504Z
UID:10003338-1783962000-1783965600@www.lgs-leinefelde-worbis.de
SUMMARY:Kirchenpavillon lädt zum Verweilen ein
DESCRIPTION:Der ökumenische Kirchenpavillon der katholischen und evangelischen Kirchen lädt zum Verweilen\, Einkehren und Entdecken ein. Wir laden Sie ein zu unseren täglichen geistlichen Impulsen zum Thema „erdnah – himmelweit“.
URL:https://www.lgs-leinefelde-worbis.de/veranstaltung/kirchenpavillon-laedt-zum-verweilen-ein-9/2026-07-13/
ATTACH;FMTTYPE=image/jpeg:https://www.lgs-leinefelde-worbis.de/wp-content/uploads/2026/01/Logo-ErdnahHimmelweit_final-e1769586897585.jpg
END:VEVENT
END:VCALENDAR