BEGIN:VCALENDAR
VERSION:2.0
PRODID:-//Landesgartenschau 2026 in Leinefelde-Worbis - ECPv6.15.20//NONSGML v1.0//EN
CALSCALE:GREGORIAN
METHOD:PUBLISH
X-WR-CALNAME:Landesgartenschau 2026 in Leinefelde-Worbis
X-ORIGINAL-URL:https://www.lgs-leinefelde-worbis.de
X-WR-CALDESC:Veranstaltungen für Landesgartenschau 2026 in Leinefelde-Worbis
REFRESH-INTERVAL;VALUE=DURATION:PT1H
X-Robots-Tag:noindex
X-PUBLISHED-TTL:PT1H
BEGIN:VTIMEZONE
TZID:Europe/Berlin
BEGIN:DAYLIGHT
TZOFFSETFROM:+0100
TZOFFSETTO:+0200
TZNAME:CEST
DTSTART:20250330T010000
END:DAYLIGHT
BEGIN:STANDARD
TZOFFSETFROM:+0200
TZOFFSETTO:+0100
TZNAME:CET
DTSTART:20251026T010000
END:STANDARD
BEGIN:DAYLIGHT
TZOFFSETFROM:+0100
TZOFFSETTO:+0200
TZNAME:CEST
DTSTART:20260329T010000
END:DAYLIGHT
BEGIN:STANDARD
TZOFFSETFROM:+0200
TZOFFSETTO:+0100
TZNAME:CET
DTSTART:20261025T010000
END:STANDARD
BEGIN:DAYLIGHT
TZOFFSETFROM:+0100
TZOFFSETTO:+0200
TZNAME:CEST
DTSTART:20270328T010000
END:DAYLIGHT
BEGIN:STANDARD
TZOFFSETFROM:+0200
TZOFFSETTO:+0100
TZNAME:CET
DTSTART:20271031T010000
END:STANDARD
END:VTIMEZONE
BEGIN:VEVENT
DTSTART;TZID=Europe/Berlin:20260718T100000
DTEND;TZID=Europe/Berlin:20260718T180000
DTSTAMP:20260426T044956
CREATED:20260112T132842Z
LAST-MODIFIED:20260302T124136Z
UID:10002716-1784368800-1784397600@www.lgs-leinefelde-worbis.de
SUMMARY:Das Urwaldmobil zu Gast bei der Landesgartenschau
DESCRIPTION:Das UrwaldMobil des Nationalparks Hainich bringt den „Urwald mitten in Deutschland“ auf die Landesgartenschau. Am Mobil können der wilde Buchenwald und seinen Bewohnerinnen und Bewohner mit Nase\, Fingerspitzen und Adleraugen entdeckt werden. Dazu muss geschnüffelt\, gefühlt\, gewühlt\, gerätselt und gebastelt werden! Unterwegs im Auftrag der Arten-Vielfalt. Der Nationalpark ist das artenreiche Vorbild für Zuhause! Daher wird am Mobil gezeigt\, welche wunderschönen Pflanzenarten auch in den Topf oder den Garten gehören\, um Wildbiene\, Schmetterling und Co. anständig unter die Flügel greifen zu können. Denn das ist dringend nötig! Der Nationalpark feiert im Jahr 2026 seinen 15. Geburtstag als UNESCO-Welterbe. Als Geschenk für große und kleine Gärtnerinnen und Gärtner kann man sich an der „Aufblüh-Station“ eine eigene bunte Samenmischung zusammenstellen. So gut ausgestattet kann es dann zuhause direkt mit dem Wachsen der Vielfalt losgehen – für einen tierisch guten Garten!
URL:https://www.lgs-leinefelde-worbis.de/veranstaltung/das-urwaldmobil-zu-gast-bei-der-landesgartenschau/2026-07-18/
CATEGORIES:Aktivitäten
ATTACH;FMTTYPE=image/jpeg:https://www.lgs-leinefelde-worbis.de/wp-content/uploads/2026/01/Urwaldmobil-e1768224514349.jpg
END:VEVENT
BEGIN:VEVENT
DTSTART;TZID=Europe/Berlin:20260718T100000
DTEND;TZID=Europe/Berlin:20260718T180000
DTSTAMP:20260426T044956
CREATED:20260218T115050Z
LAST-MODIFIED:20260218T115050Z
UID:10003831-1784368800-1784397600@www.lgs-leinefelde-worbis.de
SUMMARY:Blumenblock: Ausstellung Illusion & Realität
DESCRIPTION:Durch Spiegelungen\, perspektivische Effekte und inszenierte Räume werden Wahrnehmung und Wirklichkeit bei dieser Ausstellung im Blumenblock (Erdgeschoss & 1. Obergeschoss) bewusst hinterfragt. Florale Installationen erzeugen Irritationen und laden dazu ein\, Realität neu zu interpretieren.
URL:https://www.lgs-leinefelde-worbis.de/veranstaltung/blumenblock-ausstellung-illusion-realitaet/2026-07-18/
CATEGORIES:Ausstellung,Blumenblock
ATTACH;FMTTYPE=image/jpeg:https://www.lgs-leinefelde-worbis.de/wp-content/uploads/2026/02/IMG_1273-rotated-e1771415435324.jpeg
END:VEVENT
BEGIN:VEVENT
DTSTART;TZID=Europe/Berlin:20260718T100000
DTEND;TZID=Europe/Berlin:20260718T180000
DTSTAMP:20260426T044956
CREATED:20260411T125644Z
LAST-MODIFIED:20260411T125645Z
UID:10004118-1784368800-1784397600@www.lgs-leinefelde-worbis.de
SUMMARY:Mitten im Grünen zum großen Gewinn?
DESCRIPTION:LOTTO Thüringen zu Gast bei der Landesgartenschau – In der Tradition des guten Glücks.Als Thüringer Staatslotterie haben wir einen besonderen Arbeitsauftrag. Wir verteilen Glücksmomente im Freistaat und setzen uns mit Herzblut für das Gemeinwohl ein. Denn mit Geldern von LOTTO Thüringen werden die unterschiedlichsten gemeinnützigen Projekte im ganzen Freistaat unterstützt.Zulassungen: Aufgabe der Thüringer Staatslotterie ist die Veranstaltung\, Vermittlung und Durchführung staatlicher öffentlicher Glücksspiele in Erfüllung der öffentlichen Aufgabe nach § 10 Abs. 1 des Glücksspielstaatsvertrags im Freistaat Thüringen. Alle Prozesse rund ums Spiel laufen nach den weltweit höchsten Sicherheitsrichtlinien der World Lottery Association (WLA) für Lotterien ab.
URL:https://www.lgs-leinefelde-worbis.de/veranstaltung/mitten-im-gruenen-zum-grossen-gewinn/2026-07-18/
ATTACH;FMTTYPE=image/jpeg:https://www.lgs-leinefelde-worbis.de/wp-content/uploads/2026/04/Lotto-e1775912191692.jpg
END:VEVENT
BEGIN:VEVENT
DTSTART;TZID=Europe/Berlin:20260718T120000
DTEND;TZID=Europe/Berlin:20260718T130000
DTSTAMP:20260426T044956
CREATED:20260128T063239Z
LAST-MODIFIED:20260128T075725Z
UID:10003122-1784376000-1784379600@www.lgs-leinefelde-worbis.de
SUMMARY:Kirchenpavillon lädt zum Verweilen ein
DESCRIPTION:Der ökumenische Kirchenpavillon der katholischen und evangelischen Kirchen lädt zum Verweilen\, Einkehren und Entdecken ein. Wir laden Sie ein zu unseren täglichen geistlichen Impulsen zum Thema „erdnah – himmelweit“.
URL:https://www.lgs-leinefelde-worbis.de/veranstaltung/kirchenpavillon-laedt-zum-verweilen-ein-5/2026-07-18/
ATTACH;FMTTYPE=image/jpeg:https://www.lgs-leinefelde-worbis.de/wp-content/uploads/2026/01/Logo-ErdnahHimmelweit_final-4-e1769587039528.jpg
END:VEVENT
BEGIN:VEVENT
DTSTART;TZID=Europe/Berlin:20260718T120000
DTEND;TZID=Europe/Berlin:20260718T140000
DTSTAMP:20260426T044956
CREATED:20251209T135221Z
LAST-MODIFIED:20251209T135221Z
UID:10000429-1784376000-1784383200@www.lgs-leinefelde-worbis.de
SUMMARY:Schlagerkonzert mit Angelika Martin
DESCRIPTION:Erleben Sie Angelika Martin\, die deutsche Schlagersängerin mit der unverwechselbaren Stimme und den eingängigen Melodien\, live auf der Bühne des Gartenschau-Geländes. Mit zahlreichen Alben und Chart-Erfolgen hat sie sich einen festen Platz in der deutschen Schlagerszene erarbeitet. Ihre Auftritte sind voller Emotion\, Energie und Leidenschaft – ein echtes Highlight für alle Schlagerfans.
URL:https://www.lgs-leinefelde-worbis.de/veranstaltung/schlagerkonzert-mit-angelika-martin/2026-07-18/
ATTACH;FMTTYPE=image/jpeg:https://www.lgs-leinefelde-worbis.de/wp-content/uploads/2025/12/Angelika-Martin.jpeg
END:VEVENT
BEGIN:VEVENT
DTSTART;TZID=Europe/Berlin:20260718T130000
DTEND;TZID=Europe/Berlin:20260718T150000
DTSTAMP:20260426T044956
CREATED:20260129T123227Z
LAST-MODIFIED:20260129T123227Z
UID:10003449-1784379600-1784386800@www.lgs-leinefelde-worbis.de
SUMMARY:Kreativer Workshop
DESCRIPTION:In den kreativen Workshops des KreativWerk62 können Besucherinnen und Besucher selbst gestalterisch aktiv werden. Je nach Termin entstehen florale Kunstwerke mit Acryl- oder Aquarellfarben\, botanische Kerzen mit eingearbeiteten Blüten sowie kleine Glanzstücke aus Epoxidharz – inspiriert von Geburtsblumen und der Pflanzenwelt der Landesgartenschau. Die Angebote sind für Anfängerinnen und Anfänger  geeignet\, Vorkenntnisse sind nicht erforderlich. Im Mittelpunkt stehen Kreativität\, Entspannung und das Erleben von Natur in künstlerischer Form.
URL:https://www.lgs-leinefelde-worbis.de/veranstaltung/kreativer-workshop/2026-07-18/
ATTACH;FMTTYPE=image/jpeg:https://www.lgs-leinefelde-worbis.de/wp-content/uploads/2026/01/Kreativ-e1769689939544.jpeg
END:VEVENT
BEGIN:VEVENT
DTSTART;TZID=Europe/Berlin:20260718T140000
DTEND;TZID=Europe/Berlin:20260718T170000
DTSTAMP:20260426T044956
CREATED:20251103T114243Z
LAST-MODIFIED:20251103T114244Z
UID:10000233-1784383200-1784394000@www.lgs-leinefelde-worbis.de
SUMMARY:Picknick in Weiß
DESCRIPTION:Genießen Sie einen besonderen Sommernachmittag bei unserem „Picknick in Weiß“ auf der Landesgartenschau. Bringen Sie eigene Speisen mit\, kleiden Sie sich in Weiß und bedienen Sie sich gerne an unserem kleinen Obstbuffet. Erleben Sie stimmungsvolle Musik\, gute Gespräche und eine einzigartige Atmosphäre zwischen Blumen und Pflanzen.
URL:https://www.lgs-leinefelde-worbis.de/veranstaltung/picknick-in-weiss-3/
ATTACH;FMTTYPE=image/jpeg:https://www.lgs-leinefelde-worbis.de/wp-content/uploads/2025/10/FB_IMG_1760338526253.jpg
END:VEVENT
BEGIN:VEVENT
DTSTART;TZID=Europe/Berlin:20260718T150000
DTEND;TZID=Europe/Berlin:20260718T160000
DTSTAMP:20260426T044956
CREATED:20260224T155000Z
LAST-MODIFIED:20260224T103438Z
UID:10003915-1784386800-1784390400@www.lgs-leinefelde-worbis.de
SUMMARY:Konzert mit dem Freundeskreis Eichsfelder Hausmusik
DESCRIPTION:Traditionelle Hausmusik\, handgemacht und voller Heimatgefühl: Im Rahmen der Landesgartenschau gestaltet der Freundeskreis Eichsfelder Hausmusik zwei stimmungsvolle Konzerte auf dem Ausstellungsgelände. Der aus engagierten Hobby-Musikanten bestehende Freundeskreis widmet sich mit Leidenschaft der althergebrachten Eichsfelder Musiktradition. Auf Naturinstrumenten erklingen volkstümliche Weisen\, beliebte Stimmungstitel und bekannte deutsche Schlager – begleitet von Gesang und in unmittelbarem Kontakt zum Publikum. \n\n\n\nAls Hommage an das vielseitige „Musikinstrument des Jahres 2026“ rückt das Akkordeon\, das zur Familie der Harmonikas zählt\, besonders in den Mittelpunkt. Gemeinsam mit Violine\, Querflöte und Bass entsteht ein charakteristischer Klang\, der das heimatverbundene Genre authentisch widerspiegelt. Die Konzerte fügen sich in das farbenprächtige Ambiente der Landesgartenschau ein und laden zum Verweilen\, Zuhören und Mitsingen ein. Die Termine im Überblick: 22. Mai 2026\, 12:00–13:00 Uhr; 18. Juli 2026\, 15:00–16:00 Uhr.
URL:https://www.lgs-leinefelde-worbis.de/veranstaltung/konzert-mit-dem-freundeskreis-eichsfelder-hausmusik/2026-07-18/
CATEGORIES:Musik
ATTACH;FMTTYPE=image/jpeg:https://www.lgs-leinefelde-worbis.de/wp-content/uploads/2026/02/Hausmusik-e1771929196272.jpg
END:VEVENT
BEGIN:VEVENT
DTSTART;TZID=Europe/Berlin:20260718T150000
DTEND;TZID=Europe/Berlin:20260718T160000
DTSTAMP:20260426T044956
CREATED:20260327T095315Z
LAST-MODIFIED:20260327T095316Z
UID:10004069-1784386800-1784390400@www.lgs-leinefelde-worbis.de
SUMMARY:Origami-Kurs lädt zum kreativen Falten ein
DESCRIPTION:Die japanische Faltkunst steht bei einem wiederkehrenden Kreativangebot im Rahmen der Landesgartenschau Leinefelde-Worbis im Mittelpunkt. Der Origami-Kurs findet am 23. April\, 9. Mai\, 30. Mai\, 13. Juni\, 27. Juni\, 18. Juli\, 25. Juli\, 8. August\, 22. August\, 5. September sowie 19. September 2026 jeweils von 15:00 bis 16:00 Uhr statt. \n\n\n\nAus einem einfachen Blatt Papier entstehen dabei Schritt für Schritt kleine Kunstwerke – etwa Kraniche\, Blumen oder filigrane Figuren. Der Kurs vermittelt die Grundlagen der japanischen Falttechnik und führt behutsam an Formen\, Linien und präzises Arbeiten heran. Vorkenntnisse sind nicht erforderlich. \n\n\n\nOrigami verbindet Kreativität mit Ruhe und Konzentration. Das Angebot sich an alle\, die Freude am Gestalten haben oder eine entspannte kreative Auszeit erleben möchten. Am Ende entstehen aus wenigen Handgriffen dekorative kleine Meisterwerke.
URL:https://www.lgs-leinefelde-worbis.de/veranstaltung/origami-kurs-laedt-zum-kreativen-falten-ein/2026-07-18/
CATEGORIES:Aktivitäten
ATTACH;FMTTYPE=image/jpeg:https://www.lgs-leinefelde-worbis.de/wp-content/uploads/2026/03/origami-paper-bird-e1774605177966.jpeg
END:VEVENT
BEGIN:VEVENT
DTSTART;TZID=Europe/Berlin:20260718T170000
DTEND;TZID=Europe/Berlin:20260718T180000
DTSTAMP:20260426T044956
CREATED:20260128T071531Z
LAST-MODIFIED:20260128T075504Z
UID:10003343-1784394000-1784397600@www.lgs-leinefelde-worbis.de
SUMMARY:Kirchenpavillon lädt zum Verweilen ein
DESCRIPTION:Der ökumenische Kirchenpavillon der katholischen und evangelischen Kirchen lädt zum Verweilen\, Einkehren und Entdecken ein. Wir laden Sie ein zu unseren täglichen geistlichen Impulsen zum Thema „erdnah – himmelweit“.
URL:https://www.lgs-leinefelde-worbis.de/veranstaltung/kirchenpavillon-laedt-zum-verweilen-ein-9/2026-07-18/
ATTACH;FMTTYPE=image/jpeg:https://www.lgs-leinefelde-worbis.de/wp-content/uploads/2026/01/Logo-ErdnahHimmelweit_final-e1769586897585.jpg
END:VEVENT
BEGIN:VEVENT
DTSTART;TZID=Europe/Berlin:20260718T170000
DTEND;TZID=Europe/Berlin:20260718T180000
DTSTAMP:20260426T044956
CREATED:20260328T134746Z
LAST-MODIFIED:20260328T134746Z
UID:10004090-1784394000-1784397600@www.lgs-leinefelde-worbis.de
SUMMARY:Poetische Märchenstunde: „Warum singt die Nachtigall nachts?“
DESCRIPTION:Eine einfühlsame Lesung mit Eva-Maria Strehlow lädt im Rahmen der Landesgartenschau Leinefelde-Worbis zu einer Reise in eine poetische Märchenwelt ein. Die Veranstaltung „Warum singt die Nachtigall nachts?“ findet am 23. April\, 9. Mai\, 30. Mai\, 13. Juni\, 27. Juni\, 18. Juli\, 25. Juli\, 8. August\, 22. August\, 5. September sowie 19. September 2026 jeweils von 17:00 bis 18:00 Uhr statt. \n\n\n\nIm Mittelpunkt steht die Geschichte einer kleinen Nachtigall\, die ihren Platz in der Welt sucht. Während andere Vögel mit schillernden Farben beschenkt werden\, erhält sie eine besondere Gabe: eine Stimme\, so berührend\, dass sie Herzen bewegt. Doch ihr Talent ruft nicht nur Bewunderung hervor\, sondern auch Neid. Auf ihrer Reise zwischen Einsamkeit und Mut entdeckt die Nachtigall schließlich die Kraft der leisen Töne und wird zur Stimme der Nacht. \n\n\n\nDie Lesung verbindet poetische Bilder mit großen Gefühlen und erzählt von Einzigartigkeit\, Sehnsucht und der Schönheit des Unsichtbaren. Damit ergänzt sie das kulturelle Programm der Landesgartenschau um eine ruhige\, atmosphärische Veranstaltung für alle\, die Märchen und Geschichten lieben.
URL:https://www.lgs-leinefelde-worbis.de/veranstaltung/poetische-maerchenstunde-warum-singt-die-nachtigall-nachts/2026-07-18/
ATTACH;FMTTYPE=image/jpeg:https://www.lgs-leinefelde-worbis.de/wp-content/uploads/2026/03/Nachtigall-Kopieren-1-e1774705656390.jpg
END:VEVENT
END:VCALENDAR