BEGIN:VCALENDAR
VERSION:2.0
PRODID:-//Landesgartenschau 2026 in Leinefelde-Worbis - ECPv6.15.20//NONSGML v1.0//EN
CALSCALE:GREGORIAN
METHOD:PUBLISH
X-ORIGINAL-URL:https://www.lgs-leinefelde-worbis.de
X-WR-CALDESC:Veranstaltungen für Landesgartenschau 2026 in Leinefelde-Worbis
REFRESH-INTERVAL;VALUE=DURATION:PT1H
X-Robots-Tag:noindex
X-PUBLISHED-TTL:PT1H
BEGIN:VTIMEZONE
TZID:Europe/Berlin
BEGIN:DAYLIGHT
TZOFFSETFROM:+0100
TZOFFSETTO:+0200
TZNAME:CEST
DTSTART:20250330T010000
END:DAYLIGHT
BEGIN:STANDARD
TZOFFSETFROM:+0200
TZOFFSETTO:+0100
TZNAME:CET
DTSTART:20251026T010000
END:STANDARD
BEGIN:DAYLIGHT
TZOFFSETFROM:+0100
TZOFFSETTO:+0200
TZNAME:CEST
DTSTART:20260329T010000
END:DAYLIGHT
BEGIN:STANDARD
TZOFFSETFROM:+0200
TZOFFSETTO:+0100
TZNAME:CET
DTSTART:20261025T010000
END:STANDARD
BEGIN:DAYLIGHT
TZOFFSETFROM:+0100
TZOFFSETTO:+0200
TZNAME:CEST
DTSTART:20270328T010000
END:DAYLIGHT
BEGIN:STANDARD
TZOFFSETFROM:+0200
TZOFFSETTO:+0100
TZNAME:CET
DTSTART:20271031T010000
END:STANDARD
END:VTIMEZONE
BEGIN:VEVENT
DTSTART;TZID=Europe/Berlin:20260721T100000
DTEND;TZID=Europe/Berlin:20260721T180000
DTSTAMP:20260426T044752
CREATED:20260218T115050Z
LAST-MODIFIED:20260218T115050Z
UID:10003834-1784628000-1784656800@www.lgs-leinefelde-worbis.de
SUMMARY:Blumenblock: Ausstellung Illusion & Realität
DESCRIPTION:Durch Spiegelungen\, perspektivische Effekte und inszenierte Räume werden Wahrnehmung und Wirklichkeit bei dieser Ausstellung im Blumenblock (Erdgeschoss & 1. Obergeschoss) bewusst hinterfragt. Florale Installationen erzeugen Irritationen und laden dazu ein\, Realität neu zu interpretieren.
URL:https://www.lgs-leinefelde-worbis.de/veranstaltung/blumenblock-ausstellung-illusion-realitaet/2026-07-21/
CATEGORIES:Ausstellung,Blumenblock
ATTACH;FMTTYPE=image/jpeg:https://www.lgs-leinefelde-worbis.de/wp-content/uploads/2026/02/IMG_1273-rotated-e1771415435324.jpeg
END:VEVENT
BEGIN:VEVENT
DTSTART;TZID=Europe/Berlin:20260721T103000
DTEND;TZID=Europe/Berlin:20260721T120000
DTSTAMP:20260426T044752
CREATED:20260202T143455Z
LAST-MODIFIED:20260204T060134Z
UID:10003486-1784629800-1784635200@www.lgs-leinefelde-worbis.de
SUMMARY:Grünes Klassenzimmer: Ökosystem Wald – Alles andere als öde
DESCRIPTION:buchbares Kursangebot für Kindergartengruppen und Schulklassen \n\n\n\nPartner: Alternativer Bärenpark Worbis gGmbH \n\n\n\nDer Kurs bietet Einblicke in die komplexen ökologischen Zusammenhänge des Waldes. Thematisiert werden unter anderem Nahrungsnetze\, das Zusammenspiel von Pflanzen\, Tieren und Mikroorganismen sowie aktuelle Herausforderungen wie invasive Arten\, Monokulturen\, Klimawandel und der Verlust biologischer Vielfalt. Ziel ist es\, ein vertieftes Verständnis für die Bedeutung des Waldes zu fördern und Wege für einen nachhaltigen Umgang mit diesem sensiblen Ökosystem aufzuzeigen. \n\n\n\nZur Buchung: https://www.lgs-leinefelde-worbis.de/veranstaltungen-uebersicht/gruenes-klassenzimmer/buchung/#/
URL:https://www.lgs-leinefelde-worbis.de/veranstaltung/gruenes-klassenzimmer-oekosystem-wald-alles-andere-als-oede/2026-07-21/
CATEGORIES:Grünes Klassenzimmer
ATTACH;FMTTYPE=image/jpeg:https://www.lgs-leinefelde-worbis.de/wp-content/uploads/2026/02/Oekosystem-Wald_BaePa-e1770042887520.jpg
END:VEVENT
BEGIN:VEVENT
DTSTART;TZID=Europe/Berlin:20260721T120000
DTEND;TZID=Europe/Berlin:20260721T130000
DTSTAMP:20260426T044752
CREATED:20260128T063239Z
LAST-MODIFIED:20260128T075725Z
UID:10003125-1784635200-1784638800@www.lgs-leinefelde-worbis.de
SUMMARY:Kirchenpavillon lädt zum Verweilen ein
DESCRIPTION:Der ökumenische Kirchenpavillon der katholischen und evangelischen Kirchen lädt zum Verweilen\, Einkehren und Entdecken ein. Wir laden Sie ein zu unseren täglichen geistlichen Impulsen zum Thema „erdnah – himmelweit“.
URL:https://www.lgs-leinefelde-worbis.de/veranstaltung/kirchenpavillon-laedt-zum-verweilen-ein-5/2026-07-21/
ATTACH;FMTTYPE=image/jpeg:https://www.lgs-leinefelde-worbis.de/wp-content/uploads/2026/01/Logo-ErdnahHimmelweit_final-4-e1769587039528.jpg
END:VEVENT
BEGIN:VEVENT
DTSTART;TZID=Europe/Berlin:20260721T160000
DTEND;TZID=Europe/Berlin:20260721T170000
DTSTAMP:20260426T044752
CREATED:20251117T102147Z
LAST-MODIFIED:20260227T084154Z
UID:10003931-1784649600-1784653200@www.lgs-leinefelde-worbis.de
SUMMARY:Kursangebot: Hula-Hoop – Bewegung\, Leichtigkeit & Rhythmus
DESCRIPTION:Im Rahmen der Landesgartenschau lädt ein Hula-Hoop-Kurs zu Bewegung mit Leichtigkeit und Rhythmus ein. In fließenden Bewegungen und ohne Leistungsdruck werden Rücken\, Core und Koordination gestärkt. Mit Musik\, Spaß und rhythmischen Übungen entsteht eine kleine Auszeit voller Energie und Lebensfreude. \n\n\n\nDie Kurseinheiten finden an folgenden Terminen jeweils um 16:00 Uhr statt: 06.10.; 05.05.; 19.05.; 02.06.; 16.06.; 07.07.; 21.07.; 04.08.; 18.08.; 01.09. und 15.09.2026
URL:https://www.lgs-leinefelde-worbis.de/veranstaltung/kursangebot-hula-hoop-bewegung-leichtigkeit-rhythmus/2026-07-21/
CATEGORIES:Aktivitäten
ATTACH;FMTTYPE=image/jpeg:https://www.lgs-leinefelde-worbis.de/wp-content/uploads/2025/11/woman-exercising-with-hula-hoop-circle-Kopieren.jpg
END:VEVENT
BEGIN:VEVENT
DTSTART;TZID=Europe/Berlin:20260721T170000
DTEND;TZID=Europe/Berlin:20260721T180000
DTSTAMP:20260426T044752
CREATED:20260128T071531Z
LAST-MODIFIED:20260128T075504Z
UID:10003346-1784653200-1784656800@www.lgs-leinefelde-worbis.de
SUMMARY:Kirchenpavillon lädt zum Verweilen ein
DESCRIPTION:Der ökumenische Kirchenpavillon der katholischen und evangelischen Kirchen lädt zum Verweilen\, Einkehren und Entdecken ein. Wir laden Sie ein zu unseren täglichen geistlichen Impulsen zum Thema „erdnah – himmelweit“.
URL:https://www.lgs-leinefelde-worbis.de/veranstaltung/kirchenpavillon-laedt-zum-verweilen-ein-9/2026-07-21/
ATTACH;FMTTYPE=image/jpeg:https://www.lgs-leinefelde-worbis.de/wp-content/uploads/2026/01/Logo-ErdnahHimmelweit_final-e1769586897585.jpg
END:VEVENT
END:VCALENDAR