BEGIN:VCALENDAR
VERSION:2.0
PRODID:-//Landesgartenschau 2026 in Leinefelde-Worbis - ECPv6.15.20//NONSGML v1.0//EN
CALSCALE:GREGORIAN
METHOD:PUBLISH
X-WR-CALNAME:Landesgartenschau 2026 in Leinefelde-Worbis
X-ORIGINAL-URL:https://www.lgs-leinefelde-worbis.de
X-WR-CALDESC:Veranstaltungen für Landesgartenschau 2026 in Leinefelde-Worbis
REFRESH-INTERVAL;VALUE=DURATION:PT1H
X-Robots-Tag:noindex
X-PUBLISHED-TTL:PT1H
BEGIN:VTIMEZONE
TZID:Europe/Berlin
BEGIN:DAYLIGHT
TZOFFSETFROM:+0100
TZOFFSETTO:+0200
TZNAME:CEST
DTSTART:20250330T010000
END:DAYLIGHT
BEGIN:STANDARD
TZOFFSETFROM:+0200
TZOFFSETTO:+0100
TZNAME:CET
DTSTART:20251026T010000
END:STANDARD
BEGIN:DAYLIGHT
TZOFFSETFROM:+0100
TZOFFSETTO:+0200
TZNAME:CEST
DTSTART:20260329T010000
END:DAYLIGHT
BEGIN:STANDARD
TZOFFSETFROM:+0200
TZOFFSETTO:+0100
TZNAME:CET
DTSTART:20261025T010000
END:STANDARD
BEGIN:DAYLIGHT
TZOFFSETFROM:+0100
TZOFFSETTO:+0200
TZNAME:CEST
DTSTART:20270328T010000
END:DAYLIGHT
BEGIN:STANDARD
TZOFFSETFROM:+0200
TZOFFSETTO:+0100
TZNAME:CET
DTSTART:20271031T010000
END:STANDARD
END:VTIMEZONE
BEGIN:VEVENT
DTSTART;TZID=Europe/Berlin:20260723T100000
DTEND;TZID=Europe/Berlin:20260723T180000
DTSTAMP:20260426T044956
CREATED:20260218T115050Z
LAST-MODIFIED:20260218T115050Z
UID:10003836-1784800800-1784829600@www.lgs-leinefelde-worbis.de
SUMMARY:Blumenblock: Ausstellung Illusion & Realität
DESCRIPTION:Durch Spiegelungen\, perspektivische Effekte und inszenierte Räume werden Wahrnehmung und Wirklichkeit bei dieser Ausstellung im Blumenblock (Erdgeschoss & 1. Obergeschoss) bewusst hinterfragt. Florale Installationen erzeugen Irritationen und laden dazu ein\, Realität neu zu interpretieren.
URL:https://www.lgs-leinefelde-worbis.de/veranstaltung/blumenblock-ausstellung-illusion-realitaet/2026-07-23/
CATEGORIES:Ausstellung,Blumenblock
ATTACH;FMTTYPE=image/jpeg:https://www.lgs-leinefelde-worbis.de/wp-content/uploads/2026/02/IMG_1273-rotated-e1771415435324.jpeg
END:VEVENT
BEGIN:VEVENT
DTSTART;TZID=Europe/Berlin:20260723T103000
DTEND;TZID=Europe/Berlin:20260723T120000
DTSTAMP:20260426T044956
CREATED:20260208T153226Z
LAST-MODIFIED:20260208T153228Z
UID:10003657-1784802600-1784808000@www.lgs-leinefelde-worbis.de
SUMMARY:Grünes Klassenzimmer: Erde\, mich gibt’s nur einmal: Umweltschutz und Mülltrennung
DESCRIPTION:buchbares Kursangebot für Kindergartengruppen und Schulklassen \n\n\n\nPartner: Fachamt ÖTK\, Stadtbibliothek Leinefelde-Worbis \n\n\n\nIn dieser Veranstaltung entdecken Kinder\, warum Umweltschutz wichtig ist und lernen spielerisch\, wie richtiges Mülltrennen funktioniert – mit einer spannenden Vorlesegeschichte und einem interaktiven Quiz zum Mitmachen. \n\n\n\nZur Buchung: https://www.lgs-leinefelde-worbis.de/veranstaltungen-uebersicht/gruenes-klassenzimmer/buchung/#/
URL:https://www.lgs-leinefelde-worbis.de/veranstaltung/gruenes-klassenzimmer-erde-mich-gibts-nur-einmal-umweltschutz-und-muelltrennung/2026-07-23/1/
CATEGORIES:Grünes Klassenzimmer
ATTACH;FMTTYPE=image/jpeg:https://www.lgs-leinefelde-worbis.de/wp-content/uploads/2026/02/Erde-mich-gibts-1x_Stadtbiblo-e1770564736596.jpeg
END:VEVENT
BEGIN:VEVENT
DTSTART;TZID=Europe/Berlin:20260723T110000
DTEND;TZID=Europe/Berlin:20260723T120000
DTSTAMP:20260426T044956
CREATED:20260106T143743Z
LAST-MODIFIED:20260106T143743Z
UID:10000456-1784804400-1784808000@www.lgs-leinefelde-worbis.de
SUMMARY:Eierlikör-Tasting
DESCRIPTION:Entdecken Sie die Vielfalt regionaler Eierliköre: von klassisch-cremig bis hin zu besonderen Geschmacksvariationen. Probieren Sie ausgewählte Spezialitäten aus der Umgebung und erfahren Sie Wissenswertes über Herkunft und die regionalen Besonderheiten.
URL:https://www.lgs-leinefelde-worbis.de/veranstaltung/eierlikoer-tasting/2026-07-23/1/
ATTACH;FMTTYPE=image/jpeg:https://www.lgs-leinefelde-worbis.de/wp-content/uploads/2026/01/Eierlikoerspezialitaeten-Tino-Sieland-HVE-Eichsfeld-Touristik-e.V-Kopieren-e1767710237287.jpg
END:VEVENT
BEGIN:VEVENT
DTSTART;TZID=Europe/Berlin:20260723T120000
DTEND;TZID=Europe/Berlin:20260723T130000
DTSTAMP:20260426T044956
CREATED:20260128T063239Z
LAST-MODIFIED:20260128T075725Z
UID:10003127-1784808000-1784811600@www.lgs-leinefelde-worbis.de
SUMMARY:Kirchenpavillon lädt zum Verweilen ein
DESCRIPTION:Der ökumenische Kirchenpavillon der katholischen und evangelischen Kirchen lädt zum Verweilen\, Einkehren und Entdecken ein. Wir laden Sie ein zu unseren täglichen geistlichen Impulsen zum Thema „erdnah – himmelweit“.
URL:https://www.lgs-leinefelde-worbis.de/veranstaltung/kirchenpavillon-laedt-zum-verweilen-ein-5/2026-07-23/
ATTACH;FMTTYPE=image/jpeg:https://www.lgs-leinefelde-worbis.de/wp-content/uploads/2026/01/Logo-ErdnahHimmelweit_final-4-e1769587039528.jpg
END:VEVENT
BEGIN:VEVENT
DTSTART;TZID=Europe/Berlin:20260723T130000
DTEND;TZID=Europe/Berlin:20260723T143000
DTSTAMP:20260426T044956
CREATED:20260208T153226Z
LAST-MODIFIED:20260208T153228Z
UID:10003658-1784811600-1784817000@www.lgs-leinefelde-worbis.de
SUMMARY:Grünes Klassenzimmer: Erde\, mich gibt’s nur einmal: Umweltschutz und Mülltrennung
DESCRIPTION:buchbares Kursangebot für Kindergartengruppen und Schulklassen \n\n\n\nPartner: Fachamt ÖTK\, Stadtbibliothek Leinefelde-Worbis \n\n\n\nIn dieser Veranstaltung entdecken Kinder\, warum Umweltschutz wichtig ist und lernen spielerisch\, wie richtiges Mülltrennen funktioniert – mit einer spannenden Vorlesegeschichte und einem interaktiven Quiz zum Mitmachen. \n\n\n\nZur Buchung: https://www.lgs-leinefelde-worbis.de/veranstaltungen-uebersicht/gruenes-klassenzimmer/buchung/#/
URL:https://www.lgs-leinefelde-worbis.de/veranstaltung/gruenes-klassenzimmer-erde-mich-gibts-nur-einmal-umweltschutz-und-muelltrennung/2026-07-23/2/
CATEGORIES:Grünes Klassenzimmer
ATTACH;FMTTYPE=image/jpeg:https://www.lgs-leinefelde-worbis.de/wp-content/uploads/2026/02/Erde-mich-gibts-1x_Stadtbiblo-e1770564736596.jpeg
END:VEVENT
BEGIN:VEVENT
DTSTART;TZID=Europe/Berlin:20260723T150000
DTEND;TZID=Europe/Berlin:20260723T160000
DTSTAMP:20260426T044956
CREATED:20260106T143743Z
LAST-MODIFIED:20260106T143743Z
UID:10000457-1784818800-1784822400@www.lgs-leinefelde-worbis.de
SUMMARY:Eierlikör-Tasting
DESCRIPTION:Entdecken Sie die Vielfalt regionaler Eierliköre: von klassisch-cremig bis hin zu besonderen Geschmacksvariationen. Probieren Sie ausgewählte Spezialitäten aus der Umgebung und erfahren Sie Wissenswertes über Herkunft und die regionalen Besonderheiten.
URL:https://www.lgs-leinefelde-worbis.de/veranstaltung/eierlikoer-tasting/2026-07-23/2/
ATTACH;FMTTYPE=image/jpeg:https://www.lgs-leinefelde-worbis.de/wp-content/uploads/2026/01/Eierlikoerspezialitaeten-Tino-Sieland-HVE-Eichsfeld-Touristik-e.V-Kopieren-e1767710237287.jpg
END:VEVENT
BEGIN:VEVENT
DTSTART;TZID=Europe/Berlin:20260723T170000
DTEND;TZID=Europe/Berlin:20260723T180000
DTSTAMP:20260426T044956
CREATED:20260128T071531Z
LAST-MODIFIED:20260128T075504Z
UID:10003348-1784826000-1784829600@www.lgs-leinefelde-worbis.de
SUMMARY:Kirchenpavillon lädt zum Verweilen ein
DESCRIPTION:Der ökumenische Kirchenpavillon der katholischen und evangelischen Kirchen lädt zum Verweilen\, Einkehren und Entdecken ein. Wir laden Sie ein zu unseren täglichen geistlichen Impulsen zum Thema „erdnah – himmelweit“.
URL:https://www.lgs-leinefelde-worbis.de/veranstaltung/kirchenpavillon-laedt-zum-verweilen-ein-9/2026-07-23/
ATTACH;FMTTYPE=image/jpeg:https://www.lgs-leinefelde-worbis.de/wp-content/uploads/2026/01/Logo-ErdnahHimmelweit_final-e1769586897585.jpg
END:VEVENT
END:VCALENDAR