BEGIN:VCALENDAR
VERSION:2.0
PRODID:-//Landesgartenschau 2026 in Leinefelde-Worbis - ECPv6.15.20//NONSGML v1.0//EN
CALSCALE:GREGORIAN
METHOD:PUBLISH
X-WR-CALNAME:Landesgartenschau 2026 in Leinefelde-Worbis
X-ORIGINAL-URL:https://www.lgs-leinefelde-worbis.de
X-WR-CALDESC:Veranstaltungen für Landesgartenschau 2026 in Leinefelde-Worbis
REFRESH-INTERVAL;VALUE=DURATION:PT1H
X-Robots-Tag:noindex
X-PUBLISHED-TTL:PT1H
BEGIN:VTIMEZONE
TZID:Europe/Berlin
BEGIN:DAYLIGHT
TZOFFSETFROM:+0100
TZOFFSETTO:+0200
TZNAME:CEST
DTSTART:20250330T010000
END:DAYLIGHT
BEGIN:STANDARD
TZOFFSETFROM:+0200
TZOFFSETTO:+0100
TZNAME:CET
DTSTART:20251026T010000
END:STANDARD
BEGIN:DAYLIGHT
TZOFFSETFROM:+0100
TZOFFSETTO:+0200
TZNAME:CEST
DTSTART:20260329T010000
END:DAYLIGHT
BEGIN:STANDARD
TZOFFSETFROM:+0200
TZOFFSETTO:+0100
TZNAME:CET
DTSTART:20261025T010000
END:STANDARD
BEGIN:DAYLIGHT
TZOFFSETFROM:+0100
TZOFFSETTO:+0200
TZNAME:CEST
DTSTART:20270328T010000
END:DAYLIGHT
BEGIN:STANDARD
TZOFFSETFROM:+0200
TZOFFSETTO:+0100
TZNAME:CET
DTSTART:20271031T010000
END:STANDARD
END:VTIMEZONE
BEGIN:VEVENT
DTSTART;TZID=Europe/Berlin:20260724T100000
DTEND;TZID=Europe/Berlin:20260724T180000
DTSTAMP:20260426T050049
CREATED:20260218T115050Z
LAST-MODIFIED:20260218T115050Z
UID:10003837-1784887200-1784916000@www.lgs-leinefelde-worbis.de
SUMMARY:Blumenblock: Ausstellung Illusion & Realität
DESCRIPTION:Durch Spiegelungen\, perspektivische Effekte und inszenierte Räume werden Wahrnehmung und Wirklichkeit bei dieser Ausstellung im Blumenblock (Erdgeschoss & 1. Obergeschoss) bewusst hinterfragt. Florale Installationen erzeugen Irritationen und laden dazu ein\, Realität neu zu interpretieren.
URL:https://www.lgs-leinefelde-worbis.de/veranstaltung/blumenblock-ausstellung-illusion-realitaet/2026-07-24/
CATEGORIES:Ausstellung,Blumenblock
ATTACH;FMTTYPE=image/jpeg:https://www.lgs-leinefelde-worbis.de/wp-content/uploads/2026/02/IMG_1273-rotated-e1771415435324.jpeg
END:VEVENT
BEGIN:VEVENT
DTSTART;TZID=Europe/Berlin:20260724T120000
DTEND;TZID=Europe/Berlin:20260724T130000
DTSTAMP:20260426T050049
CREATED:20260128T063239Z
LAST-MODIFIED:20260128T075725Z
UID:10003128-1784894400-1784898000@www.lgs-leinefelde-worbis.de
SUMMARY:Kirchenpavillon lädt zum Verweilen ein
DESCRIPTION:Der ökumenische Kirchenpavillon der katholischen und evangelischen Kirchen lädt zum Verweilen\, Einkehren und Entdecken ein. Wir laden Sie ein zu unseren täglichen geistlichen Impulsen zum Thema „erdnah – himmelweit“.
URL:https://www.lgs-leinefelde-worbis.de/veranstaltung/kirchenpavillon-laedt-zum-verweilen-ein-5/2026-07-24/
ATTACH;FMTTYPE=image/jpeg:https://www.lgs-leinefelde-worbis.de/wp-content/uploads/2026/01/Logo-ErdnahHimmelweit_final-4-e1769587039528.jpg
END:VEVENT
BEGIN:VEVENT
DTSTART;TZID=Europe/Berlin:20260724T160000
DTEND;TZID=Europe/Berlin:20260724T170000
DTSTAMP:20260426T050049
CREATED:20251125T150141Z
LAST-MODIFIED:20251125T150142Z
UID:10000382-1784908800-1784912400@www.lgs-leinefelde-worbis.de
SUMMARY:Cell-re-active-Training mit Jutta Barthel
DESCRIPTION:Im Rahmen der Landesgartenschau bietet Jutta Barthel an mehreren Terminen einen kompakten Einblick in das Cell-re-active-Training. Das Format kombiniert einen kurzen Vortrag mit einer praktischen Demonstration und zeigt auf\, wie körperliche Blockaden erkannt und gelöst werden können. Im Mittelpunkt stehen wiederkehrende Beschwerden\, eingeschränkte Beweglichkeit sowie der Wunsch nach mehr Kraft\, Leistungsfähigkeit und Lebensfreude. Das Angebot richtet sich an alle\, die einen neuen Zugang zu ihrem Körper suchen und innovative Trainingsansätze kennenlernen möchten. \n\n\n\nTermine (jeweils 16:00–17:00 Uhr): \n\n\n\n\n02.10.2026\n\n\n\n15.05.2026\n\n\n\n12.06.2026\n\n\n\n26.06.2026\n\n\n\n10.07.2026\n\n\n\n24.07.2026\n\n\n\n11.09.2026
URL:https://www.lgs-leinefelde-worbis.de/veranstaltung/cell-re-active-training-mit-jutta-barthel/2026-07-24/
ATTACH;FMTTYPE=image/jpeg:https://www.lgs-leinefelde-worbis.de/wp-content/uploads/2025/11/20251116_122456-e1764082083853.jpg
END:VEVENT
BEGIN:VEVENT
DTSTART;TZID=Europe/Berlin:20260724T170000
DTEND;TZID=Europe/Berlin:20260724T180000
DTSTAMP:20260426T050049
CREATED:20260128T071531Z
LAST-MODIFIED:20260128T075504Z
UID:10003349-1784912400-1784916000@www.lgs-leinefelde-worbis.de
SUMMARY:Kirchenpavillon lädt zum Verweilen ein
DESCRIPTION:Der ökumenische Kirchenpavillon der katholischen und evangelischen Kirchen lädt zum Verweilen\, Einkehren und Entdecken ein. Wir laden Sie ein zu unseren täglichen geistlichen Impulsen zum Thema „erdnah – himmelweit“.
URL:https://www.lgs-leinefelde-worbis.de/veranstaltung/kirchenpavillon-laedt-zum-verweilen-ein-9/2026-07-24/
ATTACH;FMTTYPE=image/jpeg:https://www.lgs-leinefelde-worbis.de/wp-content/uploads/2026/01/Logo-ErdnahHimmelweit_final-e1769586897585.jpg
END:VEVENT
END:VCALENDAR