BEGIN:VCALENDAR
VERSION:2.0
PRODID:-//Landesgartenschau 2026 in Leinefelde-Worbis - ECPv6.15.20//NONSGML v1.0//EN
CALSCALE:GREGORIAN
METHOD:PUBLISH
X-WR-CALNAME:Landesgartenschau 2026 in Leinefelde-Worbis
X-ORIGINAL-URL:https://www.lgs-leinefelde-worbis.de
X-WR-CALDESC:Veranstaltungen für Landesgartenschau 2026 in Leinefelde-Worbis
REFRESH-INTERVAL;VALUE=DURATION:PT1H
X-Robots-Tag:noindex
X-PUBLISHED-TTL:PT1H
BEGIN:VTIMEZONE
TZID:Europe/Berlin
BEGIN:DAYLIGHT
TZOFFSETFROM:+0100
TZOFFSETTO:+0200
TZNAME:CEST
DTSTART:20250330T010000
END:DAYLIGHT
BEGIN:STANDARD
TZOFFSETFROM:+0200
TZOFFSETTO:+0100
TZNAME:CET
DTSTART:20251026T010000
END:STANDARD
BEGIN:DAYLIGHT
TZOFFSETFROM:+0100
TZOFFSETTO:+0200
TZNAME:CEST
DTSTART:20260329T010000
END:DAYLIGHT
BEGIN:STANDARD
TZOFFSETFROM:+0200
TZOFFSETTO:+0100
TZNAME:CET
DTSTART:20261025T010000
END:STANDARD
BEGIN:DAYLIGHT
TZOFFSETFROM:+0100
TZOFFSETTO:+0200
TZNAME:CEST
DTSTART:20270328T010000
END:DAYLIGHT
BEGIN:STANDARD
TZOFFSETFROM:+0200
TZOFFSETTO:+0100
TZNAME:CET
DTSTART:20271031T010000
END:STANDARD
END:VTIMEZONE
BEGIN:VEVENT
DTSTART;TZID=Europe/Berlin:20260725T100000
DTEND;TZID=Europe/Berlin:20260725T150000
DTSTAMP:20260426T050056
CREATED:20260323T164808Z
LAST-MODIFIED:20260323T164809Z
UID:10004010-1784973600-1784991600@www.lgs-leinefelde-worbis.de
SUMMARY:Beratung zum Pflanzenschutz im Haus- und Kleingarten
DESCRIPTION:Wenn Pflanzen kränkeln oder Schädlinge im Garten auftreten\, ist fachkundiger Rat gefragt. Am Sonnabend\, 25. Juli 2026\, von 10.00 bis 15.00 Uhr erhalten Besucherinnen und Besucher individuelle Unterstützung rund um den Pflanzenschutz im Haus- und Kleingarten. Anhand konkreter Beispiele werden mögliche Ursachen für Schäden erläutert und geeignete Maßnahmen für ein gesundes Pflanzenwachstum vorgestellt. Christina Schönheit und Luke Michalski geben praktische Hinweise zur Vorbeugung\, Diagnose und Behandlung von Krankheiten sowie zum Umgang mit Schädlingen. Ziel ist es\, langfristig vitales Grün und widerstandsfähige Pflanzenbestände zu fördern. \n\n\n\nDie Veranstaltung findet im Themengarten „Grünes Herz – Der Garten Thüringens“\, im Pavillon „Gärtnertreff Thüringen“ statt. Zuständig ist das Thüringer Landesamt für Landwirtschaft und Ländlichen Raum.
URL:https://www.lgs-leinefelde-worbis.de/veranstaltung/beratung-zum-pflanzenschutz-im-haus-und-kleingarten-2/
CATEGORIES:Themengarten "Grünes Herz"
ATTACH;FMTTYPE=image/jpeg:https://www.lgs-leinefelde-worbis.de/wp-content/uploads/2026/03/Beratung-zum-Pflanzenschutz-im-Haus-und-Kleingarten-1-e1774284475511.jpg
END:VEVENT
BEGIN:VEVENT
DTSTART;TZID=Europe/Berlin:20260725T100000
DTEND;TZID=Europe/Berlin:20260725T180000
DTSTAMP:20260426T050056
CREATED:20260218T115050Z
LAST-MODIFIED:20260218T115050Z
UID:10003838-1784973600-1785002400@www.lgs-leinefelde-worbis.de
SUMMARY:Blumenblock: Ausstellung Illusion & Realität
DESCRIPTION:Durch Spiegelungen\, perspektivische Effekte und inszenierte Räume werden Wahrnehmung und Wirklichkeit bei dieser Ausstellung im Blumenblock (Erdgeschoss & 1. Obergeschoss) bewusst hinterfragt. Florale Installationen erzeugen Irritationen und laden dazu ein\, Realität neu zu interpretieren.
URL:https://www.lgs-leinefelde-worbis.de/veranstaltung/blumenblock-ausstellung-illusion-realitaet/2026-07-25/
CATEGORIES:Ausstellung,Blumenblock
ATTACH;FMTTYPE=image/jpeg:https://www.lgs-leinefelde-worbis.de/wp-content/uploads/2026/02/IMG_1273-rotated-e1771415435324.jpeg
END:VEVENT
BEGIN:VEVENT
DTSTART;TZID=Europe/Berlin:20260725T100000
DTEND;TZID=Europe/Berlin:20260725T180000
DTSTAMP:20260426T050056
CREATED:20260411T125644Z
LAST-MODIFIED:20260411T125645Z
UID:10004120-1784973600-1785002400@www.lgs-leinefelde-worbis.de
SUMMARY:Mitten im Grünen zum großen Gewinn?
DESCRIPTION:LOTTO Thüringen zu Gast bei der Landesgartenschau – In der Tradition des guten Glücks.Als Thüringer Staatslotterie haben wir einen besonderen Arbeitsauftrag. Wir verteilen Glücksmomente im Freistaat und setzen uns mit Herzblut für das Gemeinwohl ein. Denn mit Geldern von LOTTO Thüringen werden die unterschiedlichsten gemeinnützigen Projekte im ganzen Freistaat unterstützt.Zulassungen: Aufgabe der Thüringer Staatslotterie ist die Veranstaltung\, Vermittlung und Durchführung staatlicher öffentlicher Glücksspiele in Erfüllung der öffentlichen Aufgabe nach § 10 Abs. 1 des Glücksspielstaatsvertrags im Freistaat Thüringen. Alle Prozesse rund ums Spiel laufen nach den weltweit höchsten Sicherheitsrichtlinien der World Lottery Association (WLA) für Lotterien ab.
URL:https://www.lgs-leinefelde-worbis.de/veranstaltung/mitten-im-gruenen-zum-grossen-gewinn/2026-07-25/
ATTACH;FMTTYPE=image/jpeg:https://www.lgs-leinefelde-worbis.de/wp-content/uploads/2026/04/Lotto-e1775912191692.jpg
END:VEVENT
BEGIN:VEVENT
DTSTART;TZID=Europe/Berlin:20260725T100000
DTEND;TZID=Europe/Berlin:20260725T180000
DTSTAMP:20260426T050056
CREATED:20260411T142527Z
LAST-MODIFIED:20260411T142528Z
UID:10004155-1784973600-1785002400@www.lgs-leinefelde-worbis.de
SUMMARY:Bücherflohmarkt lädt zum Stöbern ein
DESCRIPTION:Zwischen Stöbern\, Schmökern und kleinen Fundstücken lädt ein gemütlicher Bücherflohmarkt zum Entdecken ein. Im Gärtnermarkt auf dem Landesgartenschaugelände wartet an mehreren Wochenenden von April bis September eine große Auswahl an gebrauchten Büchern aus verschiedenen Themenbereichen auf neue Leserinnen und Leser. Der Bücherflohmarkt findet am 25. und 26. April\, 30. und 31. Mai\, 27. und 28. Juni\, 25. und 26. Juli\, 29. und 30. August sowie 26. und 27. September 2026 jeweils von 10:00 bis 18:00 Uhr statt. Ob Romane\, Sachbücher\, Bildbände oder besondere Einzelstücke – der Bücherflohmarkt bietet Gelegenheit\, in entspannter Atmosphäre nach Lesestoff zu suchen und kleine Schätze zu entdecken. Veranstalter Frank Barth freut sich auf seine Gäste.
URL:https://www.lgs-leinefelde-worbis.de/veranstaltung/buecherflohmarkt-laedt-zum-stoebern-ein/2026-07-25/
CATEGORIES:Feste & Märkte
ATTACH;FMTTYPE=image/jpeg:https://www.lgs-leinefelde-worbis.de/wp-content/uploads/2026/04/nbgmhj-e1775917377995.jpg
END:VEVENT
BEGIN:VEVENT
DTSTART;TZID=Europe/Berlin:20260725T110000
DTEND;TZID=Europe/Berlin:20260725T120000
DTSTAMP:20260426T050056
CREATED:20251209T140226Z
LAST-MODIFIED:20251209T140239Z
UID:10000439-1784977200-1784980800@www.lgs-leinefelde-worbis.de
SUMMARY:Konzert mit Kinderliedermacher Mathi
DESCRIPTION:Mathi der Kinderliedermacher begeistert Kinder und Eltern gleichermaßen. Werdet mit ihm auf dem Gartenschau-Gelände zum Mülldedektiv\, fahrt eine Runde Achterbahn oder helft ihm dabei\, dem miesen fiesen Riesen das Naseputzen beizubringen. Seine selbstgeschriebenen\, fröhlichen und aber auch pädagogisch wertvollen Lieder kommen mit eingebauter Ohrwurmgarantie um die Ecke und machen auch vor dir nicht halt.
URL:https://www.lgs-leinefelde-worbis.de/veranstaltung/konzert-mit-mathi-dem-kinderliedermacher/2026-07-25/
ATTACH;FMTTYPE=image/jpeg:https://www.lgs-leinefelde-worbis.de/wp-content/uploads/2025/12/kinderliederfestival-2025-45-Instagram-20251114-17-e1765288932672.jpg
END:VEVENT
BEGIN:VEVENT
DTSTART;TZID=Europe/Berlin:20260725T120000
DTEND;TZID=Europe/Berlin:20260725T130000
DTSTAMP:20260426T050056
CREATED:20260128T063239Z
LAST-MODIFIED:20260128T075725Z
UID:10003129-1784980800-1784984400@www.lgs-leinefelde-worbis.de
SUMMARY:Kirchenpavillon lädt zum Verweilen ein
DESCRIPTION:Der ökumenische Kirchenpavillon der katholischen und evangelischen Kirchen lädt zum Verweilen\, Einkehren und Entdecken ein. Wir laden Sie ein zu unseren täglichen geistlichen Impulsen zum Thema „erdnah – himmelweit“.
URL:https://www.lgs-leinefelde-worbis.de/veranstaltung/kirchenpavillon-laedt-zum-verweilen-ein-5/2026-07-25/
ATTACH;FMTTYPE=image/jpeg:https://www.lgs-leinefelde-worbis.de/wp-content/uploads/2026/01/Logo-ErdnahHimmelweit_final-4-e1769587039528.jpg
END:VEVENT
BEGIN:VEVENT
DTSTART;TZID=Europe/Berlin:20260725T150000
DTEND;TZID=Europe/Berlin:20260725T160000
DTSTAMP:20260426T050056
CREATED:20260327T095315Z
LAST-MODIFIED:20260327T095316Z
UID:10004070-1784991600-1784995200@www.lgs-leinefelde-worbis.de
SUMMARY:Origami-Kurs lädt zum kreativen Falten ein
DESCRIPTION:Die japanische Faltkunst steht bei einem wiederkehrenden Kreativangebot im Rahmen der Landesgartenschau Leinefelde-Worbis im Mittelpunkt. Der Origami-Kurs findet am 23. April\, 9. Mai\, 30. Mai\, 13. Juni\, 27. Juni\, 18. Juli\, 25. Juli\, 8. August\, 22. August\, 5. September sowie 19. September 2026 jeweils von 15:00 bis 16:00 Uhr statt. \n\n\n\nAus einem einfachen Blatt Papier entstehen dabei Schritt für Schritt kleine Kunstwerke – etwa Kraniche\, Blumen oder filigrane Figuren. Der Kurs vermittelt die Grundlagen der japanischen Falttechnik und führt behutsam an Formen\, Linien und präzises Arbeiten heran. Vorkenntnisse sind nicht erforderlich. \n\n\n\nOrigami verbindet Kreativität mit Ruhe und Konzentration. Das Angebot sich an alle\, die Freude am Gestalten haben oder eine entspannte kreative Auszeit erleben möchten. Am Ende entstehen aus wenigen Handgriffen dekorative kleine Meisterwerke.
URL:https://www.lgs-leinefelde-worbis.de/veranstaltung/origami-kurs-laedt-zum-kreativen-falten-ein/2026-07-25/
CATEGORIES:Aktivitäten
ATTACH;FMTTYPE=image/jpeg:https://www.lgs-leinefelde-worbis.de/wp-content/uploads/2026/03/origami-paper-bird-e1774605177966.jpeg
END:VEVENT
BEGIN:VEVENT
DTSTART;TZID=Europe/Berlin:20260725T170000
DTEND;TZID=Europe/Berlin:20260725T180000
DTSTAMP:20260426T050056
CREATED:20260128T071531Z
LAST-MODIFIED:20260128T075504Z
UID:10003350-1784998800-1785002400@www.lgs-leinefelde-worbis.de
SUMMARY:Kirchenpavillon lädt zum Verweilen ein
DESCRIPTION:Der ökumenische Kirchenpavillon der katholischen und evangelischen Kirchen lädt zum Verweilen\, Einkehren und Entdecken ein. Wir laden Sie ein zu unseren täglichen geistlichen Impulsen zum Thema „erdnah – himmelweit“.
URL:https://www.lgs-leinefelde-worbis.de/veranstaltung/kirchenpavillon-laedt-zum-verweilen-ein-9/2026-07-25/
ATTACH;FMTTYPE=image/jpeg:https://www.lgs-leinefelde-worbis.de/wp-content/uploads/2026/01/Logo-ErdnahHimmelweit_final-e1769586897585.jpg
END:VEVENT
BEGIN:VEVENT
DTSTART;TZID=Europe/Berlin:20260725T170000
DTEND;TZID=Europe/Berlin:20260725T180000
DTSTAMP:20260426T050056
CREATED:20260328T134746Z
LAST-MODIFIED:20260328T134746Z
UID:10004091-1784998800-1785002400@www.lgs-leinefelde-worbis.de
SUMMARY:Poetische Märchenstunde: „Warum singt die Nachtigall nachts?“
DESCRIPTION:Eine einfühlsame Lesung mit Eva-Maria Strehlow lädt im Rahmen der Landesgartenschau Leinefelde-Worbis zu einer Reise in eine poetische Märchenwelt ein. Die Veranstaltung „Warum singt die Nachtigall nachts?“ findet am 23. April\, 9. Mai\, 30. Mai\, 13. Juni\, 27. Juni\, 18. Juli\, 25. Juli\, 8. August\, 22. August\, 5. September sowie 19. September 2026 jeweils von 17:00 bis 18:00 Uhr statt. \n\n\n\nIm Mittelpunkt steht die Geschichte einer kleinen Nachtigall\, die ihren Platz in der Welt sucht. Während andere Vögel mit schillernden Farben beschenkt werden\, erhält sie eine besondere Gabe: eine Stimme\, so berührend\, dass sie Herzen bewegt. Doch ihr Talent ruft nicht nur Bewunderung hervor\, sondern auch Neid. Auf ihrer Reise zwischen Einsamkeit und Mut entdeckt die Nachtigall schließlich die Kraft der leisen Töne und wird zur Stimme der Nacht. \n\n\n\nDie Lesung verbindet poetische Bilder mit großen Gefühlen und erzählt von Einzigartigkeit\, Sehnsucht und der Schönheit des Unsichtbaren. Damit ergänzt sie das kulturelle Programm der Landesgartenschau um eine ruhige\, atmosphärische Veranstaltung für alle\, die Märchen und Geschichten lieben.
URL:https://www.lgs-leinefelde-worbis.de/veranstaltung/poetische-maerchenstunde-warum-singt-die-nachtigall-nachts/2026-07-25/
ATTACH;FMTTYPE=image/jpeg:https://www.lgs-leinefelde-worbis.de/wp-content/uploads/2026/03/Nachtigall-Kopieren-1-e1774705656390.jpg
END:VEVENT
END:VCALENDAR