BEGIN:VCALENDAR
VERSION:2.0
PRODID:-//Landesgartenschau 2026 in Leinefelde-Worbis - ECPv6.15.20//NONSGML v1.0//EN
CALSCALE:GREGORIAN
METHOD:PUBLISH
X-ORIGINAL-URL:https://www.lgs-leinefelde-worbis.de
X-WR-CALDESC:Veranstaltungen für Landesgartenschau 2026 in Leinefelde-Worbis
REFRESH-INTERVAL;VALUE=DURATION:PT1H
X-Robots-Tag:noindex
X-PUBLISHED-TTL:PT1H
BEGIN:VTIMEZONE
TZID:Europe/Berlin
BEGIN:DAYLIGHT
TZOFFSETFROM:+0100
TZOFFSETTO:+0200
TZNAME:CEST
DTSTART:20250330T010000
END:DAYLIGHT
BEGIN:STANDARD
TZOFFSETFROM:+0200
TZOFFSETTO:+0100
TZNAME:CET
DTSTART:20251026T010000
END:STANDARD
BEGIN:DAYLIGHT
TZOFFSETFROM:+0100
TZOFFSETTO:+0200
TZNAME:CEST
DTSTART:20260329T010000
END:DAYLIGHT
BEGIN:STANDARD
TZOFFSETFROM:+0200
TZOFFSETTO:+0100
TZNAME:CET
DTSTART:20261025T010000
END:STANDARD
BEGIN:DAYLIGHT
TZOFFSETFROM:+0100
TZOFFSETTO:+0200
TZNAME:CEST
DTSTART:20270328T010000
END:DAYLIGHT
BEGIN:STANDARD
TZOFFSETFROM:+0200
TZOFFSETTO:+0100
TZNAME:CET
DTSTART:20271031T010000
END:STANDARD
END:VTIMEZONE
BEGIN:VEVENT
DTSTART;TZID=Europe/Berlin:20260726T100000
DTEND;TZID=Europe/Berlin:20260726T180000
DTSTAMP:20260426T050251
CREATED:20260218T115050Z
LAST-MODIFIED:20260218T115050Z
UID:10003839-1785060000-1785088800@www.lgs-leinefelde-worbis.de
SUMMARY:Blumenblock: Ausstellung Illusion & Realität
DESCRIPTION:Durch Spiegelungen\, perspektivische Effekte und inszenierte Räume werden Wahrnehmung und Wirklichkeit bei dieser Ausstellung im Blumenblock (Erdgeschoss & 1. Obergeschoss) bewusst hinterfragt. Florale Installationen erzeugen Irritationen und laden dazu ein\, Realität neu zu interpretieren.
URL:https://www.lgs-leinefelde-worbis.de/veranstaltung/blumenblock-ausstellung-illusion-realitaet/2026-07-26/
CATEGORIES:Ausstellung,Blumenblock
ATTACH;FMTTYPE=image/jpeg:https://www.lgs-leinefelde-worbis.de/wp-content/uploads/2026/02/IMG_1273-rotated-e1771415435324.jpeg
END:VEVENT
BEGIN:VEVENT
DTSTART;TZID=Europe/Berlin:20260726T100000
DTEND;TZID=Europe/Berlin:20260726T180000
DTSTAMP:20260426T050251
CREATED:20260411T125644Z
LAST-MODIFIED:20260411T125645Z
UID:10004121-1785060000-1785088800@www.lgs-leinefelde-worbis.de
SUMMARY:Mitten im Grünen zum großen Gewinn?
DESCRIPTION:LOTTO Thüringen zu Gast bei der Landesgartenschau – In der Tradition des guten Glücks.Als Thüringer Staatslotterie haben wir einen besonderen Arbeitsauftrag. Wir verteilen Glücksmomente im Freistaat und setzen uns mit Herzblut für das Gemeinwohl ein. Denn mit Geldern von LOTTO Thüringen werden die unterschiedlichsten gemeinnützigen Projekte im ganzen Freistaat unterstützt.Zulassungen: Aufgabe der Thüringer Staatslotterie ist die Veranstaltung\, Vermittlung und Durchführung staatlicher öffentlicher Glücksspiele in Erfüllung der öffentlichen Aufgabe nach § 10 Abs. 1 des Glücksspielstaatsvertrags im Freistaat Thüringen. Alle Prozesse rund ums Spiel laufen nach den weltweit höchsten Sicherheitsrichtlinien der World Lottery Association (WLA) für Lotterien ab.
URL:https://www.lgs-leinefelde-worbis.de/veranstaltung/mitten-im-gruenen-zum-grossen-gewinn/2026-07-26/
ATTACH;FMTTYPE=image/jpeg:https://www.lgs-leinefelde-worbis.de/wp-content/uploads/2026/04/Lotto-e1775912191692.jpg
END:VEVENT
BEGIN:VEVENT
DTSTART;TZID=Europe/Berlin:20260726T100000
DTEND;TZID=Europe/Berlin:20260726T180000
DTSTAMP:20260426T050251
CREATED:20260411T142527Z
LAST-MODIFIED:20260411T142528Z
UID:10004156-1785060000-1785088800@www.lgs-leinefelde-worbis.de
SUMMARY:Bücherflohmarkt lädt zum Stöbern ein
DESCRIPTION:Zwischen Stöbern\, Schmökern und kleinen Fundstücken lädt ein gemütlicher Bücherflohmarkt zum Entdecken ein. Im Gärtnermarkt auf dem Landesgartenschaugelände wartet an mehreren Wochenenden von April bis September eine große Auswahl an gebrauchten Büchern aus verschiedenen Themenbereichen auf neue Leserinnen und Leser. Der Bücherflohmarkt findet am 25. und 26. April\, 30. und 31. Mai\, 27. und 28. Juni\, 25. und 26. Juli\, 29. und 30. August sowie 26. und 27. September 2026 jeweils von 10:00 bis 18:00 Uhr statt. Ob Romane\, Sachbücher\, Bildbände oder besondere Einzelstücke – der Bücherflohmarkt bietet Gelegenheit\, in entspannter Atmosphäre nach Lesestoff zu suchen und kleine Schätze zu entdecken. Veranstalter Frank Barth freut sich auf seine Gäste.
URL:https://www.lgs-leinefelde-worbis.de/veranstaltung/buecherflohmarkt-laedt-zum-stoebern-ein/2026-07-26/
CATEGORIES:Feste & Märkte
ATTACH;FMTTYPE=image/jpeg:https://www.lgs-leinefelde-worbis.de/wp-content/uploads/2026/04/nbgmhj-e1775917377995.jpg
END:VEVENT
BEGIN:VEVENT
DTSTART;TZID=Europe/Berlin:20260726T110000
DTEND;TZID=Europe/Berlin:20260726T140000
DTSTAMP:20260426T050251
CREATED:20260224T163900Z
LAST-MODIFIED:20260224T110522Z
UID:10003920-1785063600-1785074400@www.lgs-leinefelde-worbis.de
SUMMARY:Akustikklang mit Charakter: Robius Dou live
DESCRIPTION:Wenn mehrstimmiger Gesang auf warme Gitarrenklänge und fein abgestimmte Arrangements trifft\, entsteht eine besondere Atmosphäre: Robius Dou ist im Sommer und Herbst 2026 gleich dreimal im Rahmen der Landesgartenschau zu erleben. Seit der Gründung im Jahr 2017 hat sich das Projekt von einem Duo zu einer sechsköpfigen Formation entwickelt. Mehrstimmiger Gesang\, Gitarren\, Bass\, Geige und Percussion prägen den charakteristischen Sound – handgemacht\, nahbar und mit spürbarer Leidenschaft für Live-Musik. \n\n\n\nDas Repertoire reicht von gefühlvollen Balladen bis zu tanzbaren Klassikern und abwechslungsreichen Akustik-Covern. Damit schafft Robius Dou eine stimmungsvolle Verbindung zwischen Bühne und Publikum – ein Klangbild\, das sich ebenso für Hochzeiten und Stadtfeste wie für die besondere Kulisse der Landesgartenschau eignet.
URL:https://www.lgs-leinefelde-worbis.de/veranstaltung/akustikklang-mit-charakter-robius-dou-live/2026-07-26/
CATEGORIES:Musik
ATTACH;FMTTYPE=image/jpeg:https://www.lgs-leinefelde-worbis.de/wp-content/uploads/2026/02/Robius-Duo-e1771931097876.jpg
END:VEVENT
BEGIN:VEVENT
DTSTART;TZID=Europe/Berlin:20260726T120000
DTEND;TZID=Europe/Berlin:20260726T130000
DTSTAMP:20260426T050251
CREATED:20260128T063239Z
LAST-MODIFIED:20260128T075725Z
UID:10003130-1785067200-1785070800@www.lgs-leinefelde-worbis.de
SUMMARY:Kirchenpavillon lädt zum Verweilen ein
DESCRIPTION:Der ökumenische Kirchenpavillon der katholischen und evangelischen Kirchen lädt zum Verweilen\, Einkehren und Entdecken ein. Wir laden Sie ein zu unseren täglichen geistlichen Impulsen zum Thema „erdnah – himmelweit“.
URL:https://www.lgs-leinefelde-worbis.de/veranstaltung/kirchenpavillon-laedt-zum-verweilen-ein-5/2026-07-26/
ATTACH;FMTTYPE=image/jpeg:https://www.lgs-leinefelde-worbis.de/wp-content/uploads/2026/01/Logo-ErdnahHimmelweit_final-4-e1769587039528.jpg
END:VEVENT
BEGIN:VEVENT
DTSTART;TZID=Europe/Berlin:20260726T150000
DTEND;TZID=Europe/Berlin:20260726T190000
DTSTAMP:20260426T050251
CREATED:20251027T111920Z
LAST-MODIFIED:20260204T062739Z
UID:10000209-1785078000-1785092400@www.lgs-leinefelde-worbis.de
SUMMARY:Rock-Konzert mit TM6
DESCRIPTION:Rockig\, ehrlich\, handgemacht – TM6 steht für kraftvollen Sound und mitreißende Liveshows! Zur Landesgartenschau 2026 in Leinefelde-Worbis bringt die Band eigene Songs sowie bekannte Rock- und Popklassiker auf die Bühne. Freut euch auf energiegeladene Musik\, starke Stimmen und jede Menge Stimmung in grüner Kulisse. Wir laden ein zum Mitsingen\, Mitfeiern und Genießen!
URL:https://www.lgs-leinefelde-worbis.de/veranstaltung/rock-konzert-mit-tm6/
CATEGORIES:Musik
ATTACH;FMTTYPE=image/jpeg:https://www.lgs-leinefelde-worbis.de/wp-content/uploads/2025/10/TM6-2.jpg
END:VEVENT
BEGIN:VEVENT
DTSTART;TZID=Europe/Berlin:20260726T153000
DTEND;TZID=Europe/Berlin:20260726T180000
DTSTAMP:20260426T050251
CREATED:20251027T104329Z
LAST-MODIFIED:20260204T063950Z
UID:10000148-1785079800-1785088800@www.lgs-leinefelde-worbis.de
SUMMARY:Spielenachmittag
DESCRIPTION:Freut euch auf einen unterhaltsamen Spielenachmittag für Groß und Klein! Gemeinsam entdecken wir liebevoll gestaltete Holzspiele. Ob Klassiker oder neue Spielideen – hier ist für jeden etwas dabei. Kommt vorbei\, spielt mit und erlebt einen entspannten Nachmittag voller Spaß\, Geschick und Gemeinschaft!
URL:https://www.lgs-leinefelde-worbis.de/veranstaltung/spielenachmittag-2/2026-07-26/
CATEGORIES:Aktivitäten
ATTACH;FMTTYPE=image/jpeg:https://www.lgs-leinefelde-worbis.de/wp-content/uploads/2025/10/friends-having-fun-with-traditional-games-Gross-e1761561076916.jpg
END:VEVENT
BEGIN:VEVENT
DTSTART;TZID=Europe/Berlin:20260726T160000
DTEND;TZID=Europe/Berlin:20260726T170000
DTSTAMP:20260426T050251
CREATED:20260411T131119Z
LAST-MODIFIED:20260411T131120Z
UID:10004139-1785081600-1785085200@www.lgs-leinefelde-worbis.de
SUMMARY:Chor im Floor – Gesangsverein Wingerode
DESCRIPTION:Ein stimmungsvolles Chorkonzert bereichert das Programm der Landesgartenschau Leinefelde-Worbis: 33 engagierte Sängerinnen des Gesangsvereins Wingerode präsentieren ein abwechslungsreiches musikalisches Programm. Unter der Leitung von Diplom-Musiklehrerin i. R. Renate Senft erklingen geistliche und festliche Werke\, die mit viel Ausdruck und Harmonie vorgetragen werden. Die ausgewählten Stücke schaffen besondere Klangmomente und laden zum Innehalten\, Genießen und Mitfühlen ein. Mit großer Freude am gemeinsamen Gesang gestalten die Sängerinnen einen musikalischen Beitrag\, der die besondere Atmosphäre des Veranstaltungstages unterstreicht.
URL:https://www.lgs-leinefelde-worbis.de/veranstaltung/chor-im-floor-gesangsverein-wingerode/
CATEGORIES:Musik
ATTACH;FMTTYPE=image/jpeg:https://www.lgs-leinefelde-worbis.de/wp-content/uploads/2026/04/Gesangverein-Wingerode-e1775913065649.jpeg
END:VEVENT
BEGIN:VEVENT
DTSTART;TZID=Europe/Berlin:20260726T170000
DTEND;TZID=Europe/Berlin:20260726T180000
DTSTAMP:20260426T050251
CREATED:20260128T071531Z
LAST-MODIFIED:20260128T075504Z
UID:10003351-1785085200-1785088800@www.lgs-leinefelde-worbis.de
SUMMARY:Kirchenpavillon lädt zum Verweilen ein
DESCRIPTION:Der ökumenische Kirchenpavillon der katholischen und evangelischen Kirchen lädt zum Verweilen\, Einkehren und Entdecken ein. Wir laden Sie ein zu unseren täglichen geistlichen Impulsen zum Thema „erdnah – himmelweit“.
URL:https://www.lgs-leinefelde-worbis.de/veranstaltung/kirchenpavillon-laedt-zum-verweilen-ein-9/2026-07-26/
ATTACH;FMTTYPE=image/jpeg:https://www.lgs-leinefelde-worbis.de/wp-content/uploads/2026/01/Logo-ErdnahHimmelweit_final-e1769586897585.jpg
END:VEVENT
END:VCALENDAR