BEGIN:VCALENDAR
VERSION:2.0
PRODID:-//Landesgartenschau 2026 in Leinefelde-Worbis - ECPv6.15.20//NONSGML v1.0//EN
CALSCALE:GREGORIAN
METHOD:PUBLISH
X-ORIGINAL-URL:https://www.lgs-leinefelde-worbis.de
X-WR-CALDESC:Veranstaltungen für Landesgartenschau 2026 in Leinefelde-Worbis
REFRESH-INTERVAL;VALUE=DURATION:PT1H
X-Robots-Tag:noindex
X-PUBLISHED-TTL:PT1H
BEGIN:VTIMEZONE
TZID:Europe/Berlin
BEGIN:DAYLIGHT
TZOFFSETFROM:+0100
TZOFFSETTO:+0200
TZNAME:CEST
DTSTART:20250330T010000
END:DAYLIGHT
BEGIN:STANDARD
TZOFFSETFROM:+0200
TZOFFSETTO:+0100
TZNAME:CET
DTSTART:20251026T010000
END:STANDARD
BEGIN:DAYLIGHT
TZOFFSETFROM:+0100
TZOFFSETTO:+0200
TZNAME:CEST
DTSTART:20260329T010000
END:DAYLIGHT
BEGIN:STANDARD
TZOFFSETFROM:+0200
TZOFFSETTO:+0100
TZNAME:CET
DTSTART:20261025T010000
END:STANDARD
BEGIN:DAYLIGHT
TZOFFSETFROM:+0100
TZOFFSETTO:+0200
TZNAME:CEST
DTSTART:20270328T010000
END:DAYLIGHT
BEGIN:STANDARD
TZOFFSETFROM:+0200
TZOFFSETTO:+0100
TZNAME:CET
DTSTART:20271031T010000
END:STANDARD
END:VTIMEZONE
BEGIN:VEVENT
DTSTART;TZID=Europe/Berlin:20260730T100000
DTEND;TZID=Europe/Berlin:20260730T180000
DTSTAMP:20260426T045104
CREATED:20260218T115412Z
LAST-MODIFIED:20260218T115413Z
UID:10003840-1785405600-1785434400@www.lgs-leinefelde-worbis.de
SUMMARY:Blumenblock: Ausstellung Monoton & Vielfältig
DESCRIPTION:Serielle Strukturen und Wiederholungen stehen in dieser Ausstellung im Blumenblock (Erdgeschoss & 1. Obergeschoss) der natürlichen Vielfalt von Pflanzen gegenüber. Kleine Unterschiede in Farbe\, Form und Struktur werden sichtbar gemacht und lenken den Blick auf Details innerhalb scheinbarer Gleichförmigkeit. 
URL:https://www.lgs-leinefelde-worbis.de/veranstaltung/blumenblock-ausstellung-monoton-vielfaeltig/2026-07-30/
CATEGORIES:Ausstellung,Blumenblock
ATTACH;FMTTYPE=image/jpeg:https://www.lgs-leinefelde-worbis.de/wp-content/uploads/2026/02/IMG_4102-rotated-e1771415638696.jpeg
END:VEVENT
BEGIN:VEVENT
DTSTART;TZID=Europe/Berlin:20260730T103000
DTEND;TZID=Europe/Berlin:20260730T120000
DTSTAMP:20260426T045104
CREATED:20260204T145758Z
LAST-MODIFIED:20260204T145831Z
UID:10003613-1785407400-1785412800@www.lgs-leinefelde-worbis.de
SUMMARY:Grünes Klassenzimmer: Den heimischen Tieren auf der Spur
DESCRIPTION:buchbares Kursangebot für Kindergartengruppen und Schulklassen \n\n\n\nPartner: Fachamt ÖTK\, Stadtbibliothek Leinefelde-Worbis \n\n\n\nDie Veranstaltung bietet eine Einführung in die heimische Tierwelt. Dabei lernen die Teilnehmenden\, wie sich Tiere beobachten lassen und welche Spuren sie hinterlassen. \n\n\n\nZur Buchung: https://www.lgs-leinefelde-worbis.de/veranstaltungen-uebersicht/gruenes-klassenzimmer/buchung/#/
URL:https://www.lgs-leinefelde-worbis.de/veranstaltung/gruenes-klassenzimmer-den-heimischen-tieren-auf-der-spur/2026-07-30/1/
CATEGORIES:Grünes Klassenzimmer
ATTACH;FMTTYPE=image/jpeg:https://www.lgs-leinefelde-worbis.de/wp-content/uploads/2026/02/Den-heimischen-Tieren-auf-der-Spur_Stadtbiblo-e1770217071217.jpeg
END:VEVENT
BEGIN:VEVENT
DTSTART;TZID=Europe/Berlin:20260730T120000
DTEND;TZID=Europe/Berlin:20260730T130000
DTSTAMP:20260426T045104
CREATED:20260128T063239Z
LAST-MODIFIED:20260128T075725Z
UID:10003134-1785412800-1785416400@www.lgs-leinefelde-worbis.de
SUMMARY:Kirchenpavillon lädt zum Verweilen ein
DESCRIPTION:Der ökumenische Kirchenpavillon der katholischen und evangelischen Kirchen lädt zum Verweilen\, Einkehren und Entdecken ein. Wir laden Sie ein zu unseren täglichen geistlichen Impulsen zum Thema „erdnah – himmelweit“.
URL:https://www.lgs-leinefelde-worbis.de/veranstaltung/kirchenpavillon-laedt-zum-verweilen-ein-5/2026-07-30/
ATTACH;FMTTYPE=image/jpeg:https://www.lgs-leinefelde-worbis.de/wp-content/uploads/2026/01/Logo-ErdnahHimmelweit_final-4-e1769587039528.jpg
END:VEVENT
BEGIN:VEVENT
DTSTART;TZID=Europe/Berlin:20260730T130000
DTEND;TZID=Europe/Berlin:20260730T143000
DTSTAMP:20260426T045104
CREATED:20260204T145758Z
LAST-MODIFIED:20260204T145831Z
UID:10003614-1785416400-1785421800@www.lgs-leinefelde-worbis.de
SUMMARY:Grünes Klassenzimmer: Den heimischen Tieren auf der Spur
DESCRIPTION:buchbares Kursangebot für Kindergartengruppen und Schulklassen \n\n\n\nPartner: Fachamt ÖTK\, Stadtbibliothek Leinefelde-Worbis \n\n\n\nDie Veranstaltung bietet eine Einführung in die heimische Tierwelt. Dabei lernen die Teilnehmenden\, wie sich Tiere beobachten lassen und welche Spuren sie hinterlassen. \n\n\n\nZur Buchung: https://www.lgs-leinefelde-worbis.de/veranstaltungen-uebersicht/gruenes-klassenzimmer/buchung/#/
URL:https://www.lgs-leinefelde-worbis.de/veranstaltung/gruenes-klassenzimmer-den-heimischen-tieren-auf-der-spur/2026-07-30/2/
CATEGORIES:Grünes Klassenzimmer
ATTACH;FMTTYPE=image/jpeg:https://www.lgs-leinefelde-worbis.de/wp-content/uploads/2026/02/Den-heimischen-Tieren-auf-der-Spur_Stadtbiblo-e1770217071217.jpeg
END:VEVENT
BEGIN:VEVENT
DTSTART;TZID=Europe/Berlin:20260730T150000
DTEND;TZID=Europe/Berlin:20260730T160000
DTSTAMP:20260426T045104
CREATED:20251107T070658Z
LAST-MODIFIED:20260227T063746Z
UID:10000294-1785423600-1785427200@www.lgs-leinefelde-worbis.de
SUMMARY:Vortrag „Vom Gartentraum zum Traumgarten“
DESCRIPTION:Im Rahmen der Landesgartenschau lädt Dr. Sabine Schroeder zu einer inspirierenden Vortragsreihe rund um die Gestaltung naturnaher Gärten ein. Der Vortrag „Vom Gartentraum zum Traumgarten“ richtet sich an alle\, die ihre Liebe zur Natur auch im eigenen Garten verwirklichen möchten – pflegeleicht\, harmonisch und individuell. Anhand persönlicher Erfahrungen zeigt Dr. Schroeder\, wie aus einem anfänglichen Gartentraum ein echter Traumgarten werden kann\, und berichtet von ihrem Weg von der Gartenanfängerin zur selbständigen Gartenplanerin.Die Vorträge finden an mehreren Terminen während der Gartenschau statt – jeweils donnerstags um 15:00 Uhr an den folgenden Tagen: 7. Mai\, 21. Mai\, 4. Juni\, 18. Juni\, 2. Juli\, 16. Juli\, 30. Juli\, 13. August\, 27. August\, 10. September\, 24. September und 8. Oktober 2026.
URL:https://www.lgs-leinefelde-worbis.de/veranstaltung/vortrag-vom-gartentraum-zum-traumgarten/2026-07-30/
ATTACH;FMTTYPE=image/jpeg:https://www.lgs-leinefelde-worbis.de/wp-content/uploads/2025/11/Traumgarten-Kopieren-e1762499165213.jpg
END:VEVENT
BEGIN:VEVENT
DTSTART;TZID=Europe/Berlin:20260730T170000
DTEND;TZID=Europe/Berlin:20260730T180000
DTSTAMP:20260426T045104
CREATED:20260128T071531Z
LAST-MODIFIED:20260128T075504Z
UID:10003355-1785430800-1785434400@www.lgs-leinefelde-worbis.de
SUMMARY:Kirchenpavillon lädt zum Verweilen ein
DESCRIPTION:Der ökumenische Kirchenpavillon der katholischen und evangelischen Kirchen lädt zum Verweilen\, Einkehren und Entdecken ein. Wir laden Sie ein zu unseren täglichen geistlichen Impulsen zum Thema „erdnah – himmelweit“.
URL:https://www.lgs-leinefelde-worbis.de/veranstaltung/kirchenpavillon-laedt-zum-verweilen-ein-9/2026-07-30/
ATTACH;FMTTYPE=image/jpeg:https://www.lgs-leinefelde-worbis.de/wp-content/uploads/2026/01/Logo-ErdnahHimmelweit_final-e1769586897585.jpg
END:VEVENT
END:VCALENDAR