BEGIN:VCALENDAR
VERSION:2.0
PRODID:-//Landesgartenschau 2026 in Leinefelde-Worbis - ECPv6.15.20//NONSGML v1.0//EN
CALSCALE:GREGORIAN
METHOD:PUBLISH
X-ORIGINAL-URL:https://www.lgs-leinefelde-worbis.de
X-WR-CALDESC:Veranstaltungen für Landesgartenschau 2026 in Leinefelde-Worbis
REFRESH-INTERVAL;VALUE=DURATION:PT1H
X-Robots-Tag:noindex
X-PUBLISHED-TTL:PT1H
BEGIN:VTIMEZONE
TZID:Europe/Berlin
BEGIN:DAYLIGHT
TZOFFSETFROM:+0100
TZOFFSETTO:+0200
TZNAME:CEST
DTSTART:20250330T010000
END:DAYLIGHT
BEGIN:STANDARD
TZOFFSETFROM:+0200
TZOFFSETTO:+0100
TZNAME:CET
DTSTART:20251026T010000
END:STANDARD
BEGIN:DAYLIGHT
TZOFFSETFROM:+0100
TZOFFSETTO:+0200
TZNAME:CEST
DTSTART:20260329T010000
END:DAYLIGHT
BEGIN:STANDARD
TZOFFSETFROM:+0200
TZOFFSETTO:+0100
TZNAME:CET
DTSTART:20261025T010000
END:STANDARD
BEGIN:DAYLIGHT
TZOFFSETFROM:+0100
TZOFFSETTO:+0200
TZNAME:CEST
DTSTART:20270328T010000
END:DAYLIGHT
BEGIN:STANDARD
TZOFFSETFROM:+0200
TZOFFSETTO:+0100
TZNAME:CET
DTSTART:20271031T010000
END:STANDARD
END:VTIMEZONE
BEGIN:VEVENT
DTSTART;TZID=Europe/Berlin:20260731T100000
DTEND;TZID=Europe/Berlin:20260731T180000
DTSTAMP:20260426T045215
CREATED:20260218T115412Z
LAST-MODIFIED:20260218T115413Z
UID:10003841-1785492000-1785520800@www.lgs-leinefelde-worbis.de
SUMMARY:Blumenblock: Ausstellung Monoton & Vielfältig
DESCRIPTION:Serielle Strukturen und Wiederholungen stehen in dieser Ausstellung im Blumenblock (Erdgeschoss & 1. Obergeschoss) der natürlichen Vielfalt von Pflanzen gegenüber. Kleine Unterschiede in Farbe\, Form und Struktur werden sichtbar gemacht und lenken den Blick auf Details innerhalb scheinbarer Gleichförmigkeit. 
URL:https://www.lgs-leinefelde-worbis.de/veranstaltung/blumenblock-ausstellung-monoton-vielfaeltig/2026-07-31/
CATEGORIES:Ausstellung,Blumenblock
ATTACH;FMTTYPE=image/jpeg:https://www.lgs-leinefelde-worbis.de/wp-content/uploads/2026/02/IMG_4102-rotated-e1771415638696.jpeg
END:VEVENT
BEGIN:VEVENT
DTSTART;TZID=Europe/Berlin:20260731T120000
DTEND;TZID=Europe/Berlin:20260731T130000
DTSTAMP:20260426T045215
CREATED:20260128T063239Z
LAST-MODIFIED:20260128T075725Z
UID:10003135-1785499200-1785502800@www.lgs-leinefelde-worbis.de
SUMMARY:Kirchenpavillon lädt zum Verweilen ein
DESCRIPTION:Der ökumenische Kirchenpavillon der katholischen und evangelischen Kirchen lädt zum Verweilen\, Einkehren und Entdecken ein. Wir laden Sie ein zu unseren täglichen geistlichen Impulsen zum Thema „erdnah – himmelweit“.
URL:https://www.lgs-leinefelde-worbis.de/veranstaltung/kirchenpavillon-laedt-zum-verweilen-ein-5/2026-07-31/
ATTACH;FMTTYPE=image/jpeg:https://www.lgs-leinefelde-worbis.de/wp-content/uploads/2026/01/Logo-ErdnahHimmelweit_final-4-e1769587039528.jpg
END:VEVENT
BEGIN:VEVENT
DTSTART;TZID=Europe/Berlin:20260731T153000
DTEND;TZID=Europe/Berlin:20260731T163000
DTSTAMP:20260426T045215
CREATED:20251117T103210Z
LAST-MODIFIED:20251117T103211Z
UID:10000348-1785511800-1785515400@www.lgs-leinefelde-worbis.de
SUMMARY:Kakao-Zeremonie – Entspannung\, Verbindung & innere Wärme
DESCRIPTION:Im Rahmen der Landesgartenschau lädt eine besondere Kakao-Zeremonie zu einer Stunde der Ruhe und Achtsamkeit ein. Mit einer Tasse zeremoniellen Kakaos entsteht ein geschützter Raum zum Entschleunigen und Ankommen. Der herzöffnende Kakao verbindet Körper und Geist und schafft eine Atmosphäre\, in der Präsenz\, innere Wärme und bewusste Wahrnehmung möglich werden – für eine wohltuende Auszeit voller Verbundenheit. \n\n\n\nDie Termine finden jeweils von 15:30 bis 16:30 Uhr statt: 25.09.; 29.05.; 26.06.; 31.07.; 28.08.2026
URL:https://www.lgs-leinefelde-worbis.de/veranstaltung/kakao-zeremonie-entspannung-verbindung-innere-waerme/2026-07-31/
ATTACH;FMTTYPE=image/jpeg:https://www.lgs-leinefelde-worbis.de/wp-content/uploads/2025/11/high-angle-hot-chocolate-drink-e1763375511807.jpg
END:VEVENT
BEGIN:VEVENT
DTSTART;TZID=Europe/Berlin:20260731T160000
DTEND;TZID=Europe/Berlin:20260731T170000
DTSTAMP:20260426T045215
CREATED:20251125T141247Z
LAST-MODIFIED:20260106T063619Z
UID:10000370-1785513600-1785517200@www.lgs-leinefelde-worbis.de
SUMMARY:Lachyoga mit Jutta Barthel
DESCRIPTION:An mehreren Freitagen bietet die Landesgartenschau 2026 die Möglichkeit\, Lachyoga mit Jutta Barthel zu erleben. Zwischen 16 und 17 Uhr verwandelt sich der Veranstaltungsbereich in einen Ort voller Leichtigkeit und positiver Energie. Angeleitete Lachübungen\, kombiniert mit Atemtechniken aus dem Yoga\, öffnen Raum für Entspannung\, Gelöstheit und ein wohltuendes Miteinander. Der bekannte Leitsatz „Lachen ist die beste Medizin“ wird hier lebendig – ohne Anlass\, aber mit großer Wirkung. \n\n\n\nTermine (jeweils 16:00–17:00 Uhr): \n\n\n\n\n01.05.2026\n\n\n\n29.05.2026\n\n\n\n19.06.2026\n\n\n\n17.07.2026\n\n\n\n31.07.2026\n\n\n\n04.09.2026\n\n\n\n09.10.2026
URL:https://www.lgs-leinefelde-worbis.de/veranstaltung/lachyoga-mit-jutta-barthel/2026-07-31/
ATTACH;FMTTYPE=image/jpeg:https://www.lgs-leinefelde-worbis.de/wp-content/uploads/2025/11/marguerite-74886_1280.jpg
END:VEVENT
BEGIN:VEVENT
DTSTART;TZID=Europe/Berlin:20260731T170000
DTEND;TZID=Europe/Berlin:20260731T180000
DTSTAMP:20260426T045215
CREATED:20260128T071531Z
LAST-MODIFIED:20260128T075504Z
UID:10003356-1785517200-1785520800@www.lgs-leinefelde-worbis.de
SUMMARY:Kirchenpavillon lädt zum Verweilen ein
DESCRIPTION:Der ökumenische Kirchenpavillon der katholischen und evangelischen Kirchen lädt zum Verweilen\, Einkehren und Entdecken ein. Wir laden Sie ein zu unseren täglichen geistlichen Impulsen zum Thema „erdnah – himmelweit“.
URL:https://www.lgs-leinefelde-worbis.de/veranstaltung/kirchenpavillon-laedt-zum-verweilen-ein-9/2026-07-31/
ATTACH;FMTTYPE=image/jpeg:https://www.lgs-leinefelde-worbis.de/wp-content/uploads/2026/01/Logo-ErdnahHimmelweit_final-e1769586897585.jpg
END:VEVENT
END:VCALENDAR