BEGIN:VCALENDAR
VERSION:2.0
PRODID:-//Landesgartenschau 2026 in Leinefelde-Worbis - ECPv6.15.20//NONSGML v1.0//EN
CALSCALE:GREGORIAN
METHOD:PUBLISH
X-WR-CALNAME:Landesgartenschau 2026 in Leinefelde-Worbis
X-ORIGINAL-URL:https://www.lgs-leinefelde-worbis.de
X-WR-CALDESC:Veranstaltungen für Landesgartenschau 2026 in Leinefelde-Worbis
REFRESH-INTERVAL;VALUE=DURATION:PT1H
X-Robots-Tag:noindex
X-PUBLISHED-TTL:PT1H
BEGIN:VTIMEZONE
TZID:Europe/Berlin
BEGIN:DAYLIGHT
TZOFFSETFROM:+0100
TZOFFSETTO:+0200
TZNAME:CEST
DTSTART:20250330T010000
END:DAYLIGHT
BEGIN:STANDARD
TZOFFSETFROM:+0200
TZOFFSETTO:+0100
TZNAME:CET
DTSTART:20251026T010000
END:STANDARD
BEGIN:DAYLIGHT
TZOFFSETFROM:+0100
TZOFFSETTO:+0200
TZNAME:CEST
DTSTART:20260329T010000
END:DAYLIGHT
BEGIN:STANDARD
TZOFFSETFROM:+0200
TZOFFSETTO:+0100
TZNAME:CET
DTSTART:20261025T010000
END:STANDARD
BEGIN:DAYLIGHT
TZOFFSETFROM:+0100
TZOFFSETTO:+0200
TZNAME:CEST
DTSTART:20270328T010000
END:DAYLIGHT
BEGIN:STANDARD
TZOFFSETFROM:+0200
TZOFFSETTO:+0100
TZNAME:CET
DTSTART:20271031T010000
END:STANDARD
END:VTIMEZONE
BEGIN:VEVENT
DTSTART;TZID=Europe/Berlin:20260802T100000
DTEND;TZID=Europe/Berlin:20260802T180000
DTSTAMP:20260426T050051
CREATED:20260218T115412Z
LAST-MODIFIED:20260218T115413Z
UID:10003843-1785664800-1785693600@www.lgs-leinefelde-worbis.de
SUMMARY:Blumenblock: Ausstellung Monoton & Vielfältig
DESCRIPTION:Serielle Strukturen und Wiederholungen stehen in dieser Ausstellung im Blumenblock (Erdgeschoss & 1. Obergeschoss) der natürlichen Vielfalt von Pflanzen gegenüber. Kleine Unterschiede in Farbe\, Form und Struktur werden sichtbar gemacht und lenken den Blick auf Details innerhalb scheinbarer Gleichförmigkeit. 
URL:https://www.lgs-leinefelde-worbis.de/veranstaltung/blumenblock-ausstellung-monoton-vielfaeltig/2026-08-02/
CATEGORIES:Ausstellung,Blumenblock
ATTACH;FMTTYPE=image/jpeg:https://www.lgs-leinefelde-worbis.de/wp-content/uploads/2026/02/IMG_4102-rotated-e1771415638696.jpeg
END:VEVENT
BEGIN:VEVENT
DTSTART;TZID=Europe/Berlin:20260802T100000
DTEND;TZID=Europe/Berlin:20260802T180000
DTSTAMP:20260426T050051
CREATED:20260411T132543Z
LAST-MODIFIED:20260411T132544Z
UID:10004145-1785664800-1785693600@www.lgs-leinefelde-worbis.de
SUMMARY:Der Heimatverein Martin Weinrich Uder stellt sich vor
DESCRIPTION:Regionale Geschichte\, Mundart und gelebtes Brauchtum stehen im Mittelpunkt dieser Präsentation. Der Heimatverein Martin Weinrich Uder gestaltet ein abwechslungsreiches Programm\, das Einblicke in die kulturelle Vielfalt der Region bietet. Im Fokus steht das Werk und Wirken des Heimat- und Mundartdichters Martin Weinrich. Darüber hinaus werden traditionelle Trachten und Bräuche vorgestellt sowie die vielfältigen ehrenamtlichen Aktivitäten in der Heimatstube präsentiert. Ergänzt wird das Angebot durch Buchlesungen\, die regionale Geschichten lebendig werden lassen. Ein weiterer Programmpunkt ist die Vorstellung des Projekts „Das Eichsfeld in 3D“\, das die Region auf besondere Weise erlebbar macht. Die Präsentation im Rahmen der Landesgartenschau Leinefelde-Worbis lädt dazu ein\, regionale Kultur zu entdecken und mit den Aktiven des Vereins ins Gespräch zu kommen.
URL:https://www.lgs-leinefelde-worbis.de/veranstaltung/der-heimatverein-martin-weinrich-uder-stellt-sich-vor/2026-08-02/
ATTACH;FMTTYPE=image/jpeg:https://www.lgs-leinefelde-worbis.de/wp-content/uploads/2026/04/Uder-rotated-e1775913905661.jpg
END:VEVENT
BEGIN:VEVENT
DTSTART;TZID=Europe/Berlin:20260802T120000
DTEND;TZID=Europe/Berlin:20260802T130000
DTSTAMP:20260426T050051
CREATED:20260128T063239Z
LAST-MODIFIED:20260128T075725Z
UID:10003137-1785672000-1785675600@www.lgs-leinefelde-worbis.de
SUMMARY:Kirchenpavillon lädt zum Verweilen ein
DESCRIPTION:Der ökumenische Kirchenpavillon der katholischen und evangelischen Kirchen lädt zum Verweilen\, Einkehren und Entdecken ein. Wir laden Sie ein zu unseren täglichen geistlichen Impulsen zum Thema „erdnah – himmelweit“.
URL:https://www.lgs-leinefelde-worbis.de/veranstaltung/kirchenpavillon-laedt-zum-verweilen-ein-5/2026-08-02/
ATTACH;FMTTYPE=image/jpeg:https://www.lgs-leinefelde-worbis.de/wp-content/uploads/2026/01/Logo-ErdnahHimmelweit_final-4-e1769587039528.jpg
END:VEVENT
BEGIN:VEVENT
DTSTART;TZID=Europe/Berlin:20260802T140000
DTEND;TZID=Europe/Berlin:20260802T144500
DTSTAMP:20260426T050051
CREATED:20251202T070456Z
LAST-MODIFIED:20260422T143532Z
UID:10000397-1785679200-1785681900@www.lgs-leinefelde-worbis.de
SUMMARY:Waldbaden-to-Go – kurze Auszeit im Grünen
DESCRIPTION:Im Rahmen der Landesgartenschau 2026 wird mit „Waldbaden-to-Go“ ein kompakter Einblick in die Kunst des japanischen Shinrin Yoku geboten. In nur 45 Minuten entsteht ein bewusst entschleunigter Moment in der Natur: langsames Ankommen\, Atemübungen\, kleine Sinnesimpulse und die wichtigsten Elemente eines klassischen Waldbades. Das Format zeigt\, wie bereits wenige Minuten im Grünen Körper und Geist spürbar entlasten können – ideal für alle\, die die Methode erstmals kennenlernen möchten. \n\n\n\n\n\nTermine Waldbaden:26.04.2026    14:00–14.4526.04.2026    16:00–16:4510.05.2026 14:00–14:4510.05.2026 16:00–16:4524.05.2026 14:00–14:4524.05.2026 16:00–16:4507.06.2026 14:00–14:4507.06.2026 16:00–16:4521.06.2026 14:00–14:4521.06.2026 16:00–16:4505.07.2026 14:00–14:4505.07.2026 16:00–16:4519.07.2026 14:00–14:4519.07.2026 16:00–16:4502.08.2026 14:00–14:4502.08.2026 16:00–16:4516.08.2026 14:00–14:4516.08.2026 16:00–16:4530.08.2026 14:00–14:4530.08.2026 16:00–16:4513.09.2026 14:00–14:4513.09.2026 16:00–16:4527.09.2026 14:00–14:4527.09.2026 16:00–16:4511.10.2026 14:00–14:4511.10.2026 16:00–16:45
URL:https://www.lgs-leinefelde-worbis.de/veranstaltung/waldbaden-to-go-kurze-auszeit-im-gruenen/2026-08-02/1/
ATTACH;FMTTYPE=image/jpeg:https://www.lgs-leinefelde-worbis.de/wp-content/uploads/2025/12/Waldresort-75-e1764659085810.jpg
END:VEVENT
BEGIN:VEVENT
DTSTART;TZID=Europe/Berlin:20260802T150000
DTEND;TZID=Europe/Berlin:20260802T180000
DTSTAMP:20260426T050051
CREATED:20251110T120342Z
LAST-MODIFIED:20260204T062305Z
UID:10000331-1785682800-1785693600@www.lgs-leinefelde-worbis.de
SUMMARY:Konzert mit Porridge Castle
DESCRIPTION:Im Rahmen der Landesgartenschau sorgt das Duo Porridge Castle für stimmungsvolle musikalische Nachmittage. Sängerin und Bassistin Tina Geßner und Gitarrist Ralf Kirchner interpretieren bekannte Pop- und Rockklassiker in frischen\, eigenständigen Arrangements. Mit Charme\, Spielfreude und einer Prise Humor entsteht ein authentisches Musikerlebnis\, das gleichermaßen berührt und begeistert – mal groovig und energiegeladen\, mal leise und gefühlvoll.Konzert mit Porridge Castle01. Mai\, 21. Juni\, 12. Juli und 02. August 2026\, jeweils 15:00–18:00 Uhr
URL:https://www.lgs-leinefelde-worbis.de/veranstaltung/konzert-mit-porridge-castle/2026-08-02/
CATEGORIES:Musik
ATTACH;FMTTYPE=image/jpeg:https://www.lgs-leinefelde-worbis.de/wp-content/uploads/2025/11/41eb62db-08d4-4931-aebb-e0d1e98cca52-e1762776203612.jpg
END:VEVENT
BEGIN:VEVENT
DTSTART;TZID=Europe/Berlin:20260802T153000
DTEND;TZID=Europe/Berlin:20260802T180000
DTSTAMP:20260426T050051
CREATED:20251027T104329Z
LAST-MODIFIED:20260204T063950Z
UID:10000149-1785684600-1785693600@www.lgs-leinefelde-worbis.de
SUMMARY:Spielenachmittag
DESCRIPTION:Freut euch auf einen unterhaltsamen Spielenachmittag für Groß und Klein! Gemeinsam entdecken wir liebevoll gestaltete Holzspiele. Ob Klassiker oder neue Spielideen – hier ist für jeden etwas dabei. Kommt vorbei\, spielt mit und erlebt einen entspannten Nachmittag voller Spaß\, Geschick und Gemeinschaft!
URL:https://www.lgs-leinefelde-worbis.de/veranstaltung/spielenachmittag-2/2026-08-02/
CATEGORIES:Aktivitäten
ATTACH;FMTTYPE=image/jpeg:https://www.lgs-leinefelde-worbis.de/wp-content/uploads/2025/10/friends-having-fun-with-traditional-games-Gross-e1761561076916.jpg
END:VEVENT
BEGIN:VEVENT
DTSTART;TZID=Europe/Berlin:20260802T160000
DTEND;TZID=Europe/Berlin:20260802T164500
DTSTAMP:20260426T050051
CREATED:20251202T070456Z
LAST-MODIFIED:20260422T143532Z
UID:10000398-1785686400-1785689100@www.lgs-leinefelde-worbis.de
SUMMARY:Waldbaden-to-Go – kurze Auszeit im Grünen
DESCRIPTION:Im Rahmen der Landesgartenschau 2026 wird mit „Waldbaden-to-Go“ ein kompakter Einblick in die Kunst des japanischen Shinrin Yoku geboten. In nur 45 Minuten entsteht ein bewusst entschleunigter Moment in der Natur: langsames Ankommen\, Atemübungen\, kleine Sinnesimpulse und die wichtigsten Elemente eines klassischen Waldbades. Das Format zeigt\, wie bereits wenige Minuten im Grünen Körper und Geist spürbar entlasten können – ideal für alle\, die die Methode erstmals kennenlernen möchten. \n\n\n\n\n\nTermine Waldbaden:26.04.2026    14:00–14.4526.04.2026    16:00–16:4510.05.2026 14:00–14:4510.05.2026 16:00–16:4524.05.2026 14:00–14:4524.05.2026 16:00–16:4507.06.2026 14:00–14:4507.06.2026 16:00–16:4521.06.2026 14:00–14:4521.06.2026 16:00–16:4505.07.2026 14:00–14:4505.07.2026 16:00–16:4519.07.2026 14:00–14:4519.07.2026 16:00–16:4502.08.2026 14:00–14:4502.08.2026 16:00–16:4516.08.2026 14:00–14:4516.08.2026 16:00–16:4530.08.2026 14:00–14:4530.08.2026 16:00–16:4513.09.2026 14:00–14:4513.09.2026 16:00–16:4527.09.2026 14:00–14:4527.09.2026 16:00–16:4511.10.2026 14:00–14:4511.10.2026 16:00–16:45
URL:https://www.lgs-leinefelde-worbis.de/veranstaltung/waldbaden-to-go-kurze-auszeit-im-gruenen/2026-08-02/2/
ATTACH;FMTTYPE=image/jpeg:https://www.lgs-leinefelde-worbis.de/wp-content/uploads/2025/12/Waldresort-75-e1764659085810.jpg
END:VEVENT
BEGIN:VEVENT
DTSTART;TZID=Europe/Berlin:20260802T170000
DTEND;TZID=Europe/Berlin:20260802T180000
DTSTAMP:20260426T050051
CREATED:20260128T071531Z
LAST-MODIFIED:20260128T075504Z
UID:10003358-1785690000-1785693600@www.lgs-leinefelde-worbis.de
SUMMARY:Kirchenpavillon lädt zum Verweilen ein
DESCRIPTION:Der ökumenische Kirchenpavillon der katholischen und evangelischen Kirchen lädt zum Verweilen\, Einkehren und Entdecken ein. Wir laden Sie ein zu unseren täglichen geistlichen Impulsen zum Thema „erdnah – himmelweit“.
URL:https://www.lgs-leinefelde-worbis.de/veranstaltung/kirchenpavillon-laedt-zum-verweilen-ein-9/2026-08-02/
ATTACH;FMTTYPE=image/jpeg:https://www.lgs-leinefelde-worbis.de/wp-content/uploads/2026/01/Logo-ErdnahHimmelweit_final-e1769586897585.jpg
END:VEVENT
END:VCALENDAR