BEGIN:VCALENDAR
VERSION:2.0
PRODID:-//Landesgartenschau 2026 in Leinefelde-Worbis - ECPv6.15.20//NONSGML v1.0//EN
CALSCALE:GREGORIAN
METHOD:PUBLISH
X-WR-CALNAME:Landesgartenschau 2026 in Leinefelde-Worbis
X-ORIGINAL-URL:https://www.lgs-leinefelde-worbis.de
X-WR-CALDESC:Veranstaltungen für Landesgartenschau 2026 in Leinefelde-Worbis
REFRESH-INTERVAL;VALUE=DURATION:PT1H
X-Robots-Tag:noindex
X-PUBLISHED-TTL:PT1H
BEGIN:VTIMEZONE
TZID:Europe/Berlin
BEGIN:DAYLIGHT
TZOFFSETFROM:+0100
TZOFFSETTO:+0200
TZNAME:CEST
DTSTART:20250330T010000
END:DAYLIGHT
BEGIN:STANDARD
TZOFFSETFROM:+0200
TZOFFSETTO:+0100
TZNAME:CET
DTSTART:20251026T010000
END:STANDARD
BEGIN:DAYLIGHT
TZOFFSETFROM:+0100
TZOFFSETTO:+0200
TZNAME:CEST
DTSTART:20260329T010000
END:DAYLIGHT
BEGIN:STANDARD
TZOFFSETFROM:+0200
TZOFFSETTO:+0100
TZNAME:CET
DTSTART:20261025T010000
END:STANDARD
BEGIN:DAYLIGHT
TZOFFSETFROM:+0100
TZOFFSETTO:+0200
TZNAME:CEST
DTSTART:20270328T010000
END:DAYLIGHT
BEGIN:STANDARD
TZOFFSETFROM:+0200
TZOFFSETTO:+0100
TZNAME:CET
DTSTART:20271031T010000
END:STANDARD
END:VTIMEZONE
BEGIN:VEVENT
DTSTART;TZID=Europe/Berlin:20260825T100000
DTEND;TZID=Europe/Berlin:20260825T180000
DTSTAMP:20260426T063101
CREATED:20260401T120708Z
LAST-MODIFIED:20260401T120708Z
UID:10004111-1787652000-1787680800@www.lgs-leinefelde-worbis.de
SUMMARY:Friedenstein-Stiftung Gotha präsentiert kulturelles Erbe
DESCRIPTION:Im Rahmen der Landesgartenschau stellt sich die Friedenstein Stiftung Gotha von Montag\, 24. August\, bis Sonntag\, 30. August 2026\, täglich von 10 bis 18 Uhr im Pavillon der Regionen vor. Die Präsentation lädt dazu ein\, das kulturelle Erbe Gothas näher kennenzulernen. Mit Schloss Friedenstein\, dem Herzoglichen Museum\, dem Ekhof-Theater sowie den kunstgeschichtlichen\, historischen und naturkundlichen Sammlungen besitzt Gotha ein außergewöhnliches Ensemble von überregionaler Bedeutung. Besonders ist\, dass sich dieses Erbe seit mehr als 350 Jahren an seinem ursprünglichen Ort bewahrt hat. Neben den historischen Repräsentationsräumen aus Barock und Klassizismus gehören dazu auch der herzogliche Landschaftspark mit barocker Orangerie sowie die vielfältigen Sammlungen der Friedenstein Stiftung Gotha. Die Veranstaltung bietet interessante Einblicke in die Gothaer Museumslandschaft und macht Lust auf eine Entdeckungsreise in die Residenzstadt.
URL:https://www.lgs-leinefelde-worbis.de/veranstaltung/friedenstein-stiftung-gotha-praesentiert-kulturelles-erbe/2026-08-25/
CATEGORIES:Pavillon der Regionen
ATTACH;FMTTYPE=image/jpeg:https://www.lgs-leinefelde-worbis.de/wp-content/uploads/2026/04/Gotha_Schloss-Friedenstein-und-Herzogliches-Museum_2020_MGlahn-e1775045206906.jpg
END:VEVENT
BEGIN:VEVENT
DTSTART;TZID=Europe/Berlin:20260825T103000
DTEND;TZID=Europe/Berlin:20260825T120000
DTSTAMP:20260426T063101
CREATED:20260204T142225Z
LAST-MODIFIED:20260204T142228Z
UID:10003588-1787653800-1787659200@www.lgs-leinefelde-worbis.de
SUMMARY:Grünes Klassenzimmer: Artenschutz To Go
DESCRIPTION:buchbares Kursangebot für Kindergartengruppen und Schulklassen \n\n\n\nPartner: Alternativer Bärenpark Worbis gGmbH \n\n\n\nDer Kurs beleuchtet den Zusammenhang zwischen Nachhaltigkeit und dem Schutz der biologischen Vielfalt. Ursachen für Lebensraumverlust und Artensterben werden thematisiert\, ebenso wie mögliche Lösungsansätze zur Erhaltung der Biodiversität im Alltag. \n\n\n\nZur Buchung: https://www.lgs-leinefelde-worbis.de/veranstaltungen-uebersicht/gruenes-klassenzimmer/buchung/#/
URL:https://www.lgs-leinefelde-worbis.de/veranstaltung/gruenes-klassenzimmer-artenschutz-to-go/2026-08-25/
CATEGORIES:Grünes Klassenzimmer
ATTACH;FMTTYPE=image/jpeg:https://www.lgs-leinefelde-worbis.de/wp-content/uploads/2026/02/Artenschutz-TO-GO_BAePA-e1770214936851.jpg
END:VEVENT
BEGIN:VEVENT
DTSTART;TZID=Europe/Berlin:20260825T120000
DTEND;TZID=Europe/Berlin:20260825T130000
DTSTAMP:20260426T063101
CREATED:20260128T063239Z
LAST-MODIFIED:20260128T075725Z
UID:10003160-1787659200-1787662800@www.lgs-leinefelde-worbis.de
SUMMARY:Kirchenpavillon lädt zum Verweilen ein
DESCRIPTION:Der ökumenische Kirchenpavillon der katholischen und evangelischen Kirchen lädt zum Verweilen\, Einkehren und Entdecken ein. Wir laden Sie ein zu unseren täglichen geistlichen Impulsen zum Thema „erdnah – himmelweit“.
URL:https://www.lgs-leinefelde-worbis.de/veranstaltung/kirchenpavillon-laedt-zum-verweilen-ein-5/2026-08-25/
ATTACH;FMTTYPE=image/jpeg:https://www.lgs-leinefelde-worbis.de/wp-content/uploads/2026/01/Logo-ErdnahHimmelweit_final-4-e1769587039528.jpg
END:VEVENT
BEGIN:VEVENT
DTSTART;TZID=Europe/Berlin:20260825T130000
DTEND;TZID=Europe/Berlin:20260825T143000
DTSTAMP:20260426T063101
CREATED:20260204T144716Z
LAST-MODIFIED:20260204T144716Z
UID:10003602-1787662800-1787668200@www.lgs-leinefelde-worbis.de
SUMMARY:Grünes Klassenzimmer: Mit der Kräuterhexe unterwegs
DESCRIPTION:buchbares Kursangebot für Kindergartengruppen und Schulklassen \n\n\n\nPartner: NABU Obereichsfeld e. V. \n\n\n\nBei einem Rundgang rund um das Gelände werden heimische Wildkräuter bestimmt und ihre Inhaltsstoffe sowie Nutzungsmöglichkeiten vorgestellt. Anschließend werden saisonale Kräuter gesammelt und zu kleinen\, selbstgemachten Überraschungen verarbeitet\, die mit nach Hause genommen werden können. \n\n\n\nZur Buchung: https://www.lgs-leinefelde-worbis.de/veranstaltungen-uebersicht/gruenes-klassenzimmer/buchung/#/
URL:https://www.lgs-leinefelde-worbis.de/veranstaltung/gruenes-klassenzimmer-mit-der-kraeuterhexe-unterwegs/2026-08-25/
CATEGORIES:Grünes Klassenzimmer
ATTACH;FMTTYPE=image/jpeg:https://www.lgs-leinefelde-worbis.de/wp-content/uploads/2026/02/Mit-der-Kraeuterhexe-im-Gruenen-klassenzimmer_NABU-e1770216426464.jpg
END:VEVENT
BEGIN:VEVENT
DTSTART;TZID=Europe/Berlin:20260825T170000
DTEND;TZID=Europe/Berlin:20260825T180000
DTSTAMP:20260426T063101
CREATED:20260128T071531Z
LAST-MODIFIED:20260128T075504Z
UID:10003381-1787677200-1787680800@www.lgs-leinefelde-worbis.de
SUMMARY:Kirchenpavillon lädt zum Verweilen ein
DESCRIPTION:Der ökumenische Kirchenpavillon der katholischen und evangelischen Kirchen lädt zum Verweilen\, Einkehren und Entdecken ein. Wir laden Sie ein zu unseren täglichen geistlichen Impulsen zum Thema „erdnah – himmelweit“.
URL:https://www.lgs-leinefelde-worbis.de/veranstaltung/kirchenpavillon-laedt-zum-verweilen-ein-9/2026-08-25/
ATTACH;FMTTYPE=image/jpeg:https://www.lgs-leinefelde-worbis.de/wp-content/uploads/2026/01/Logo-ErdnahHimmelweit_final-e1769586897585.jpg
END:VEVENT
END:VCALENDAR