BEGIN:VCALENDAR
VERSION:2.0
PRODID:-//Landesgartenschau 2026 in Leinefelde-Worbis - ECPv6.15.20//NONSGML v1.0//EN
CALSCALE:GREGORIAN
METHOD:PUBLISH
X-WR-CALNAME:Landesgartenschau 2026 in Leinefelde-Worbis
X-ORIGINAL-URL:https://www.lgs-leinefelde-worbis.de
X-WR-CALDESC:Veranstaltungen für Landesgartenschau 2026 in Leinefelde-Worbis
REFRESH-INTERVAL;VALUE=DURATION:PT1H
X-Robots-Tag:noindex
X-PUBLISHED-TTL:PT1H
BEGIN:VTIMEZONE
TZID:Europe/Berlin
BEGIN:DAYLIGHT
TZOFFSETFROM:+0100
TZOFFSETTO:+0200
TZNAME:CEST
DTSTART:20240331T010000
END:DAYLIGHT
BEGIN:STANDARD
TZOFFSETFROM:+0200
TZOFFSETTO:+0100
TZNAME:CET
DTSTART:20241027T010000
END:STANDARD
BEGIN:DAYLIGHT
TZOFFSETFROM:+0100
TZOFFSETTO:+0200
TZNAME:CEST
DTSTART:20250330T010000
END:DAYLIGHT
BEGIN:STANDARD
TZOFFSETFROM:+0200
TZOFFSETTO:+0100
TZNAME:CET
DTSTART:20251026T010000
END:STANDARD
BEGIN:DAYLIGHT
TZOFFSETFROM:+0100
TZOFFSETTO:+0200
TZNAME:CEST
DTSTART:20260329T010000
END:DAYLIGHT
BEGIN:STANDARD
TZOFFSETFROM:+0200
TZOFFSETTO:+0100
TZNAME:CET
DTSTART:20261025T010000
END:STANDARD
END:VTIMEZONE
BEGIN:VEVENT
DTSTART;TZID=Europe/Berlin:20251203T170000
DTEND;TZID=Europe/Berlin:20251203T183000
DTSTAMP:20260426T053329
CREATED:20251127T140613Z
LAST-MODIFIED:20251127T140615Z
UID:10000385-1764781200-1764786600@www.lgs-leinefelde-worbis.de
SUMMARY:Meisterhafte Blumenkunst und Info-Abend
DESCRIPTION:Die Stadt Leinefelde-Worbis und das Team der Landesgartenschau laden am Mittwoch\, dem 3. Dezember 2025\, um 17 Uhr zu einer besonderen Infoveranstaltung in die Obereichsfeldhalle ein. Das Publikum erwartet eine atmosphärische Mischung aus meisterhafter Floristik\, spannenden Einblicken in die Vorbereitungen der Landesgartenschau 2026 sowie einem stimmungsvollen vorweihnachtlichen Rahmen. \n\n\n\nIm Mittelpunkt steht die Blumenkunst von Christopher Ernst\, Deutscher Meister der Floristen und Sechstplatzierter bei der Floristikweltmeisterschaft. Ernst ist der floristische und gestalterische Leiter der Landesgartenschau\, verantwortliche für den Blumen-Bereich und präsentiert in der Obereichsfeldhalle ausgewählte florale Kunstwerke. Die Besucher erhalten damit einen exklusiven Vorgeschmack auf das gestalterische Konzept\, das im kommenden Jahr zu den Publikumsmagneten zählen wird. Gleichzeitig informiert das LGS-Team in einem kompakten Vortrag über den aktuellen Stand der Planungen. Themen wie Geländeentwicklung\, Veranstaltungen\, Ehrenamt und Ticketing werden anschaulich dargestellt. Ergänzend steht ein Infostand bereit\, an dem Fragen beantwortet und Informationsmaterial ausgegeben wird.
URL:https://www.lgs-leinefelde-worbis.de/veranstaltung/meisterhafte-blumenkunst-und-info-abend/
ATTACH;FMTTYPE=image/jpeg:https://www.lgs-leinefelde-worbis.de/wp-content/uploads/2025/11/florist-making-beautiful-floral-bouquet-1-e1764252343297.jpg
END:VEVENT
BEGIN:VEVENT
DTSTART;TZID=Europe/Berlin:20251207T143000
DTEND;TZID=Europe/Berlin:20251207T153000
DTSTAMP:20260426T053329
CREATED:20251117T070425Z
LAST-MODIFIED:20251117T070425Z
UID:10000332-1765117800-1765121400@www.lgs-leinefelde-worbis.de
SUMMARY:Adventsspaziergang über das LGS-Gelände
DESCRIPTION:Die Landesgartenschau Leinefelde-Worbis öffnet erneut einen Blick hinter die Kulissen: Am Sonntag\, 7. Dezember 2025\, lädt das Team der LGS um 14:30 Uhr zu einer öffentlichen Baustellenführung über das zukünftige Gartenschaugelände Augarten ein. Die rund einstündige Tour bietet spannende Einblicke in den aktuellen Baufortschritt sowie in die planerischen Details eines der zentralen Ausstellungsbereiche der Landesgartenschau 2026. Treffpunkt ist an der Ecke Beethovenstraße/Kellerstraße. Von dort führt der Rundgang quer durch das Gelände bis zum alten Milchhof. Am Endpunkt erwartet die Teilnehmer eine kleine adventliche Einkehr mit Glühwein\, Kinderpunsch und der Möglichkeit\, Dauerkarten für die Landesgartenschau 2026 direkt vor Ort zu erwerben.
URL:https://www.lgs-leinefelde-worbis.de/veranstaltung/adventsspaziergang-ueber-das-lgs-gelaende/
ATTACH;FMTTYPE=image/jpeg:https://www.lgs-leinefelde-worbis.de/wp-content/uploads/2025/11/LGS_Baustelle2-1.jpg
END:VEVENT
BEGIN:VEVENT
DTSTART;TZID=Europe/Berlin:20251207T170000
DTEND;TZID=Europe/Berlin:20251207T180000
DTSTAMP:20260426T053329
CREATED:20251117T070750Z
LAST-MODIFIED:20251126T113738Z
UID:10000333-1765126800-1765130400@www.lgs-leinefelde-worbis.de
SUMMARY:Laternenumzug durch den Augarten
DESCRIPTION:Ein stimmungsvolles Lichterspiel erwartet die Besucherinnen und Besucher am Sonntag\, 7. Dezember 2025\, wenn die Landesgartenschau Leinefelde-Worbis zu einem großen Laternenumzug über das zukünftige Gartenschau-Gelände Augarten einlädt. In der winterlichen Vorweihnachtszeit verwandelt sich das Areal für einen Abend in ein atmosphärisches Meer aus warmen Lichtern und bunten Laternen. Der Umzug wird musikalisch begleitet und schafft eine besondere Klangkulisse\, die den gemeinsamen Spaziergang zu einem Erlebnis für Familien\, Kindergruppen und interessierte Bürgerinnen und Bürger macht. Mit ihren Laternen setzen die Teilnehmer ein leuchtendes Zeichen für Gemeinschaft\, Zusammenhalt und die wachsende Vorfreude auf die Landesgartenschau 2026. Treffpunkt ist um 17:00 Uhr am alten Milchhof. Das Gartenschau-Team freut sich auf zahlreiche Mitwirkende und bittet alle Gäste\, ihre Laternen mitzubringen\, damit der Abend in voller Pracht erstrahlen kann.
URL:https://www.lgs-leinefelde-worbis.de/veranstaltung/laternenumzug-durch-den-augarten/
ATTACH;FMTTYPE=image/jpeg:https://www.lgs-leinefelde-worbis.de/wp-content/uploads/2025/11/Postings_7-12_2.jpeg
END:VEVENT
END:VCALENDAR